BEGIN:VCALENDAR
VERSION:2.0
PRODID:-//NGK Hoogezand-Sappemeer - ECPv6.3.7//NONSGML v1.0//EN
CALSCALE:GREGORIAN
METHOD:PUBLISH
X-ORIGINAL-URL:https://ngk-hoogezand-sappemeer.nl
X-WR-CALDESC:Evenementen voor NGK Hoogezand-Sappemeer
REFRESH-INTERVAL;VALUE=DURATION:PT1H
X-Robots-Tag:noindex
X-PUBLISHED-TTL:PT1H
BEGIN:VTIMEZONE
TZID:Europe/Amsterdam
BEGIN:DAYLIGHT
TZOFFSETFROM:+0100
TZOFFSETTO:+0200
TZNAME:CEST
DTSTART:20220327T010000
END:DAYLIGHT
BEGIN:STANDARD
TZOFFSETFROM:+0200
TZOFFSETTO:+0100
TZNAME:CET
DTSTART:20221030T010000
END:STANDARD
END:VTIMEZONE
BEGIN:VEVENT
DTSTART;TZID=Europe/Amsterdam:20221225T100000
DTEND;TZID=Europe/Amsterdam:20221225T113000
DTSTAMP:20260425T130750
CREATED:20221128T132658Z
LAST-MODIFIED:20221223T221346Z
UID:3607-1671962400-1671967800@ngk-hoogezand-sappemeer.nl
SUMMARY:Ds. A.M. Pathuis - Kerst
DESCRIPTION:De dienst is on-line of later te zien via kerkdienstmeebeleven\nU kunt de dienst ook beluisteren via  kerkomroep \n \nLiturgie\nVotum en groet\nLezen: Lucas 2: 1 – 7\nZingen: Liedboek 483\nLezen: Lucas 2: 8 – 20\nZingen: LEV – ‘Wat een geweldige nacht’\nZingen: Sela – ‘Kerstnacht boven Bethlehem’\nGebed\nFilmpje jongeren\nLezen: Matteüs 2: 1 – 12\nPreek\nZingen: Sela – ‘Wijs mij de weg naar Bethlehem’\nKindermoment (Wilma)\nZingen (met kinderen):\n– ‘Een koning is geboren’\n– ‘Ga je mee op zoek’\nDankgebed\nLeefregel: Filippenzen 2: 5 – 11\nZingen: Sela – ‘De minsten van de mensen’\nCollecteaankondiging 1e kerk 2e Emeritering\nZingen: Sela – ‘Komt allen tezamen’\nZegen\nZingen: GKB (2006) Gezang 50 \nBegeleiding: Nanno Siertsema\nSchriftlezing: Beno Munneke \nU kunt uw bijdrage in de collecte overmaken via de Scipio-app of op NL 51 RABO 0329 1113 10 onder vermelding van “collecte on-line diensten”. De Commissie van Beheer zorgt dan voor de verdeling over de collectedoelen. \nKlik hier voor de liturgie met teksten\nEen goede dienst gewenst in verbondenheid
URL:https://ngk-hoogezand-sappemeer.nl/activiteit/ds-a-m-pathuis-kerst/
LOCATION:De Ark\, Rembrandtlaan 194\, Hoogezand\, Groningen\, 9601 XD\, Nederland
CATEGORIES:Kerkdienst
END:VEVENT
BEGIN:VEVENT
DTSTART;TZID=Europe/Amsterdam:20221225T163000
DTEND;TZID=Europe/Amsterdam:20221225T180000
DTSTAMP:20260425T130750
CREATED:20221128T132751Z
LAST-MODIFIED:20221223T221508Z
UID:3609-1671985800-1671991200@ngk-hoogezand-sappemeer.nl
SUMMARY:Ds. H. van Noort - Kerst
DESCRIPTION:De dienst is on-line of later te zien via kerkdienstmeebeleven\nU kunt de dienst ook beluisteren via  kerkomroep \n \nLiturgie\nStilte\nVotum en groet\nZingen Kom allen tezamen\nGebed\nKindmoment\nZingen Opwekking 595\nLezen Mattheus 1: 18 – 25\nVerkondiging\nZingen Opwekking 698\nBelijdenis\nGebed\nCollecte 1e kerk 2e Emeritering\nZingen GK gezang 47: 1\, 3 en 6\nZegen \nU kunt uw bijdrage in de collecte overmaken via de Scipio-app of op NL 51 RABO 0329 1113 10 onder vermelding van “collecte on-line diensten”. De Commissie van Beheer zorgt dan voor de verdeling over de collectedoelen. \nKlik hier voor de liturgie met teksten\nEen goede dienst gewenst in verbondenheid
URL:https://ngk-hoogezand-sappemeer.nl/activiteit/ds-h-van-noort-kerst/
LOCATION:De Ark\, Rembrandtlaan 194\, Hoogezand\, Groningen\, 9601 XD\, Nederland
CATEGORIES:Kerkdienst
END:VEVENT
END:VCALENDAR