BEGIN:VCALENDAR
VERSION:2.0
PRODID:-//NGK Hoogezand-Sappemeer - ECPv6.3.7//NONSGML v1.0//EN
CALSCALE:GREGORIAN
METHOD:PUBLISH
X-ORIGINAL-URL:https://ngk-hoogezand-sappemeer.nl
X-WR-CALDESC:Evenementen voor NGK Hoogezand-Sappemeer
REFRESH-INTERVAL;VALUE=DURATION:PT1H
X-Robots-Tag:noindex
X-PUBLISHED-TTL:PT1H
BEGIN:VTIMEZONE
TZID:Europe/Amsterdam
BEGIN:DAYLIGHT
TZOFFSETFROM:+0100
TZOFFSETTO:+0200
TZNAME:CEST
DTSTART:20220327T010000
END:DAYLIGHT
BEGIN:STANDARD
TZOFFSETFROM:+0200
TZOFFSETTO:+0100
TZNAME:CET
DTSTART:20221030T010000
END:STANDARD
END:VTIMEZONE
BEGIN:VEVENT
DTSTART;TZID=Europe/Amsterdam:20221211T100000
DTEND;TZID=Europe/Amsterdam:20221211T113000
DTSTAMP:20260425T130813
CREATED:20221128T132331Z
LAST-MODIFIED:20221209T141201Z
UID:3599-1670752800-1670758200@ngk-hoogezand-sappemeer.nl
SUMMARY:Ds. A.M. Pathuis - 3e advent
DESCRIPTION:De dienst is on-line of later te zien via kerkdienstmeebeleven\nU kunt de dienst ook beluisteren via  kerkomroep \n \nLiturgie\nAdventsmoment: filmpje – kaars – luisterlied:\nSela; Kerstnacht boven Bethlehem\nVotum: Zingen: NPB Psalm 24: 1\nGroet + gesproken ‘Amen’\nZingen: NPB Psalm 24: 2\, 3\nWet: Zingen: GKB (2017) Gezang 169\nGebed\nKindermoment\nKinderlied: ‘Ik ben Jozef Timmerman’\nSchriftlezing: Matteüs 1: 18 – 25\nZingen: GKB Psalm 25: 2\nPreek\nZingen: Liedboek 489: 1\, 2\nDankgebed\nZingen: Liedboek 433: 1\, 2\, 5\nCollecte 1e kerk 2e Theologische Universiteit\nZingen: Liedboek 444\nZegen \nBegeleiding: Jan Leemhuis\nSchriftlezing: Jannie Prins \nU kunt uw bijdrage in de collecte overmaken via de Scipio-app of op NL 51 RABO 0329 1113 10 onder vermelding van “collecte on-line diensten”. De Commissie van Beheer zorgt dan voor de verdeling over de collectedoelen. \nKlik hier voor de liturgie met teksten\nEen goede dienst gewenst in verbondenheid
URL:https://ngk-hoogezand-sappemeer.nl/activiteit/ds-a-m-pathuis-3e-advent/
LOCATION:De Ark\, Rembrandtlaan 194\, Hoogezand\, Groningen\, 9601 XD\, Nederland
CATEGORIES:Kerkdienst
END:VEVENT
BEGIN:VEVENT
DTSTART;TZID=Europe/Amsterdam:20221211T163000
DTEND;TZID=Europe/Amsterdam:20221211T180000
DTSTAMP:20260425T130813
CREATED:20221128T132413Z
LAST-MODIFIED:20221209T141316Z
UID:3601-1670776200-1670781600@ngk-hoogezand-sappemeer.nl
SUMMARY:Ds. J.W. Roosenbrand
DESCRIPTION:De dienst is on-line of later te zien via kerkdienstmeebeleven\nU kunt de dienst ook beluisteren via  kerkomroep \n \nLiturgie\nVotum en groet\nLvK 473: 1\, 2\, 3\nGebed\nLezing 1: Lukas 1: 39 – 45\nLvK 442: 1\nLezing 2: Lukas 1: 46 – 56\nLvK 442: 2\nPreek over Lukas 1: 42 en 48\nLvK 738: 1\, 2\, 3\, 4 Melodie: Hoe zal ik u\nontvangen!\nGeloofsbelijdenis\nLvK 440: 1\, 2\, 3\nGebed\nCollecten 1e kerk 2e Theologische Universiteit\nLvK 438: 1\, 2\, 3\, 4\nZegen \nU kunt uw bijdrage in de collecte overmaken via de Scipio-app of op NL 51 RABO 0329 1113 10 onder vermelding van “collecte on-line diensten”. De Commissie van Beheer zorgt dan voor de verdeling over de collectedoelen. \nKlik hier voor de liturgie met teksten\nEen goede dienst gewenst in verbondenheid
URL:https://ngk-hoogezand-sappemeer.nl/activiteit/ds-j-w-roosenbrand-6/
LOCATION:De Ark\, Rembrandtlaan 194\, Hoogezand\, Groningen\, 9601 XD\, Nederland
CATEGORIES:Kerkdienst
END:VEVENT
END:VCALENDAR