BEGIN:VCALENDAR
VERSION:2.0
PRODID:-//NGK Hoogezand-Sappemeer - ECPv6.3.7//NONSGML v1.0//EN
CALSCALE:GREGORIAN
METHOD:PUBLISH
X-WR-CALNAME:NGK Hoogezand-Sappemeer
X-ORIGINAL-URL:https://ngk-hoogezand-sappemeer.nl
X-WR-CALDESC:Evenementen voor NGK Hoogezand-Sappemeer
REFRESH-INTERVAL;VALUE=DURATION:PT1H
X-Robots-Tag:noindex
X-PUBLISHED-TTL:PT1H
BEGIN:VTIMEZONE
TZID:Europe/Amsterdam
BEGIN:DAYLIGHT
TZOFFSETFROM:+0100
TZOFFSETTO:+0200
TZNAME:CEST
DTSTART:20220327T010000
END:DAYLIGHT
BEGIN:STANDARD
TZOFFSETFROM:+0200
TZOFFSETTO:+0100
TZNAME:CET
DTSTART:20221030T010000
END:STANDARD
END:VTIMEZONE
BEGIN:VEVENT
DTSTART;TZID=Europe/Amsterdam:20221030T100000
DTEND;TZID=Europe/Amsterdam:20221030T113000
DTSTAMP:20260425T142218
CREATED:20221007T075757Z
LAST-MODIFIED:20221028T145514Z
UID:3498-1667124000-1667129400@ngk-hoogezand-sappemeer.nl
SUMMARY:Ds. C.T. Basoski
DESCRIPTION:De dienst is on-line of later te zien via kerkdienstmeebeleven\nU kunt de dienst ook beluisteren via  kerkomroep \n \nLiturgie\nVotum en groet\nPs. 8a: 1\, 2\, 3\, 4\nWet\nGz. 168: 1\, 2\, 3\, 4\nGebed\nEster 1\nLB. 823: 1\, 2\, 4\, 5\nPreek\nOpw. 770\nGebed\nCollecte 1e kerk 2e Theologische Universiteit\nLB. 416: 1\, 2\, 3\, 4\nZegen \nBegeleiding: Jan Leemhuis\nSchriftlezing: Christa Prins \nU kunt uw bijdrage in de collecte overmaken via de Scipio-app of op NL 51 RABO 0329 1113 10 onder vermelding van “collecte on-line diensten”. De Commissie van Beheer zorgt dan voor de verdeling over de collectedoelen. \nKlik hier voor de liturgie met teksten\nEen goede dienst gewenst in verbondenheid
URL:https://ngk-hoogezand-sappemeer.nl/activiteit/ds-c-t-basoski-3/
LOCATION:De Ark\, Rembrandtlaan 194\, Hoogezand\, Groningen\, 9601 XD\, Nederland
CATEGORIES:Kerkdienst
END:VEVENT
BEGIN:VEVENT
DTSTART;TZID=Europe/Amsterdam:20221030T163000
DTEND;TZID=Europe/Amsterdam:20221030T180000
DTSTAMP:20260425T142218
CREATED:20221007T075924Z
LAST-MODIFIED:20221028T145810Z
UID:3500-1667147400-1667152800@ngk-hoogezand-sappemeer.nl
SUMMARY:Ds. M.K. van Rijswijk
DESCRIPTION:De dienst is on-line of later te zien via kerkdienstmeebeleven\nU kunt de dienst ook beluisteren via  kerkomroep \n \nLiturgie\nVotum en zegengroet\nOpw. 672\nGebed\nGenesis 2: 18 – 24\nMatteüs 19: 1 – 10\nLB 791: 1\, 4\, 5\, 6\nPreek\nLied ‘man en vrouw’ (melodie Psalm 8)\nBelijdenis van het geloof\nPs. 52: 5\, 6\nGebed\nCollecte 1e kerk 2e Theologische Universiteit\nLB 794: 1\, 2\nZegen \nU kunt uw bijdrage in de collecte overmaken via de Scipio-app of op NL 51 RABO 0329 1113 10 onder vermelding van “collecte on-line diensten”. De Commissie van Beheer zorgt dan voor de verdeling over de collectedoelen. \nKlik hier voor de liturgie met teksten\nEen goede dienst gewenst in verbondenheid
URL:https://ngk-hoogezand-sappemeer.nl/activiteit/ds-m-k-van-rijswijk-2/
LOCATION:De Ark\, Rembrandtlaan 194\, Hoogezand\, Groningen\, 9601 XD\, Nederland
CATEGORIES:Kerkdienst
END:VEVENT
END:VCALENDAR