BEGIN:VCALENDAR
VERSION:2.0
PRODID:-//NGK Hoogezand-Sappemeer - ECPv6.3.7//NONSGML v1.0//EN
CALSCALE:GREGORIAN
METHOD:PUBLISH
X-ORIGINAL-URL:https://ngk-hoogezand-sappemeer.nl
X-WR-CALDESC:Evenementen voor NGK Hoogezand-Sappemeer
REFRESH-INTERVAL;VALUE=DURATION:PT1H
X-Robots-Tag:noindex
X-PUBLISHED-TTL:PT1H
BEGIN:VTIMEZONE
TZID:Europe/Amsterdam
BEGIN:DAYLIGHT
TZOFFSETFROM:+0100
TZOFFSETTO:+0200
TZNAME:CEST
DTSTART:20220327T010000
END:DAYLIGHT
BEGIN:STANDARD
TZOFFSETFROM:+0200
TZOFFSETTO:+0100
TZNAME:CET
DTSTART:20221030T010000
END:STANDARD
END:VTIMEZONE
BEGIN:VEVENT
DTSTART;TZID=Europe/Amsterdam:20221023T100000
DTEND;TZID=Europe/Amsterdam:20221023T113000
DTSTAMP:20260425T154604
CREATED:20221007T075516Z
LAST-MODIFIED:20221022T091828Z
UID:3493-1666519200-1666524600@ngk-hoogezand-sappemeer.nl
SUMMARY:Ds. J. van der Wal - Heilig Avondmaal
DESCRIPTION:De dienst is on-line of later te zien via kerkdienstmeebeleven\nU kunt de dienst ook beluisteren via  kerkomroep \n \nLiturgie\nVotum en groet\nZingen: Opw. 797\nWoorden van verbond(enheid)\nZingen: Hoe kan er in de wereld vrede zijn\nGebed\nLezen: Matteüs 11: 25 – 30\nZingen Gz. 213: 1\, 2\, 3\nTekst: Matteüs 11: 28 – 30\nPreek\nZingen Elly en Rikkert; Kom bij mij\nAvondmaal formulier 3\nGebed\nZingen: Opw. 737\nViering\nZingen: Gz. 229: 1\, 2\, 3\, 4\nGebed\nCollecte 1e Diaconie 2e kerk\nZingen: NPB Ps. 133: 1\, 2\nZegen \nBegeleiding: Nanno Siertsema\nSchriftlezing: Trees Braam \nDiaconiecollecte kunt u apart geven\, ook in de Scipio-app. Op NL 51 RABO 0329 1113 10 onder vermelding van “collecte on-line diensten”. De Commissie van Beheer zorgt dan voor de verdeling over de collectedoelen. \nKlik hier voor de liturgie met teksten\nEen goede dienst gewenst in verbondenheid
URL:https://ngk-hoogezand-sappemeer.nl/activiteit/ds-j-van-der-wal-2/
LOCATION:De Ark\, Rembrandtlaan 194\, Hoogezand\, Groningen\, 9601 XD\, Nederland
CATEGORIES:Kerkdienst
END:VEVENT
BEGIN:VEVENT
DTSTART;TZID=Europe/Amsterdam:20221023T163000
DTEND;TZID=Europe/Amsterdam:20221023T180000
DTSTAMP:20260425T154604
CREATED:20221007T075649Z
LAST-MODIFIED:20221022T092202Z
UID:3496-1666542600-1666548000@ngk-hoogezand-sappemeer.nl
SUMMARY:Ds. H. Zeilstra Heilig Avondmaal
DESCRIPTION:De dienst is on-line of later te zien via kerkdienstmeebeleven\nU kunt de dienst ook beluisteren via  kerkomroep \n \nLiturgie\nVotum en zegengroet\nPsalm 29: 1\, 2\nGebed\nJob 42: 1 – 6\nPsalm 131: 1\, 2\, 3\nPreek\nLiedboek 479\nAvondmaalsformulier 4\nGeloofsbelijdenis van Nicea\nOpwekking 509\nViering\nDankzegging 1 formulier 4\nGKB Gezang 164\nGebed\nCollecte 1e Diaconie 2e kerk\nPsalm 73: 9\, 10\nZegen \nDiaconiecollecte kunt u apart geven\, ook in de Scipio-app.  Op NL 51 RABO 0329 1113 10 onder vermelding van “collecte on-line diensten”. De Commissie van Beheer zorgt dan voor de verdeling over de collectedoelen. \nKlik hier voor de liturgie met teksten\nEen goede dienst gewenst in verbondenheid
URL:https://ngk-hoogezand-sappemeer.nl/activiteit/ds-h-zeilstra-heilig-avondmaal-2/
LOCATION:De Ark\, Rembrandtlaan 194\, Hoogezand\, Groningen\, 9601 XD\, Nederland
CATEGORIES:Kerkdienst
END:VEVENT
END:VCALENDAR