BEGIN:VCALENDAR
VERSION:2.0
PRODID:-//NGK Hoogezand-Sappemeer - ECPv6.3.7//NONSGML v1.0//EN
CALSCALE:GREGORIAN
METHOD:PUBLISH
X-ORIGINAL-URL:https://ngk-hoogezand-sappemeer.nl
X-WR-CALDESC:Evenementen voor NGK Hoogezand-Sappemeer
REFRESH-INTERVAL;VALUE=DURATION:PT1H
X-Robots-Tag:noindex
X-PUBLISHED-TTL:PT1H
BEGIN:VTIMEZONE
TZID:Europe/Amsterdam
BEGIN:DAYLIGHT
TZOFFSETFROM:+0100
TZOFFSETTO:+0200
TZNAME:CEST
DTSTART:20220327T010000
END:DAYLIGHT
BEGIN:STANDARD
TZOFFSETFROM:+0200
TZOFFSETTO:+0100
TZNAME:CET
DTSTART:20221030T010000
END:STANDARD
END:VTIMEZONE
BEGIN:VEVENT
DTSTART;TZID=Europe/Amsterdam:20221014T133000
DTEND;TZID=Europe/Amsterdam:20221014T150000
DTSTAMP:20260425T154606
CREATED:20221013T085452Z
LAST-MODIFIED:20221013T090302Z
UID:3506-1665754200-1665759600@ngk-hoogezand-sappemeer.nl
SUMMARY:Dankdienst voor het leven van Kor Moedt
DESCRIPTION:De dienst is on-line of later te zien via kerkdienstmeebeleven\nU kunt de dienst ook beluisteren via  kerkomroep \n \nVoorganger: Anne-Maaike Pathuis\nOrganist:      Piet Zuidhof \nLiturgie\nBij het binnendragen: Opwekking 770. Sela. Ik zal er zijn.\nWelkom\nZingen: Sela: Votum en groet\nZingen: Psalm 90: 1\nGebed\nZingen: Opwekking 123. Groot is uw trouw o Heer. (getuigenis papa)\nHerinneringen\nZingen: Psalm 63: 2\nLezen: Psalm 16\nZingen: Psalmen voor nu Psalm 16\nOverdenking over Psalm 16: 11\nZingen: Er is een dag. Opwekking 585\nGebed\nZingen: Liedboek 416 Ga met God en Hij zal met je zijn.\nZegen \nBij het uitdragen. Opwekking 213. U zij de Glorie (orgel) \n  \nKlik hier voor de liturgie met teksten
URL:https://ngk-hoogezand-sappemeer.nl/activiteit/dankdienst-voor-het-leven-van-kor-moedt/
LOCATION:Groningen
CATEGORIES:Kerkdienst
END:VEVENT
END:VCALENDAR