BEGIN:VCALENDAR
VERSION:2.0
PRODID:-//NGK Hoogezand-Sappemeer - ECPv6.3.7//NONSGML v1.0//EN
CALSCALE:GREGORIAN
METHOD:PUBLISH
X-ORIGINAL-URL:https://ngk-hoogezand-sappemeer.nl
X-WR-CALDESC:Evenementen voor NGK Hoogezand-Sappemeer
REFRESH-INTERVAL;VALUE=DURATION:PT1H
X-Robots-Tag:noindex
X-PUBLISHED-TTL:PT1H
BEGIN:VTIMEZONE
TZID:Europe/Amsterdam
BEGIN:DAYLIGHT
TZOFFSETFROM:+0100
TZOFFSETTO:+0200
TZNAME:CEST
DTSTART:20220327T010000
END:DAYLIGHT
BEGIN:STANDARD
TZOFFSETFROM:+0200
TZOFFSETTO:+0100
TZNAME:CET
DTSTART:20221030T010000
END:STANDARD
END:VTIMEZONE
BEGIN:VEVENT
DTSTART;TZID=Europe/Amsterdam:20221002T100000
DTEND;TZID=Europe/Amsterdam:20221002T113000
DTSTAMP:20260425T154533
CREATED:20220915T082352Z
LAST-MODIFIED:20221001T083210Z
UID:3440-1664704800-1664710200@ngk-hoogezand-sappemeer.nl
SUMMARY:Kand. A.M. Pathuis
DESCRIPTION:De dienst is on-line of later te zien via kerkdienstmeebeleven\nU kunt de dienst ook beluisteren via  kerkomroep \n \nLiturgie\nWelkom en mededelingen\nZingen: NPB Psalm 33: 1\, 6\nVotum en groet\nZingen: LB 215: 1\, 2\, 3\, 4\nGebed\nKindermoment\nKinderlied: Opwekking 518\n1e lezing: Luisterlied: PvN Psalm 34\n2e lezing: Efeziërs 5: 15 – 20\nPreek\nZingen: Psalm 34: 1\, 2\, 3\nLezen in het kader van Israëlzondag: Psalm 122\nDankgebed en voorbeden\nCollecte 1e kerk 2e Theologische Universiteit\nZingen: Liedboek 978\nZegen \nBegeleiding: Jan Leemhuis\nSchriftlezing: Beno Munneke \nU kunt uw bijdrage in de collecte overmaken via de Scipio-app of op NL 51 RABO 0329 1113 10 onder vermelding van “collecte on-line diensten”. De Commissie van Beheer zorgt dan voor de verdeling over de collectedoelen. \nKlik hier voor de liturgie met teksten\nEen goede dienst gewenst in verbondenheid
URL:https://ngk-hoogezand-sappemeer.nl/activiteit/kand-a-m-pathuis-2/
LOCATION:De Ark\, Rembrandtlaan 194\, Hoogezand\, Groningen\, 9601 XD\, Nederland
CATEGORIES:Kerkdienst
END:VEVENT
BEGIN:VEVENT
DTSTART;TZID=Europe/Amsterdam:20221002T163000
DTEND;TZID=Europe/Amsterdam:20221002T180000
DTSTAMP:20260425T154533
CREATED:20220915T082433Z
LAST-MODIFIED:20221001T083536Z
UID:3442-1664728200-1664733600@ngk-hoogezand-sappemeer.nl
SUMMARY:Ds. H. van Noort
DESCRIPTION:De dienst is on-line of later te zien via kerkdienstmeebeleven\nU kunt de dienst ook beluisteren via  kerkomroep \n \nLiturgie\nStilte\nVotum (Sela)\nZingen DNP Psalm 113: 1\, 2\nGebed\nKindmoment: Opwekking voor kinderen 328\nLezen Openbaring 2 – 3\nVerkondiging\nZingen LEV Gezang 119\nGebed\nCollecte 1e kerk 2e Theologische Universiteit\nZingen Opwekking 347\nZegen \nU kunt uw bijdrage in de collecte overmaken via de Scipio-app of op NL 51 RABO 0329 1113 10 onder vermelding van “collecte on-line diensten”. De Commissie van Beheer zorgt dan voor de verdeling over de collectedoelen. \nKlik hier voor de liturgie met teksten\nEen goede dienst gewenst in verbondenheid
URL:https://ngk-hoogezand-sappemeer.nl/activiteit/ds-h-van-noort-17/
LOCATION:De Ark\, Rembrandtlaan 194\, Hoogezand\, Groningen\, 9601 XD\, Nederland
CATEGORIES:Kerkdienst
END:VEVENT
END:VCALENDAR