BEGIN:VCALENDAR
VERSION:2.0
PRODID:-//NGK Hoogezand-Sappemeer - ECPv6.3.7//NONSGML v1.0//EN
CALSCALE:GREGORIAN
METHOD:PUBLISH
X-WR-CALNAME:NGK Hoogezand-Sappemeer
X-ORIGINAL-URL:https://ngk-hoogezand-sappemeer.nl
X-WR-CALDESC:Evenementen voor NGK Hoogezand-Sappemeer
REFRESH-INTERVAL;VALUE=DURATION:PT1H
X-Robots-Tag:noindex
X-PUBLISHED-TTL:PT1H
BEGIN:VTIMEZONE
TZID:Europe/Amsterdam
BEGIN:DAYLIGHT
TZOFFSETFROM:+0100
TZOFFSETTO:+0200
TZNAME:CEST
DTSTART:20220327T010000
END:DAYLIGHT
BEGIN:STANDARD
TZOFFSETFROM:+0200
TZOFFSETTO:+0100
TZNAME:CET
DTSTART:20221030T010000
END:STANDARD
END:VTIMEZONE
BEGIN:VEVENT
DTSTART;TZID=Europe/Amsterdam:20220911T100000
DTEND;TZID=Europe/Amsterdam:20220911T113000
DTSTAMP:20260425T172639
CREATED:20220828T191256Z
LAST-MODIFIED:20220909T195820Z
UID:3420-1662890400-1662895800@ngk-hoogezand-sappemeer.nl
SUMMARY:Kand. A.M. Pathuis - Startzondag
DESCRIPTION:De dienst is on-line of later te zien via kerkdienstmeebeleven\nU kunt de dienst ook beluisteren via  kerkomroep \n \nLiturgie\nWelkom en mededelingen\nZingen: Opwekking 733\nVotum en groet\nZingen: Opwekking 797\nGebed\nKindermoment\nZingen: Kinderopwekking 18\nLezen: Efeziërs 1: 1 – 16\nPreek\nZingen: ‘Een pelgrimslied’ op de wijs Psalm 133\nLeefregel\nZingen: Opwekking 194\nDankgebed\nCollecte 1e kerk 2e Evangelisatie\nZingen: Opwekking 798\nZegen \nBegeleiding: Jan Leenhuis\nSchriftlezing: José Leemhuis \nU kunt uw bijdrage in de collecte overmaken via de Scipio-app of op NL 51 RABO 0329 1113 10 onder vermelding van “collecte on-line diensten”. De Commissie van Beheer zorgt dan voor de verdeling over de collectedoelen. \nKlik hier voor de liturgie met teksten\nEen goede dienst gewenst in verbondenheid
URL:https://ngk-hoogezand-sappemeer.nl/activiteit/kand-a-m-pathuis-startzondag/
LOCATION:De Ark\, Rembrandtlaan 194\, Hoogezand\, Groningen\, 9601 XD\, Nederland
CATEGORIES:Kerkdienst
END:VEVENT
END:VCALENDAR