BEGIN:VCALENDAR
VERSION:2.0
PRODID:-//NGK Hoogezand-Sappemeer - ECPv6.3.7//NONSGML v1.0//EN
CALSCALE:GREGORIAN
METHOD:PUBLISH
X-WR-CALNAME:NGK Hoogezand-Sappemeer
X-ORIGINAL-URL:https://ngk-hoogezand-sappemeer.nl
X-WR-CALDESC:Evenementen voor NGK Hoogezand-Sappemeer
REFRESH-INTERVAL;VALUE=DURATION:PT1H
X-Robots-Tag:noindex
X-PUBLISHED-TTL:PT1H
BEGIN:VTIMEZONE
TZID:Europe/Amsterdam
BEGIN:DAYLIGHT
TZOFFSETFROM:+0100
TZOFFSETTO:+0200
TZNAME:CEST
DTSTART:20220327T010000
END:DAYLIGHT
BEGIN:STANDARD
TZOFFSETFROM:+0200
TZOFFSETTO:+0100
TZNAME:CET
DTSTART:20221030T010000
END:STANDARD
END:VTIMEZONE
BEGIN:VEVENT
DTSTART;TZID=Europe/Amsterdam:20220814T100000
DTEND;TZID=Europe/Amsterdam:20220814T113000
DTSTAMP:20260425T184056
CREATED:20220803T074207Z
LAST-MODIFIED:20220812T125704Z
UID:3380-1660471200-1660476600@ngk-hoogezand-sappemeer.nl
SUMMARY:Kand. A.M. Pathuis
DESCRIPTION:De dienst is on-line of later te zien via kerkdienstmeebeleven\nU kunt de dienst ook beluisteren via  kerkomroep \n \nLiturgie\nVotum en Groet\nOpwekking 70\nGebed\nKindermoment\nKinderlied\nLezen: Romeinen 8: 14-28\nGKB Gezang 257: 1\, 5\, 6\, 7\nTekst: Romeinen 8:19-21 en 25\nPreek\nLuisterlied: ‘Tranen voor de schepping’ van Reisgenoten\nGebed\, afgesloten met het gezamenlijk gebeden ‘Onze Vader’\nLeefregel: Matteüs 6: 24-33\nOpwekking 461\nCollecte 1e Kerk 2e Evangelisatie\nLiedboek 146c: 1\, 4\, 7 ‘Alles wat adem heeft love de Here’\nZegen en gezongen ‘Amen’ \nU kunt uw bijdrage in de collecte overmaken via de Scipio-app of op NL 51 RABO 0329 1113 10 onder vermelding van “collecte on-line diensten”. De Commissie van Beheer zorgt dan voor de verdeling over de collectedoelen. \nKlik hier voor de liturgie met teksten\nEen goede dienst gewenst in verbondenheid
URL:https://ngk-hoogezand-sappemeer.nl/activiteit/kand-a-m-pathuis/
LOCATION:De Ark\, Rembrandtlaan 194\, Hoogezand\, Groningen\, 9601 XD\, Nederland
CATEGORIES:Kerkdienst
END:VEVENT
BEGIN:VEVENT
DTSTART;TZID=Europe/Amsterdam:20220814T163000
DTEND;TZID=Europe/Amsterdam:20220814T180000
DTSTAMP:20260425T184056
CREATED:20220803T074249Z
LAST-MODIFIED:20220812T125806Z
UID:3382-1660494600-1660500000@ngk-hoogezand-sappemeer.nl
SUMMARY:Br. H. Dokter
DESCRIPTION:De dienst is on-line of later te zien via kerkdienstmeebeleven\nU kunt de dienst ook beluisteren via  kerkomroep \n \nLiturgie\nVotum en Groet\nPsalm 84: 1 en 6\nGebed\nLezen en Tekst Psalm 63\nPsalm 27: 3 en 4\nPreek\nPsalm 63: 1\,2 en 3\nGebed\nGeloofsbelijdenis\nCollecte 1e Kerk 2e Evangelisatie\nZingen Opwekking 717\nZegen \nU kunt uw bijdrage in de collecte overmaken via de Scipio-app of op NL 51 RABO 0329 1113 10 onder vermelding van “collecte on-line diensten”. De Commissie van Beheer zorgt dan voor de verdeling over de collectedoelen. \nKlik hier voor de liturgie met teksten\nEen goede dienst gewenst in verbondenheid
URL:https://ngk-hoogezand-sappemeer.nl/activiteit/br-h-dokter-19/
LOCATION:De Ark\, Rembrandtlaan 194\, Hoogezand\, Groningen\, 9601 XD\, Nederland
CATEGORIES:Kerkdienst
END:VEVENT
END:VCALENDAR