BEGIN:VCALENDAR
VERSION:2.0
PRODID:-//NGK Hoogezand-Sappemeer - ECPv6.3.7//NONSGML v1.0//EN
CALSCALE:GREGORIAN
METHOD:PUBLISH
X-ORIGINAL-URL:https://ngk-hoogezand-sappemeer.nl
X-WR-CALDESC:Evenementen voor NGK Hoogezand-Sappemeer
REFRESH-INTERVAL;VALUE=DURATION:PT1H
X-Robots-Tag:noindex
X-PUBLISHED-TTL:PT1H
BEGIN:VTIMEZONE
TZID:Europe/Amsterdam
BEGIN:DAYLIGHT
TZOFFSETFROM:+0100
TZOFFSETTO:+0200
TZNAME:CEST
DTSTART:20220327T010000
END:DAYLIGHT
BEGIN:STANDARD
TZOFFSETFROM:+0200
TZOFFSETTO:+0100
TZNAME:CET
DTSTART:20221030T010000
END:STANDARD
END:VTIMEZONE
BEGIN:VEVENT
DTSTART;TZID=Europe/Amsterdam:20220807T100000
DTEND;TZID=Europe/Amsterdam:20220807T113000
DTSTAMP:20260425T184219
CREATED:20220803T073723Z
LAST-MODIFIED:20220804T100058Z
UID:3375-1659866400-1659871800@ngk-hoogezand-sappemeer.nl
SUMMARY:Br. G.J. Bondt
DESCRIPTION:De dienst is on-line of later te zien via kerkdienstmeebeleven\nU kunt de dienst ook beluisteren via  kerkomroep \n \nLiturgie\nOpwekking 847 (votum)\nGroet\nOpwekking 462\nNPB Psalm 65: 1\, 2\nKindermoment\nOpwekking 281\nGebed\nLezen: Psalm 131\ngewone catechismus – zondag 70\nPreek (van ds. Van den Bos)\nSela – In deze stilte\nDankgebed\nCollecte: 1e Kerk\, 2e Emeritering\nGKB Gezang 416: 1\, 4\nZegen \nU kunt uw bijdrage in de collecte overmaken via de Scipio-app of op NL 51 RABO 0329 1113 10 onder vermelding van “collecte on-line diensten”. De Commissie van Beheer zorgt dan voor de verdeling over de collectedoelen. \nKlik hier voor de liturgie met teksten\nEen goede dienst gewenst in verbondenheid
URL:https://ngk-hoogezand-sappemeer.nl/activiteit/br-g-j-bondt-9/
LOCATION:De Ark\, Rembrandtlaan 194\, Hoogezand\, Groningen\, 9601 XD\, Nederland
CATEGORIES:Kerkdienst
END:VEVENT
BEGIN:VEVENT
DTSTART;TZID=Europe/Amsterdam:20220807T163000
DTEND;TZID=Europe/Amsterdam:20220807T180000
DTSTAMP:20260425T184219
CREATED:20220803T073948Z
LAST-MODIFIED:20220804T204504Z
UID:3378-1659889800-1659895200@ngk-hoogezand-sappemeer.nl
SUMMARY:Ds. J.W. Roosenbrand
DESCRIPTION:De dienst is on-line of later te zien via kerkdienstmeebeleven\nU kunt de dienst ook beluisteren via  kerkomroep \n \nLiturgie\nVotum en Groet\nLiedboek Psalm 19: 1 en 2\nGebed\nLezen: Psalm 148\nLiedboek 981\nPreek over Psalm 148\nLiedboek 978\nGeloofsbelijdenis\nSela\, God is overal\nGebed\nCollecte 1e Kerk 2e Emeritering\nGKB Gezang 149\nZegen \nU kunt uw bijdrage in de collecte overmaken via de Scipio-app of op NL 51 RABO 0329 1113 10 onder vermelding van “collecte on-line diensten”. De Commissie van Beheer zorgt dan voor de verdeling over de collectedoelen. \nKlik hier voor de liturgie met teksten\nEen goede dienst gewenst in verbondenheid
URL:https://ngk-hoogezand-sappemeer.nl/activiteit/ds-j-w-roosenbrand-4/
LOCATION:De Ark\, Rembrandtlaan 194\, Hoogezand\, Groningen\, 9601 XD\, Nederland
CATEGORIES:Kerkdienst
END:VEVENT
END:VCALENDAR