BEGIN:VCALENDAR
VERSION:2.0
PRODID:-//NGK Hoogezand-Sappemeer - ECPv6.3.7//NONSGML v1.0//EN
CALSCALE:GREGORIAN
METHOD:PUBLISH
X-WR-CALNAME:NGK Hoogezand-Sappemeer
X-ORIGINAL-URL:https://ngk-hoogezand-sappemeer.nl
X-WR-CALDESC:Evenementen voor NGK Hoogezand-Sappemeer
REFRESH-INTERVAL;VALUE=DURATION:PT1H
X-Robots-Tag:noindex
X-PUBLISHED-TTL:PT1H
BEGIN:VTIMEZONE
TZID:Europe/Amsterdam
BEGIN:DAYLIGHT
TZOFFSETFROM:+0100
TZOFFSETTO:+0200
TZNAME:CEST
DTSTART:20220327T010000
END:DAYLIGHT
BEGIN:STANDARD
TZOFFSETFROM:+0200
TZOFFSETTO:+0100
TZNAME:CET
DTSTART:20221030T010000
END:STANDARD
END:VTIMEZONE
BEGIN:VEVENT
DTSTART;TZID=Europe/Amsterdam:20220724T100000
DTEND;TZID=Europe/Amsterdam:20220724T113000
DTSTAMP:20260425T200704
CREATED:20220628T074321Z
LAST-MODIFIED:20220723T163837Z
UID:3336-1658656800-1658662200@ngk-hoogezand-sappemeer.nl
SUMMARY:Br. P. Braam
DESCRIPTION:De dienst is on-line of later te zien via kerkdienstmeebeleven\nU kunt de dienst ook beluisteren via  kerkomroep \n \nLiturgie\nVotum\, Zegengroet\, Amen\nZingen: Psalm 95:1\,2\nWet van de HERE\nZingen: Psalm 95:3\nGebed voor de eredienst\nSchriftlezing: Matteus 25:1-30\nZingen: Psalm 36:1\,2\nTekstlezing: Matteus 25:14-30\nPreek\nZingen: GK-2006 Lied 145\nDienst van de gebeden\nCollecte 1e Kerk 2e Evangelisatie\nZingen: Psalm 104:9\,10\nZegen\, Amen \nSchriftlezing: Erna Maring \nU kunt uw bijdrage in de collecte overmaken via de Scipio-app of op NL 51 RABO 0329 1113 10 onder vermelding van “collecte on-line diensten”. De Commissie van Beheer zorgt dan voor de verdeling over de collectedoelen. \nEen goede dienst gewenst in verbondenheid
URL:https://ngk-hoogezand-sappemeer.nl/activiteit/br-b-r-munneke-17/
LOCATION:De Ark\, Rembrandtlaan 194\, Hoogezand\, Groningen\, 9601 XD\, Nederland
CATEGORIES:Kerkdienst
END:VEVENT
BEGIN:VEVENT
DTSTART;TZID=Europe/Amsterdam:20220724T163000
DTEND;TZID=Europe/Amsterdam:20220724T180000
DTSTAMP:20260425T200704
CREATED:20220628T074455Z
LAST-MODIFIED:20220722T144040Z
UID:3338-1658680200-1658685600@ngk-hoogezand-sappemeer.nl
SUMMARY:Ds. E.R. de Braak
DESCRIPTION:De dienst is on-line of later te zien via kerkdienstmeebeleven\nU kunt de dienst ook beluisteren via  kerkomroep \n \nLiturgie\nVotum en groet\nZingen: Psalm 90: 1\, 8\nGebed\nLezing: Romeinen 6: 1 – 14\nZingen: GK’06 Gezang 168 (3 x in canon)\nVerkondiging\nZingen: Opwekking 488\nGeloofsbelijdenis\nZingen: GK’06 Gezang 115\nVoorbede- en dankgebed\nCollecte 1e Kerk 2e Evangelisatie\nZingen: Opwekking 136\nZegen \nU kunt uw bijdrage in de collecte overmaken via de Scipio-app of op NL 51 RABO 0329 1113 10 onder vermelding van “collecte on-line diensten”. De Commissie van Beheer zorgt dan voor de verdeling over de collectedoelen. \nKlik hier voor de liturgie met teksten\nEen goede dienst gewenst in verbondenheid
URL:https://ngk-hoogezand-sappemeer.nl/activiteit/ds-e-r-de-braak-3/
LOCATION:De Ark\, Rembrandtlaan 194\, Hoogezand\, Groningen\, 9601 XD\, Nederland
CATEGORIES:Kerkdienst
END:VEVENT
END:VCALENDAR