BEGIN:VCALENDAR
VERSION:2.0
PRODID:-//NGK Hoogezand-Sappemeer - ECPv6.3.7//NONSGML v1.0//EN
CALSCALE:GREGORIAN
METHOD:PUBLISH
X-WR-CALNAME:NGK Hoogezand-Sappemeer
X-ORIGINAL-URL:https://ngk-hoogezand-sappemeer.nl
X-WR-CALDESC:Evenementen voor NGK Hoogezand-Sappemeer
REFRESH-INTERVAL;VALUE=DURATION:PT1H
X-Robots-Tag:noindex
X-PUBLISHED-TTL:PT1H
BEGIN:VTIMEZONE
TZID:Europe/Amsterdam
BEGIN:DAYLIGHT
TZOFFSETFROM:+0100
TZOFFSETTO:+0200
TZNAME:CEST
DTSTART:20220327T010000
END:DAYLIGHT
BEGIN:STANDARD
TZOFFSETFROM:+0200
TZOFFSETTO:+0100
TZNAME:CET
DTSTART:20221030T010000
END:STANDARD
END:VTIMEZONE
BEGIN:VEVENT
DTSTART;TZID=Europe/Amsterdam:20220522T100000
DTEND;TZID=Europe/Amsterdam:20220522T113000
DTSTAMP:20260425T225244
CREATED:20220424T085401Z
LAST-MODIFIED:20220520T132628Z
UID:3182-1653213600-1653219000@ngk-hoogezand-sappemeer.nl
SUMMARY:Ds. J. Plug en kand. A.M. Pathuis - Geloofsbelijdenis en doop
DESCRIPTION:De dienst is on-line of later te zien via kerkdienstmeebeleven\nU kunt de dienst ook beluisteren via  kerkomroep \n \nLiturgie\nAls votum: zingen: GKB Gezang 177: 1\nGroet\nZingen: GKB Gezang 177: 2\, 3\, 4\nGebed\nZingen: Opwekking 717\nLezen: 1 Korintiërs 12: 12 – 27\nPreek\nLuisterlied: ‘You say’ (Lauren Daigle)\nBelijdenis- en doopgedeelte\nLuisterlied: ‘Waymaker’ (Leeland)\nZingen: Opwekking 710\nDankgebed en voorbede\nCollecte 1e kerk 2e Zending en Hulpverlening\nZingen: Opwekking 733\nZegen\nBij het uitgaan\, luisterlied: ‘Raise a Hallelujah’ \nBegeleiding: Nanno Siertsema\nSchriftlezing: Tea Snip \nU kunt uw bijdrage in de collecte overmaken via de Scipio-app of op NL 51 RABO 0329 1113 10 onder vermelding van “collecte on-line diensten”. De Commissie van Beheer zorgt dan voor de verdeling over de collectedoelen. \nKlik hier voor de liturgie met teksten\nEen goede dienst gewenst in verbondenheid
URL:https://ngk-hoogezand-sappemeer.nl/activiteit/ds-j-plug-25/
LOCATION:De Ark\, Rembrandtlaan 194\, Hoogezand\, Groningen\, 9601 XD\, Nederland
CATEGORIES:Kerkdienst
END:VEVENT
BEGIN:VEVENT
DTSTART;TZID=Europe/Amsterdam:20220522T163000
DTEND;TZID=Europe/Amsterdam:20220522T180000
DTSTAMP:20260425T225244
CREATED:20220424T085525Z
LAST-MODIFIED:20220520T131936Z
UID:3184-1653237000-1653242400@ngk-hoogezand-sappemeer.nl
SUMMARY:Ds. E.R. de Braak
DESCRIPTION:De dienst is on-line of later te zien via kerkdienstmeebeleven\nU kunt de dienst ook beluisteren via  kerkomroep \n \nLiturgie\nStiltemoment\nVotum en groet\nZingen: LvdK Lied 20: 1\, 7\nGebed om verlichting van de Geest\nLezing: 1 Samuël 25: 1 – 44\nZingen: Psalm 20: 1 – 3\nTekst: 1 Samuël 25: 29\nVerkondiging\nZingen: Psalm 27 The Psalm Project\nGeloofsbelijdenis\nZingen: LvdK 429: 1\, 3\nVoorbede- en dankgebed\nCollecte 1e kerk 2e Zending en Hulpverlening\nZingen: Opwekking 27\nZegen \nU kunt uw bijdrage in de collecte overmaken via de Scipio-app of op NL 51 RABO 0329 1113 10 onder vermelding van “collecte on-line diensten”. De Commissie van Beheer zorgt dan voor de verdeling over de collectedoelen. \nKlik hier voor de liturgie met teksten\nEen goede dienst gewenst in verbondenheid
URL:https://ngk-hoogezand-sappemeer.nl/activiteit/ds-e-r-de-braak-2/
LOCATION:De Ark\, Rembrandtlaan 194\, Hoogezand\, Groningen\, 9601 XD\, Nederland
CATEGORIES:Kerkdienst
END:VEVENT
END:VCALENDAR