BEGIN:VCALENDAR
VERSION:2.0
PRODID:-//NGK Hoogezand-Sappemeer - ECPv6.3.7//NONSGML v1.0//EN
CALSCALE:GREGORIAN
METHOD:PUBLISH
X-WR-CALNAME:NGK Hoogezand-Sappemeer
X-ORIGINAL-URL:https://ngk-hoogezand-sappemeer.nl
X-WR-CALDESC:Evenementen voor NGK Hoogezand-Sappemeer
REFRESH-INTERVAL;VALUE=DURATION:PT1H
X-Robots-Tag:noindex
X-PUBLISHED-TTL:PT1H
BEGIN:VTIMEZONE
TZID:Europe/Amsterdam
BEGIN:DAYLIGHT
TZOFFSETFROM:+0100
TZOFFSETTO:+0200
TZNAME:CEST
DTSTART:20220327T010000
END:DAYLIGHT
BEGIN:STANDARD
TZOFFSETFROM:+0200
TZOFFSETTO:+0100
TZNAME:CET
DTSTART:20221030T010000
END:STANDARD
END:VTIMEZONE
BEGIN:VEVENT
DTSTART;TZID=Europe/Amsterdam:20220508T100000
DTEND;TZID=Europe/Amsterdam:20220508T113000
DTSTAMP:20260425T225248
CREATED:20220424T084934Z
LAST-MODIFIED:20220504T144836Z
UID:3174-1652004000-1652009400@ngk-hoogezand-sappemeer.nl
SUMMARY:Ds. M.K. van Rijswijk
DESCRIPTION:De dienst is on-line of later te zien via kerkdienstmeebeleven\nU kunt de dienst ook beluisteren via  kerkomroep \n \nLiturgie\nVotum en Zegengroet\nDNP 113: 1\, 2\, 3\nWet\nDNP 78: 1\, 2\nGebed\n1 Samuel 1:1-20\nLied Reni en Elisa: “Als het leven soms pijn doet”\nPreek\nLB 152: 1\, 2\, 6\nGebed\n1e Kerk 2e Evangelisatie\nLB 909: 1\, 2\, 3\nZegen\n\nBegeleiding: Nanno Siertsema\nSchriftlezing: Els Verkade\n\nU kunt uw bijdrage in de collecte overmaken via de Scipio-app of op NL 51 RABO 0329 1113 10 onder vermelding van “collecte on-line diensten”. De Commissie van Beheer zorgt dan voor de verdeling over de collectedoelen. \nKlik hier voor de liturgie met teksten\nEen goede dienst gewenst in verbondenheid
URL:https://ngk-hoogezand-sappemeer.nl/activiteit/ds-m-k-van-rijswijk/
LOCATION:De Ark\, Rembrandtlaan 194\, Hoogezand\, Groningen\, 9601 XD\, Nederland
CATEGORIES:Kerkdienst
END:VEVENT
BEGIN:VEVENT
DTSTART;TZID=Europe/Amsterdam:20220508T163000
DTEND;TZID=Europe/Amsterdam:20220508T180000
DTSTAMP:20260425T225248
CREATED:20220424T085137Z
LAST-MODIFIED:20220508T124231Z
UID:3176-1652027400-1652032800@ngk-hoogezand-sappemeer.nl
SUMMARY:Ds. S.P. Roosendaal - doop Samuel
DESCRIPTION:De dienst is on-line of later te zien via kerkdienstmeebeleven\nU kunt de dienst ook beluisteren via  kerkomroep \n \nLiturgie\nOpwekking 689\nVotum en Zegengroet\nPsalm 139: 1 en 5 (DNP)\nGebed om de Heilige Geest\nOnderwijs over de doop\nKinderlied: Parel in Gods hand (Elly en Rikkert)\nDoopvragen aan Teake en Mariët\nDoopvraag gemeente\nDoopsbediening aan Samuel\nToezingen: Ps. 105: 5\nUitreiking doopgeschenk\nLied 409: 3\, 5\nSchriftlezing: 1 Samuël 3\nTekst: 1 Samuël 3\nPreek: Horen tot je oren tuiten\nPsalm 116: 1 en 9\nDankgebed\nCollecte 1e kerk 2e Evangelisatie\nGeloofsbelijdenis\nOpwekking 261\nZegen \nBegeleiding: Jan Leemhuis \nU kunt uw bijdrage in de collecte overmaken via de Scipio-app of op NL 51 RABO 0329 1113 10 onder vermelding van “collecte on-line diensten”. De Commissie van Beheer zorgt dan voor de verdeling over de collectedoelen. \nKlik hier voor de liturgie met teksten\nEen goede dienst gewenst in verbondenheid
URL:https://ngk-hoogezand-sappemeer.nl/activiteit/ds-p-roosendaal-doop-samuel/
LOCATION:De Ark\, Rembrandtlaan 194\, Hoogezand\, Groningen\, 9601 XD\, Nederland
CATEGORIES:Kerkdienst
END:VEVENT
END:VCALENDAR