BEGIN:VCALENDAR
VERSION:2.0
PRODID:-//NGK Hoogezand-Sappemeer - ECPv6.3.7//NONSGML v1.0//EN
CALSCALE:GREGORIAN
METHOD:PUBLISH
X-ORIGINAL-URL:https://ngk-hoogezand-sappemeer.nl
X-WR-CALDESC:Evenementen voor NGK Hoogezand-Sappemeer
REFRESH-INTERVAL;VALUE=DURATION:PT1H
X-Robots-Tag:noindex
X-PUBLISHED-TTL:PT1H
BEGIN:VTIMEZONE
TZID:Europe/Amsterdam
BEGIN:DAYLIGHT
TZOFFSETFROM:+0100
TZOFFSETTO:+0200
TZNAME:CEST
DTSTART:20220327T010000
END:DAYLIGHT
BEGIN:STANDARD
TZOFFSETFROM:+0200
TZOFFSETTO:+0100
TZNAME:CET
DTSTART:20221030T010000
END:STANDARD
END:VTIMEZONE
BEGIN:VEVENT
DTSTART;TZID=Europe/Amsterdam:20220501T100000
DTEND;TZID=Europe/Amsterdam:20220501T113000
DTSTAMP:20260425T230140
CREATED:20220424T084528Z
LAST-MODIFIED:20220429T135943Z
UID:3171-1651399200-1651404600@ngk-hoogezand-sappemeer.nl
SUMMARY:Br. G.J. Bondt
DESCRIPTION:De dienst is on-line of later te zien via kerkdienstmeebeleven\nU kunt de dienst ook beluisteren via  kerkomroep \n \nLiturgie\nOpwekking 488 (Votum)\nZegengroet\nPsalm 116 : 1\, 8\, 10\nWet: Tien Geboden op melodie (Joh de Heer 827)\nGebed\nSchriftlezing: Kolossenzen 3: 12 – 4: 6\nGezang 156 : 1\, 2\, 3\, 4\nTekst: Kolossenzen 3: 23 + 4: 6\nPreek: Hoe ben jij christen op je werk?\nOpwekking 713 (Psalm 127)\nDankgebed\nCollecte 1e kerk 2e Diaconie\nGezang 157\nZegen \nBegeleiding: Jan Leemhuis\nSchriftlezing: Judith Bolhuis \nU kunt uw bijdrage in de collecte overmaken via de Scipio-app of op NL 51 RABO 0329 1113 10 onder vermelding van “collecte on-line diensten”. De Commissie van Beheer zorgt dan voor de verdeling over de collectedoelen. \nKlik hier voor de liturgie met teksten\nEen goede dienst gewenst in verbondenheid
URL:https://ngk-hoogezand-sappemeer.nl/activiteit/br-g-j-bondt-8/
LOCATION:De Ark\, Rembrandtlaan 194\, Hoogezand\, Groningen\, 9601 XD\, Nederland
CATEGORIES:Kerkdienst
END:VEVENT
BEGIN:VEVENT
DTSTART;TZID=Europe/Amsterdam:20220501T163000
DTEND;TZID=Europe/Amsterdam:20220501T180000
DTSTAMP:20260425T230140
CREATED:20220424T084437Z
LAST-MODIFIED:20220429T140206Z
UID:3169-1651422600-1651428000@ngk-hoogezand-sappemeer.nl
SUMMARY:Br. P. Braam
DESCRIPTION:De dienst is on-line of later te zien via kerkdienstmeebeleven\nU kunt de dienst ook beluisteren via  kerkomroep \n \nLiturgie\nVotum – Groet\nPsalm 130: 1\, 3\nGebed\nLezen: Daniël 3 : 1 – 22\nPsalm 138: 4\nLezen: Romeinen 8 : 26 – 39\nLezen: Johannes 10 : 27 – 30\nPsalm 136 : 1\, 2\nTekst Daniel 3 : 23 – 30\nPreek – alle eer aan de allerhoogste Heer\, Hij kan echt redden in het heetste vuur\nPsalm 136 : 3\, 26\nGebed\nCollecte 1e kerk 2e Diaconie\nBelijdenis\nGz. 165\nZegen \nU kunt uw bijdrage in de collecte overmaken via de Scipio-app of op NL 51 RABO 0329 1113 10 onder vermelding van “collecte on-line diensten”. De Commissie van Beheer zorgt dan voor de verdeling over de collectedoelen. \nKlik hier voor de liturgie met teksten\nEen goede dienst gewenst in verbondenheid
URL:https://ngk-hoogezand-sappemeer.nl/activiteit/br-p-braam-14/
LOCATION:De Ark\, Rembrandtlaan 194\, Hoogezand\, Groningen\, 9601 XD\, Nederland
CATEGORIES:Kerkdienst
END:VEVENT
END:VCALENDAR