BEGIN:VCALENDAR
VERSION:2.0
PRODID:-//NGK Hoogezand-Sappemeer - ECPv6.3.7//NONSGML v1.0//EN
CALSCALE:GREGORIAN
METHOD:PUBLISH
X-ORIGINAL-URL:https://ngk-hoogezand-sappemeer.nl
X-WR-CALDESC:Evenementen voor NGK Hoogezand-Sappemeer
REFRESH-INTERVAL;VALUE=DURATION:PT1H
X-Robots-Tag:noindex
X-PUBLISHED-TTL:PT1H
BEGIN:VTIMEZONE
TZID:Europe/Amsterdam
BEGIN:DAYLIGHT
TZOFFSETFROM:+0100
TZOFFSETTO:+0200
TZNAME:CEST
DTSTART:20220327T010000
END:DAYLIGHT
BEGIN:STANDARD
TZOFFSETFROM:+0200
TZOFFSETTO:+0100
TZNAME:CET
DTSTART:20221030T010000
END:STANDARD
END:VTIMEZONE
BEGIN:VEVENT
DTSTART;TZID=Europe/Amsterdam:20220425T130000
DTEND;TZID=Europe/Amsterdam:20220425T143000
DTSTAMP:20260426T003317
CREATED:20220419T200253Z
LAST-MODIFIED:20220424T162021Z
UID:3159-1650891600-1650897000@ngk-hoogezand-sappemeer.nl
SUMMARY:Dankdienst voor het leven van Gijs Verkade
DESCRIPTION:Klik hier om de dienst online te volgen\nU kunt de dienst ook beluisteren via  kerkomroep \n \nLiturgie \nOpwekking 709\nWelkom\nGebed\nWoord Hendrine\nOpwekking 770\nWoord Ruth\nOpwekking 581\nWoord Theo\nLied: Hij is opgestaan – Hij leeft\, Hij leeft\nWoord Visio\nWoord Bedum\nGezang 161\nWoord Jurriën en Margreet\nLied: In Nije Dei – een nieuwe dag\nAfsluiting\nLuisterlied: Great are you Lord \nKlik HIER voor de liturgie met teksten  
URL:https://ngk-hoogezand-sappemeer.nl/activiteit/dankdienst-voor-het-leven-van-gijs-verkade/
LOCATION:De Ark\, Rembrandtlaan 194\, Hoogezand\, Groningen\, 9601 XD\, Nederland
CATEGORIES:Kerkdienst
END:VEVENT
END:VCALENDAR