BEGIN:VCALENDAR
VERSION:2.0
PRODID:-//NGK Hoogezand-Sappemeer - ECPv6.3.7//NONSGML v1.0//EN
CALSCALE:GREGORIAN
METHOD:PUBLISH
X-WR-CALNAME:NGK Hoogezand-Sappemeer
X-ORIGINAL-URL:https://ngk-hoogezand-sappemeer.nl
X-WR-CALDESC:Evenementen voor NGK Hoogezand-Sappemeer
REFRESH-INTERVAL;VALUE=DURATION:PT1H
X-Robots-Tag:noindex
X-PUBLISHED-TTL:PT1H
BEGIN:VTIMEZONE
TZID:Europe/Amsterdam
BEGIN:DAYLIGHT
TZOFFSETFROM:+0100
TZOFFSETTO:+0200
TZNAME:CEST
DTSTART:20220327T010000
END:DAYLIGHT
BEGIN:STANDARD
TZOFFSETFROM:+0200
TZOFFSETTO:+0100
TZNAME:CET
DTSTART:20221030T010000
END:STANDARD
END:VTIMEZONE
BEGIN:VEVENT
DTSTART;TZID=Europe/Amsterdam:20220410T100000
DTEND;TZID=Europe/Amsterdam:20220410T113000
DTSTAMP:20260426T003221
CREATED:20220325T083143Z
LAST-MODIFIED:20220408T131849Z
UID:3105-1649584800-1649590200@ngk-hoogezand-sappemeer.nl
SUMMARY:Br. H. Dokter
DESCRIPTION:De dienst is on-line of later te zien via kerkdienstmeebeleven\nU kunt de dienst ook beluisteren via  kerkomroep \n \nLiturgie\nZingen: Opwekking 733\nStil gebed\nVotum en groet\nZingen: GKB Psalm 32: 1\, 2\nWet\nGebed\nKindermoment\, Kinderen naar club\nLezen: Hebreeën 10: 19 – 39\nZingen: LvK Gezang 103: 1\, 2 en 3\nLezen: Hebreeën 12: 28 – 13 : 8\nZingen: GKB Psalm 97: 2\nPreek\nZingen: LvK Gezang 442 : 1\, 2\, 3\, 4\nZingen: GKB Gezang 155 : 1\, 2\, 3\nGebed met verootmoediging\nZingen: GKB Gezang 155 : 4\, 5\nCollecte 1e kerk 2e Evangelisatie\nZingen: Opwekking 706\nZegen \nBegeleiding: Nanno Siertsema\nSchriftlezing: Alco Huttenga \nU kunt uw bijdrage in de collecte overmaken via de Scipio-app of op NL 51 RABO 0329 1113 10 onder vermelding van “collecte on-line diensten”. De Commissie van Beheer zorgt dan voor de verdeling over de collectedoelen. \nKlik hier voor de liturgie met teksten\nEen goede dienst gewenst in verbondenheid
URL:https://ngk-hoogezand-sappemeer.nl/activiteit/br-h-dokter-17/
LOCATION:De Ark\, Rembrandtlaan 194\, Hoogezand\, Groningen\, 9601 XD\, Nederland
CATEGORIES:Kerkdienst
END:VEVENT
BEGIN:VEVENT
DTSTART;TZID=Europe/Amsterdam:20220410T163000
DTEND;TZID=Europe/Amsterdam:20220410T180000
DTSTAMP:20260426T003221
CREATED:20220325T083232Z
LAST-MODIFIED:20220408T132041Z
UID:3107-1649608200-1649613600@ngk-hoogezand-sappemeer.nl
SUMMARY:Br. B.R. Munneke
DESCRIPTION:De dienst is on-line of later te zien via kerkdienstmeebeleven\nU kunt de dienst ook beluisteren via  kerkomroep \n \nLiturgie\nVotum en zegengroet\nNLB 314\nGebed\nInleiding\nLezen: Hebreeën 11\nZingen: NLB 801\nTekst: HC 7\nPreek\nPsalm 121: 1\, 2\, 3\nGeloofsbelijdenis\nToekomst vol van hoop\nGebed\nCollecten 1e kerk 2e Evangelisatie\nNLB 913: 1\, 2\, 4\nZegen \nU kunt uw bijdrage in de collecte overmaken via de Scipio-app of op NL 51 RABO 0329 1113 10 onder vermelding van “collecte on-line diensten”. De Commissie van Beheer zorgt dan voor de verdeling over de collectedoelen. \nKlik hier voor de liturgie met teksten\nEen goede dienst gewenst in verbondenheid
URL:https://ngk-hoogezand-sappemeer.nl/activiteit/ds-c-van-dusseldorp-9/
LOCATION:De Ark\, Rembrandtlaan 194\, Hoogezand\, Groningen\, 9601 XD\, Nederland
CATEGORIES:Kerkdienst
END:VEVENT
END:VCALENDAR