BEGIN:VCALENDAR
VERSION:2.0
PRODID:-//NGK Hoogezand-Sappemeer - ECPv6.3.7//NONSGML v1.0//EN
CALSCALE:GREGORIAN
METHOD:PUBLISH
X-WR-CALNAME:NGK Hoogezand-Sappemeer
X-ORIGINAL-URL:https://ngk-hoogezand-sappemeer.nl
X-WR-CALDESC:Evenementen voor NGK Hoogezand-Sappemeer
REFRESH-INTERVAL;VALUE=DURATION:PT1H
X-Robots-Tag:noindex
X-PUBLISHED-TTL:PT1H
BEGIN:VTIMEZONE
TZID:Europe/Amsterdam
BEGIN:DAYLIGHT
TZOFFSETFROM:+0100
TZOFFSETTO:+0200
TZNAME:CEST
DTSTART:20220327T010000
END:DAYLIGHT
BEGIN:STANDARD
TZOFFSETFROM:+0200
TZOFFSETTO:+0100
TZNAME:CET
DTSTART:20221030T010000
END:STANDARD
END:VTIMEZONE
BEGIN:VEVENT
DTSTART;TZID=Europe/Amsterdam:20220220T100000
DTEND;TZID=Europe/Amsterdam:20220220T113000
DTSTAMP:20260426T031128
CREATED:20220124T093613Z
LAST-MODIFIED:20220218T143510Z
UID:2947-1645351200-1645356600@ngk-hoogezand-sappemeer.nl
SUMMARY:Br. P. Braam
DESCRIPTION:Deze dienst is on-line te volgen of te bezoeken na aanmelding\nDe dienst met beeld kan hieronder gevolgd worden of via kerkdienstmeebeleven\nU kunt de dienst ook beluisteren via  kerkomroep \n \nLiturgie\nVotum – groet\nPsalm 139 : 1 en 11\nGebed\nKindermoment – quiz vragen voor de kinderen\nLied: zing\, zing\, zingen maakt blij.\n(Wet) Lezing\nLezen Johannes 8 : 1 – 11\nPsalm 51 NPB\nPreek\nOpw 428\nQuiz antwoorden\nGebed\nCollecte 1e kerk 2e Evangelisatie\nOpw 40\nZegen \nBegeleiding: Jan Leemhuis\nSchriftlezing: Tea Snip \nU kunt uw bijdrage in de collecte overmaken via de Scipio-app of op NL 51 RABO 0329 1113 10 onder vermelding van “collecte on-line diensten”. De Commissie van Beheer zorgt dan voor de verdeling over de collectedoelen.\nKlik hier voor de liturgie met teksten\nKlik hier voor de Quiz-vragen\nEen goede dienst gewenst in verbondenheid
URL:https://ngk-hoogezand-sappemeer.nl/activiteit/br-p-braam-12/
LOCATION:De Ark\, Rembrandtlaan 194\, Hoogezand\, Groningen\, 9601 XD\, Nederland
CATEGORIES:Kerkdienst
END:VEVENT
BEGIN:VEVENT
DTSTART;TZID=Europe/Amsterdam:20220220T163000
DTEND;TZID=Europe/Amsterdam:20220220T180000
DTSTAMP:20260426T031128
CREATED:20220124T093713Z
LAST-MODIFIED:20220217T145443Z
UID:2949-1645374600-1645380000@ngk-hoogezand-sappemeer.nl
SUMMARY:Ds. T. P. Nap
DESCRIPTION:Deze dienst is on-line te volgen of te bezoeken na aanmelding\nDe dienst met beeld kan hieronder gevolgd worden of via kerkdienstmeebeleven\nU kunt de dienst ook beluisteren via  kerkomroep \n \nLiturgie\nVotum en groet\nLied ‘Bij God ben ik geborgen’\nGebed\nLezen: Mattheüs 17: 17 – 20\nLezen: Marcus 11: 20 – 24\nLezen: Lucas 17: 3 – 6\nLied Psalm 27: 1\, 7\nPreek\nLied GK 115: 1\, 2\nGebed\nCollecte 1e kerk 2e Evangelisatie\nLied NLB 412: 1\, 3\nZegen \nU kunt uw bijdrage in de collecte overmaken via de Scipio-app of op NL 51 RABO 0329 1113 10 onder vermelding van “collecte on-line diensten”. De Commissie van Beheer zorgt dan voor de verdeling over de collectedoelen.\nKlik hier voor de liturgie met teksten\nEen goede dienst gewenst in verbondenheid
URL:https://ngk-hoogezand-sappemeer.nl/activiteit/ds-t-nap-5/
LOCATION:De Ark\, Rembrandtlaan 194\, Hoogezand\, Groningen\, 9601 XD\, Nederland
CATEGORIES:Kerkdienst
END:VEVENT
END:VCALENDAR