BEGIN:VCALENDAR
VERSION:2.0
PRODID:-//NGK Hoogezand-Sappemeer - ECPv6.3.7//NONSGML v1.0//EN
CALSCALE:GREGORIAN
METHOD:PUBLISH
X-ORIGINAL-URL:https://ngk-hoogezand-sappemeer.nl
X-WR-CALDESC:Evenementen voor NGK Hoogezand-Sappemeer
REFRESH-INTERVAL;VALUE=DURATION:PT1H
X-Robots-Tag:noindex
X-PUBLISHED-TTL:PT1H
BEGIN:VTIMEZONE
TZID:Europe/Amsterdam
BEGIN:DAYLIGHT
TZOFFSETFROM:+0100
TZOFFSETTO:+0200
TZNAME:CEST
DTSTART:20220327T010000
END:DAYLIGHT
BEGIN:STANDARD
TZOFFSETFROM:+0200
TZOFFSETTO:+0100
TZNAME:CET
DTSTART:20221030T010000
END:STANDARD
END:VTIMEZONE
BEGIN:VEVENT
DTSTART;TZID=Europe/Amsterdam:20220213T100000
DTEND;TZID=Europe/Amsterdam:20220213T113000
DTSTAMP:20260426T031153
CREATED:20220124T093401Z
LAST-MODIFIED:20220213T085540Z
UID:2943-1644746400-1644751800@ngk-hoogezand-sappemeer.nl
SUMMARY:Ds. J. Plug - Heilig Avondmaal
DESCRIPTION:Deze dienst is on-line te volgen of te bezoeken na aanmelding\nDe dienst met beeld kan hieronder gevolgd worden of via kerkdienstmeebeleven\nU kunt de dienst ook beluisteren via  kerkomroep \n \nLiturgie\nVotum en groet\nLied: Opw 708\nSchuld en genade\nLied: Ps 36: 2\nBidden\nLezen uit de Bijbel: Lucas 10: 25 – 37\nVerkondiging: Waar is je toegangsbewijs?\nLied: Opw 797\nDoop – Matteo Dokter\nLied: Opw 518\nDank en voorbede\nMaaltijd van de Heer\nLied: Psalm 103: 1\, 3\, 5\, 9\nZegen\nBegeleiding: Nanno Siertsema\nSchriftlezing: Erna Maring \nU kunt uw bijdrage in de collecte overmaken via de Scipio-app of op NL 51 RABO 0329 1113 10 onder vermelding van “collecte on-line diensten”. De Commissie van Beheer zorgt dan voor de verdeling over de collectedoelen.\nKlik hier voor de liturgie met teksten\nEen goede dienst gewenst in verbondenheid
URL:https://ngk-hoogezand-sappemeer.nl/activiteit/ds-j-plug-heilig-avondmaal-3/
LOCATION:De Ark\, Rembrandtlaan 194\, Hoogezand\, Groningen\, 9601 XD\, Nederland
CATEGORIES:Kerkdienst
END:VEVENT
BEGIN:VEVENT
DTSTART;TZID=Europe/Amsterdam:20220213T163000
DTEND;TZID=Europe/Amsterdam:20220213T180000
DTSTAMP:20260426T031153
CREATED:20220124T093521Z
LAST-MODIFIED:20220213T141827Z
UID:2945-1644769800-1644775200@ngk-hoogezand-sappemeer.nl
SUMMARY:Ds. P.K. v.d. Kamp - Heilig Avondmaal
DESCRIPTION:Deze dienst is on-line te volgen of te bezoeken na aanmelding\nDe dienst met beeld kan hieronder gevolgd worden of via kerkdienstmeebeleven\nU kunt de dienst ook beluisteren via  kerkomroep \n \nLiturgie\nWelkom\nStiltemoment\nAfhankelijkheidsbelijdenis & Vredegroet\nZingen: Lied 815 (Opwekking)\nGebed\nLezing: Numeri 20: 1 – 13\nPreek bij Numeri 20: 1 – 13\nZingen: Psalm 68: 8 (The Psalm Project):\nViering Heilig Avondmaal\nZingen: Psalm 23 (Psalmen voor NU)\nVoorbede & Dankgebed\nCollecte 1 e Diaconie 2 e kerk\nApostolische Geloofsbelijdenis\nZingen: Lied 405 (LB)\nZegen \nU kunt uw bijdrage in de collecte overmaken via de Scipio-app of op NL 51 RABO 0329 1113 10 onder vermelding van “collecte on-line diensten”. De Commissie van Beheer zorgt dan voor de verdeling over de collectedoelen.\nKlik hier voor de liturgie met teksten\nEen goede dienst gewenst in verbondenheid
URL:https://ngk-hoogezand-sappemeer.nl/activiteit/ds-p-k-v-d-kamp-heilig-avondmaal/
LOCATION:De Ark\, Rembrandtlaan 194\, Hoogezand\, Groningen\, 9601 XD\, Nederland
CATEGORIES:Kerkdienst
END:VEVENT
END:VCALENDAR