BEGIN:VCALENDAR
VERSION:2.0
PRODID:-//NGK Hoogezand-Sappemeer - ECPv6.3.7//NONSGML v1.0//EN
CALSCALE:GREGORIAN
METHOD:PUBLISH
X-ORIGINAL-URL:https://ngk-hoogezand-sappemeer.nl
X-WR-CALDESC:Evenementen voor NGK Hoogezand-Sappemeer
REFRESH-INTERVAL;VALUE=DURATION:PT1H
X-Robots-Tag:noindex
X-PUBLISHED-TTL:PT1H
BEGIN:VTIMEZONE
TZID:Europe/Amsterdam
BEGIN:DAYLIGHT
TZOFFSETFROM:+0100
TZOFFSETTO:+0200
TZNAME:CEST
DTSTART:20220327T010000
END:DAYLIGHT
BEGIN:STANDARD
TZOFFSETFROM:+0200
TZOFFSETTO:+0100
TZNAME:CET
DTSTART:20221030T010000
END:STANDARD
END:VTIMEZONE
BEGIN:VEVENT
DTSTART;TZID=Europe/Amsterdam:20220130T100000
DTEND;TZID=Europe/Amsterdam:20220130T113000
DTSTAMP:20260426T031125
CREATED:20220124T092943Z
LAST-MODIFIED:20220128T090337Z
UID:2934-1643536800-1643542200@ngk-hoogezand-sappemeer.nl
SUMMARY:Ds. C. van Dusseldorp
DESCRIPTION:Deze dienst is on-line te volgen of te bezoeken na aanmelding\nDe dienst met beeld kan hieronder gevolgd worden of via kerkdienstmeebeleven\nU kunt de dienst ook beluisteren via  kerkomroep \n \nLiturgie\nVotum en groet\nLied 215: 1\, 2\, 4\nWetslezing\nPsalm 86: 2\, 4\nGebed\nLezen: Johannes 1: 19 – 37\nlezen: Exodus 29: 39 – 46\nPsalm 66: 1\, 3\nKindermoment\nPreek Johannes 1:29: Zie het Lam van God!\nSela – Lam van God\nGebed\nCollecte 1e kerk 2e Zending en Hulpverlening\nGezang 218 \nBegeleiding: Nanno Siertsema \nU kunt uw bijdrage in de collecte overmaken via de Scipio-app of op NL 51 RABO 0329 1113 10 onder vermelding van “collecte on-line diensten”. De Commissie van Beheer zorgt dan voor de verdeling over de collectedoelen.\nKlik hier voor de liturgie met teksten\nEen goede dienst gewenst in verbondenheid
URL:https://ngk-hoogezand-sappemeer.nl/activiteit/ds-c-van-dusseldorp-8/
LOCATION:De Ark\, Rembrandtlaan 194\, Hoogezand\, Groningen\, 9601 XD\, Nederland
CATEGORIES:Kerkdienst
END:VEVENT
BEGIN:VEVENT
DTSTART;TZID=Europe/Amsterdam:20220130T163000
DTEND;TZID=Europe/Amsterdam:20220130T180000
DTSTAMP:20260426T031125
CREATED:20220124T093041Z
LAST-MODIFIED:20220128T090817Z
UID:2936-1643560200-1643565600@ngk-hoogezand-sappemeer.nl
SUMMARY:Ds. C. Kanis
DESCRIPTION:Deze dienst is on-line te volgen of te bezoeken na aanmelding\nDe dienst met beeld kan hieronder gevolgd worden of via kerkdienstmeebeleven\nU kunt de dienst ook beluisteren via  kerkomroep \n \nLiturgie\nVotum en vredegroet\nZingen: Psalm 108 : 1\, 2\nGebed\nLezen: Efeziërs 5: 21 – 29\nLezen: 1 Korintiërs 12: 12 – 18\, 27\nZingen: Opw 672\nPreek 1 Korintiërs 12: 27\nZingen: GK 119: 1\, 5\nBelijdenis van het geloof\nZingen: Opw 797\nCollecte 1e kerk 2e Zending en Hulpverlening\nGebed\nZingen: LB 14: 1\, 2\, 5\nZegen \nU kunt uw bijdrage in de collecte overmaken via de Scipio-app of op NL 51 RABO 0329 1113 10 onder vermelding van “collecte on-line diensten”. De Commissie van Beheer zorgt dan voor de verdeling over de collectedoelen.\nKlik hier voor de liturgie met teksten\nEen goede dienst gewenst in verbondenheid
URL:https://ngk-hoogezand-sappemeer.nl/activiteit/ds-c-kanis-2/
LOCATION:De Ark\, Rembrandtlaan 194\, Hoogezand\, Groningen\, 9601 XD\, Nederland
CATEGORIES:Kerkdienst
END:VEVENT
END:VCALENDAR