BEGIN:VCALENDAR
VERSION:2.0
PRODID:-//NGK Hoogezand-Sappemeer - ECPv6.3.7//NONSGML v1.0//EN
CALSCALE:GREGORIAN
METHOD:PUBLISH
X-WR-CALNAME:NGK Hoogezand-Sappemeer
X-ORIGINAL-URL:https://ngk-hoogezand-sappemeer.nl
X-WR-CALDESC:Evenementen voor NGK Hoogezand-Sappemeer
REFRESH-INTERVAL;VALUE=DURATION:PT1H
X-Robots-Tag:noindex
X-PUBLISHED-TTL:PT1H
BEGIN:VTIMEZONE
TZID:Europe/Amsterdam
BEGIN:DAYLIGHT
TZOFFSETFROM:+0100
TZOFFSETTO:+0200
TZNAME:CEST
DTSTART:20220327T010000
END:DAYLIGHT
BEGIN:STANDARD
TZOFFSETFROM:+0200
TZOFFSETTO:+0100
TZNAME:CET
DTSTART:20221030T010000
END:STANDARD
END:VTIMEZONE
BEGIN:VEVENT
DTSTART;TZID=Europe/Amsterdam:20220123T100000
DTEND;TZID=Europe/Amsterdam:20220123T113000
DTSTAMP:20260426T044138
CREATED:20220108T093942Z
LAST-MODIFIED:20220121T154859Z
UID:2879-1642932000-1642937400@ngk-hoogezand-sappemeer.nl
SUMMARY:Kand. P. Zuidema
DESCRIPTION:Deze dienst is on-line te volgen of te bezoeken na aanmelding\nDe dienst met beeld kan hieronder gevolgd worden of via kerkdienstmeebeleven\nU kunt de dienst ook beluisteren via  kerkomroep \n \nLiturgie\nVotum en zegengroet\nZingen: Psalm 139: 1 en 6 (GK2017)\nWoorden voor het leven met de Heer\nZingen: Psalm 139: 11 (GK2017)\nGebed\nSchriftlezing: Lucas 8: 1 – 21\nZingen: Gezang 233 (GK2017)\nTekst: Lucas 8: 5 – 8\, 11 – 15\nVerkondiging\nZingen: NLB 912: 1 t/m 6\nDankzegging en voorbede\nCollecte 1e kerk 2e Theologische Universiteit\nZingen: Opwekking 818\nZegen \nBegeleiding: Jan Leemhuis \nU kunt uw bijdrage in de collecte overmaken via de Scipio-app of op NL 51 RABO 0329 1113 10 onder vermelding van “collecte on-line diensten”. De Commissie van Beheer zorgt dan voor de verdeling over de collectedoelen. \nKlik hier voor de liturgie met teksten\nEen goede dienst gewenst in verbondenheid
URL:https://ngk-hoogezand-sappemeer.nl/activiteit/kand-p-zuidema-3/
LOCATION:Online Dienst
CATEGORIES:Kerkdienst
END:VEVENT
BEGIN:VEVENT
DTSTART;TZID=Europe/Amsterdam:20220123T163000
DTEND;TZID=Europe/Amsterdam:20220123T180000
DTSTAMP:20260426T044138
CREATED:20220108T094133Z
LAST-MODIFIED:20220121T155406Z
UID:2882-1642955400-1642960800@ngk-hoogezand-sappemeer.nl
SUMMARY:Ds. H. van Noort
DESCRIPTION:Deze dienst is on-line te volgen of te bezoeken na aanmelding\nDe dienst met beeld kan hieronder gevolgd worden of via kerkdienstmeebeleven\nU kunt de dienst ook beluisteren via  kerkomroep \n \nLiturgie\nStilte\nVotum en groet\nZingen GK2006 gezang 155: 1\, 3\, 4\nZingen (als gebed) GK2006 gezang 157\nKindmoment\nZingen GK2006 gezang 168\nLezen HC zondag 2\nLezen Romeinen 3: 9 – 20\nVerkondiging\nZingen GK2006 Psalm 138: 1 en 4\nCollecte 1e kerk 2e Theologische Universiteit\nBelijdenis\nZingen GK2006 gezang 123: 1\, 5\nGebed\nZingen GK2006 gezang 162: 1\, 3 en 4\nZegen \nU kunt uw bijdrage in de collecte overmaken via de Scipio-app of op NL 51 RABO 0329 1113 10 onder vermelding van “collecte on-line diensten”. De Commissie van Beheer zorgt dan voor de verdeling over de collectedoelen. \nKlik hier voor de liturgie met teksten\nEen goede dienst gewenst in verbondenheid
URL:https://ngk-hoogezand-sappemeer.nl/activiteit/ds-h-van-noort-8/
LOCATION:Online Dienst
CATEGORIES:Kerkdienst
END:VEVENT
END:VCALENDAR