BEGIN:VCALENDAR
VERSION:2.0
PRODID:-//NGK Hoogezand-Sappemeer - ECPv6.3.7//NONSGML v1.0//EN
CALSCALE:GREGORIAN
METHOD:PUBLISH
X-ORIGINAL-URL:https://ngk-hoogezand-sappemeer.nl
X-WR-CALDESC:Evenementen voor NGK Hoogezand-Sappemeer
REFRESH-INTERVAL;VALUE=DURATION:PT1H
X-Robots-Tag:noindex
X-PUBLISHED-TTL:PT1H
BEGIN:VTIMEZONE
TZID:Europe/Amsterdam
BEGIN:DAYLIGHT
TZOFFSETFROM:+0100
TZOFFSETTO:+0200
TZNAME:CEST
DTSTART:20250330T010000
END:DAYLIGHT
BEGIN:STANDARD
TZOFFSETFROM:+0200
TZOFFSETTO:+0100
TZNAME:CET
DTSTART:20251026T010000
END:STANDARD
END:VTIMEZONE
BEGIN:VEVENT
DTSTART;TZID=Europe/Amsterdam:20250907T100000
DTEND;TZID=Europe/Amsterdam:20250907T113000
DTSTAMP:20260421T103756
CREATED:20250826T204806Z
LAST-MODIFIED:20250904T204803Z
UID:5481-1757239200-1757244600@ngk-hoogezand-sappemeer.nl
SUMMARY:Beno Munneke - Startzondag
DESCRIPTION:Deze dienst is on-line of later te volgen via Kerkdienstgemist\n\nLiturgie\nVotum en groet\nZingen Opwekking 281 \nWet\nZingen DNP 72 vers 1 en 7\nGebed\nKindermoment\nZingen: Kinderopwekking 18\nInleiding op de preek\nLezen Jacobus 4 : 13 – 17\nZingen Gezang 239\nTekst Jacobus 4 : 15\nPreek\nZingen Opwekking 42 \nGebed \nCollecten Kerk en Zending&Hulpverlening\nZingen Gezang 167 \nZegen \nBegeleiding: Nanno Siertsema\nSchriftlezing: Herman Dokter \nKlik hier voor de liturgie met teksten\nU kunt uw bijdrage in de collecte overmaken via de Scipio-app of op NL 51 RABO 0329 1113 10 onder vermelding van “collecte on-line diensten”. De Commissie van Beheer zorgt dan voor de verdeling over de collectedoelen. \nEen goede dienst gewenst in verbondenheid
URL:https://ngk-hoogezand-sappemeer.nl/activiteit/beno-munneke-startzondag/
LOCATION:De Ark\, Rembrandtlaan 194\, Hoogezand\, Groningen\, 9601 XD\, Nederland
CATEGORIES:Kerkdienst
END:VEVENT
BEGIN:VEVENT
DTSTART;TZID=Europe/Amsterdam:20250914T100000
DTEND;TZID=Europe/Amsterdam:20250914T113000
DTSTAMP:20260421T103756
CREATED:20250826T204918Z
LAST-MODIFIED:20250912T143516Z
UID:5483-1757844000-1757849400@ngk-hoogezand-sappemeer.nl
SUMMARY:Ds. R. Sietsma
DESCRIPTION:Deze dienst is on-line of later te volgen via Kerkdienstgemist\n\nLiturgie\nVotum en groet.\nZingen: GKB2006 Gezang 145\nGebed\nKindermoment\nZingen: “Je hoeft niet bang te zijn”\nVerootmoediging en genadeverkondiging\nZingen: GKB2006 Gezang 91\nBijbellezing Handelingen 27: 20 – 44\nPreek: Als schipbreuk dreigt …\nZingen: Opwekking 789\nDankgebed\, voorbeden\nHoofdsom van de wet van God\nZingen: DNP Psalm 34: 1\, 5\nCollecte Kerk en Theologische Universiteit \nZingen: GKB2006 Gezang 160\nZegen \nBegeleiding: Jan Leemhuis\nSchriftlezing: Tonny Prins \nKlik hier voor de liturgie met teksten\nU kunt uw bijdrage in de collecte overmaken via de Scipio-app of op NL 51 RABO 0329 1113 10 onder vermelding van “collecte on-line diensten”. De Commissie van Beheer zorgt dan voor de verdeling over de collectedoelen. \nEen goede dienst gewenst in verbondenheid
URL:https://ngk-hoogezand-sappemeer.nl/activiteit/ds-r-sietsma-11/
LOCATION:De Ark\, Rembrandtlaan 194\, Hoogezand\, Groningen\, 9601 XD\, Nederland
CATEGORIES:Kerkdienst
END:VEVENT
BEGIN:VEVENT
DTSTART;TZID=Europe/Amsterdam:20250921T100000
DTEND;TZID=Europe/Amsterdam:20250921T113000
DTSTAMP:20260421T103756
CREATED:20250826T205423Z
LAST-MODIFIED:20250919T161728Z
UID:5485-1758448800-1758454200@ngk-hoogezand-sappemeer.nl
SUMMARY:Br. F. Pathuis
DESCRIPTION:Deze dienst is on-line of later te volgen via Kerkdienstgemist\n\nLiturgie\nWelkom\nStil gebed\nVotum en zegengroet\nZingen: GKB Psalm 105 : 1\, 2\, 5\nGebed\nKinderlied – Kinderopwekking 191\nLezen: 1 Tessalonicenzen 1 : 1 – 10\nZingen: LvK Gezang 314 : 1\, 2\nTekst: 1 Tessalonicenzen 5 : 14 – 22\nVerkondiging\nZingen: Opwekking 797\nDankgebed\nCollecte Kerk en Evangelisatie\nGeloofsbelijdenis\nZingen: Sela – Laat ons samen één zijn\nZegen \nBegeleiding: Jan Leemhuis\nSchriftlezing: Francien Venhuizen \nKlik hier voor de liturgie met teksten\nU kunt uw bijdrage in de collecte overmaken via de Scipio-app of op NL 51 RABO 0329 1113 10 onder vermelding van “collecte on-line diensten”. De Commissie van Beheer zorgt dan voor de verdeling over de collectedoelen. \nEen goede dienst gewenst in verbondenheid
URL:https://ngk-hoogezand-sappemeer.nl/activiteit/br-f-pathuis/
LOCATION:De Ark\, Rembrandtlaan 194\, Hoogezand\, Groningen\, 9601 XD\, Nederland
CATEGORIES:Kerkdienst
END:VEVENT
BEGIN:VEVENT
DTSTART;TZID=Europe/Amsterdam:20250928T100000
DTEND;TZID=Europe/Amsterdam:20250928T113000
DTSTAMP:20260421T103756
CREATED:20250826T205521Z
LAST-MODIFIED:20250926T090647Z
UID:5487-1759053600-1759059000@ngk-hoogezand-sappemeer.nl
SUMMARY:Ds. R. Sietsma
DESCRIPTION:Deze dienst is on-line of later te volgen via Kerkdienstgemist\n\nLiturgie\nVotum en groet\nZingen: Liedboek 405: 1\, 2\, 4\nGebed\nKindermoment\nZingen: Op Toonhoogte 492\nVerootmoediging en genadeverkondiging\nZingen: DNP Psalm 32: 2\nLezen: Handelingen 26: 4 – 8 en 19 – 32\nPreek: De kerk of de koning?\nZingen: Liedboek 871\nDankgebed\, voorbeden\nHoofdsom van de wet van God\nCollecte Kerk en Emeritering\nZingen:  Gezang 177\nZegen \nBegeleiding: Jan Leemhuis\nSchriftlezing: José Leemhuis \nKlik hier voor de liturgie met teksten\nU kunt uw bijdrage in de collecte overmaken via de Scipio-app of op NL 51 RABO 0329 1113 10 onder vermelding van “collecte on-line diensten”. De Commissie van Beheer zorgt dan voor de verdeling over de collectedoelen. \nEen goede dienst gewenst in verbondenheid
URL:https://ngk-hoogezand-sappemeer.nl/activiteit/ds-r-sietsma-12/
LOCATION:De Ark\, Rembrandtlaan 194\, Hoogezand\, Groningen\, 9601 XD\, Nederland
CATEGORIES:Kerkdienst
END:VEVENT
END:VCALENDAR