BEGIN:VCALENDAR
VERSION:2.0
PRODID:-//NGK Hoogezand-Sappemeer - ECPv6.3.7//NONSGML v1.0//EN
CALSCALE:GREGORIAN
METHOD:PUBLISH
X-ORIGINAL-URL:https://ngk-hoogezand-sappemeer.nl
X-WR-CALDESC:Evenementen voor NGK Hoogezand-Sappemeer
REFRESH-INTERVAL;VALUE=DURATION:PT1H
X-Robots-Tag:noindex
X-PUBLISHED-TTL:PT1H
BEGIN:VTIMEZONE
TZID:Europe/Amsterdam
BEGIN:DAYLIGHT
TZOFFSETFROM:+0100
TZOFFSETTO:+0200
TZNAME:CEST
DTSTART:20250330T010000
END:DAYLIGHT
BEGIN:STANDARD
TZOFFSETFROM:+0200
TZOFFSETTO:+0100
TZNAME:CET
DTSTART:20251026T010000
END:STANDARD
END:VTIMEZONE
BEGIN:VEVENT
DTSTART;TZID=Europe/Amsterdam:20250504T100000
DTEND;TZID=Europe/Amsterdam:20250504T113000
DTSTAMP:20260419T171156
CREATED:20250420T135629Z
LAST-MODIFIED:20250502T125628Z
UID:5295-1746352800-1746358200@ngk-hoogezand-sappemeer.nl
SUMMARY:Zr. C.L. Prins
DESCRIPTION:Deze dienst is on-line of later te volgen via Kerkdienstgemist\n\nLiturgie\nWelkom en mededelingen\nGezongen votum en groet\nZingen: Opw. 167\nZingen: GKB (2017) Gezang 243\nGebed\nKindermoment\nLezen: Johannes 21: 15 – 19\nPreek: Gedenken is het geheim van bevrijding\nZingen: Opw. 805\nZingen: Opw. 832\nDankgebed en voorbeden\nLeefregel\nZingen: DNP Psalm 77: 1\, 5 – 7\nZingen: Sela – Kom met vrede\nCollecte Kerk en Theologische Universiteit\nZingen: LDB (2013) Lied 415\nZegen en amen \nBegeleiding: Nano Siertsema\nSchriftlezing: Beno Munneke \nKlik hier voor de liturgie met teksten\nU kunt uw bijdrage in de collecte overmaken via de Scipio-app of op NL 51 RABO 0329 1113 10 onder vermelding van “collecte on-line diensten”. De Commissie van Beheer zorgt dan voor de verdeling over de collectedoelen. \nEen goede dienst gewenst in verbondenheid
URL:https://ngk-hoogezand-sappemeer.nl/activiteit/zr-c-l-prins-10/
LOCATION:De Ark\, Rembrandtlaan 194\, Hoogezand\, Groningen\, 9601 XD\, Nederland
CATEGORIES:Kerkdienst
END:VEVENT
BEGIN:VEVENT
DTSTART;TZID=Europe/Amsterdam:20250504T163000
DTEND;TZID=Europe/Amsterdam:20250504T180000
DTSTAMP:20260419T171156
CREATED:20250420T135710Z
LAST-MODIFIED:20250502T130137Z
UID:5297-1746376200-1746381600@ngk-hoogezand-sappemeer.nl
SUMMARY:Ds. G. Meijer
DESCRIPTION:Deze dienst is on-line of later te volgen via Kerkdienstgemist\n\nLiturgie\nKomen\n– Votum\n– Groet\n– Psalm 42a (= Opwekking 281)\nHoren\n– Gebed\n– Jakobus 4: 13 – 17\n– Dv (verkondiging vanuit Jakobus 4: 15)\n– Gezang 239 (=Opwekking 42 canon 2x)\nGeven\n– Nicenum\n– DNP 72: 7\n– Gebed\n– Collecte Kerk en Theologische Universiteit\nGaan\nGezang 167 (=Opwekking 277)\nZegen \nKlik hier voor de liturgie met teksten\nU kunt uw bijdrage in de collecte overmaken via de Scipio-app of op NL 51 RABO 0329 1113 10 onder vermelding van “collecte on-line diensten”. De Commissie van Beheer zorgt dan voor de verdeling over de collectedoelen. \nEen goede dienst gewenst in verbondenheid
URL:https://ngk-hoogezand-sappemeer.nl/activiteit/ds-g-meijer-3/
LOCATION:De Ark\, Rembrandtlaan 194\, Hoogezand\, Groningen\, 9601 XD\, Nederland
CATEGORIES:Kerkdienst
END:VEVENT
BEGIN:VEVENT
DTSTART;TZID=Europe/Amsterdam:20250511T100000
DTEND;TZID=Europe/Amsterdam:20250511T113000
DTSTAMP:20260419T171156
CREATED:20250420T135911Z
LAST-MODIFIED:20250510T063136Z
UID:5299-1746957600-1746963000@ngk-hoogezand-sappemeer.nl
SUMMARY:Ds. A.M. Pathuis
DESCRIPTION:Deze dienst is on-line of later te volgen via Kerkdienstgemist\n\nLiturgie\nVotum: DNP Psalm 146: 1\, 3\nGroet\nZingen: DNP Psalm 146: 4\, 5\, 6\nGebed\nKindermoment\nZingen: Kinderopwekking 70\nInleiding bij het thema\nLezen: Ezechiël 34: 7 – 16\nZingen: DNP Psalm 23\nLezen: Johannes 10: 1 – 18\nPreek\nZingen: Opwekking 378: 1\, 2\nInteractief moment\nZingen: Opwekking 378: 3\, 4\, 5\nDankgebed\nCollectemoment Kerk en Evangelisatie\nZingen: Sela – ‘Mag ik jou tot zegen zijn’\nZegen \nBegeleiding: Jan Leemhuis\nSchriftlezing: Sem Bolhuis \nKlik hier voor de liturgie met teksten\nU kunt uw bijdrage in de collecte overmaken via de Scipio-app of op NL 51 RABO 0329 1113 10 onder vermelding van “collecte on-line diensten”. De Commissie van Beheer zorgt dan voor de verdeling over de collectedoelen. \nEen goede dienst gewenst in verbondenheid
URL:https://ngk-hoogezand-sappemeer.nl/activiteit/ds-a-m-pathuis-40/
LOCATION:De Ark\, Rembrandtlaan 194\, Hoogezand\, Groningen\, 9601 XD\, Nederland
CATEGORIES:Kerkdienst
END:VEVENT
BEGIN:VEVENT
DTSTART;TZID=Europe/Amsterdam:20250511T163000
DTEND;TZID=Europe/Amsterdam:20250511T180000
DTSTAMP:20260419T171156
CREATED:20250420T135945Z
LAST-MODIFIED:20250510T064354Z
UID:5301-1746981000-1746986400@ngk-hoogezand-sappemeer.nl
SUMMARY:Ds. H. van Noort
DESCRIPTION:Deze dienst is on-line of later te volgen via Kerkdienstgemist\n\nLiturgie\nZingen DNP Psalm 51: 2\, 4\nMoment stilte\nVotum en groet\nZingen Sela – Laat ons samen een zijn\nGebed\nLezen HC zondag 51\nInleiding\nLezen Spreuken 28: 13\nUitwerking\nZingen DNP Psalm 32\nLezen Kolossenzen 3: 13\nStilte\nLezen Efeziërs 4: 31 – 32\nUitwerking\nZingen Opwekking 629\nLezen Spreuken 17: 9\nUitwerking\nZingen Sela – Mag ik jou tot zegen zijn\nLezen Mattheus 6: 12\nZingen GK Psalm 31: 14.\nGebed\nCollecte Kerk en Evangelisatie\nLezen 1 Johannes 2: 2\nBemoediging\nBelijdenis HC zondag 21\nZingen Opwekking 44\nZegen \nKlik hier voor de liturgie met teksten\nU kunt uw bijdrage in de collecte overmaken via de Scipio-app of op NL 51 RABO 0329 1113 10 onder vermelding van “collecte on-line diensten”. De Commissie van Beheer zorgt dan voor de verdeling over de collectedoelen. \nEen goede dienst gewenst in verbondenheid
URL:https://ngk-hoogezand-sappemeer.nl/activiteit/ds-h-van-noort-6/
LOCATION:De Ark\, Rembrandtlaan 194\, Hoogezand\, Groningen\, 9601 XD\, Nederland
CATEGORIES:Kerkdienst
END:VEVENT
BEGIN:VEVENT
DTSTART;TZID=Europe/Amsterdam:20250515T133000
DTEND;TZID=Europe/Amsterdam:20250515T150000
DTSTAMP:20260419T171156
CREATED:20250514T201408Z
LAST-MODIFIED:20250514T202400Z
UID:5355-1747315800-1747321200@ngk-hoogezand-sappemeer.nl
SUMMARY:Dankdienst voor het leven van Andries Hogeveen
DESCRIPTION:Deze dienst is on-line of later te volgen via Kerkdienstgemist\n\nLiturgie\nWelkom\nLied: Een toekomst vol van hoop (Sela)\nBijdrage dochters\nLied: Ik zal er zijn (Sela)\nBijdrage kleinkinderen\nGebed\nLezen: Psalm 23\nLied: Wat de toekomst brengen moge\nBijdrage kleinkinderen\nBijbeltekst: Psalm 90: 9b-10a en 17\nOverdenking\nLied: Lichtstad met uw paarlen poorten\nGebed\nSlotlied: Eens als de bazuinen klinken \nVoorganger\n– ds. A.M. Pathuis \nMuzikale begeleiding\n– Jan Leemhuis Orgel\, Piano\n– Onna Vellema-Holwerda Gitaar\n– Andries Holwerda Djembe \nKlik hier voor de liturgie met teksten
URL:https://ngk-hoogezand-sappemeer.nl/activiteit/dankdienst-voor-het-leven-van-andries-hogeveen/
LOCATION:De Ark\, Rembrandtlaan 194\, Hoogezand\, Groningen\, 9601 XD\, Nederland
CATEGORIES:Kerkdienst
END:VEVENT
BEGIN:VEVENT
DTSTART;TZID=Europe/Amsterdam:20250518T100000
DTEND;TZID=Europe/Amsterdam:20250518T113000
DTSTAMP:20260419T171156
CREATED:20250420T140316Z
LAST-MODIFIED:20250517T204150Z
UID:5305-1747562400-1747567800@ngk-hoogezand-sappemeer.nl
SUMMARY:Ds. M. van Loon
DESCRIPTION:Deze dienst is on-line of later te volgen via Kerkdienstgemist\n\nLiturgie\nWelkom en mededelingen\nZingen: NLB gezang 793: 1\, 2\nGroet van de Heer\nZingen: Opwekking 672\nLeefregel: Matteüs 5: 3 – 16\nZingen: NLB gezang 838: 1\, 2\nGebed\nKindermoment\nZingen: “Hand en voet” – Elly & Rikkert\nPreek Themadienst – (homo)seksualiteit\nZingen (na deel 1): Opwekking 350\nZingen (na deel 2): Psalm 139: 6\, 11\nZingen (na deel 3): Opwekking 378\nGebed – afgesloten met gezamenlijk ‘Onze Vader’\nCollecte Kerk en Emeritering\nZingen: Opwekking 428\nZegen \nBegeleiding: Nanno Siertsema\nSchriftlezing: Tonny Prins \nKlik hier voor de liturgie met teksten\nU kunt uw bijdrage in de collecte overmaken via de Scipio-app of op NL 51 RABO 0329 1113 10 onder vermelding van “collecte on-line diensten”. De Commissie van Beheer zorgt dan voor de verdeling over de collectedoelen. \nEen goede dienst gewenst in verbondenheid
URL:https://ngk-hoogezand-sappemeer.nl/activiteit/ds-m-van-loon/
LOCATION:De Ark\, Rembrandtlaan 194\, Hoogezand\, Groningen\, 9601 XD\, Nederland
CATEGORIES:Kerkdienst
END:VEVENT
BEGIN:VEVENT
DTSTART;TZID=Europe/Amsterdam:20250518T163000
DTEND;TZID=Europe/Amsterdam:20250518T180000
DTSTAMP:20260419T171156
CREATED:20250420T140354Z
LAST-MODIFIED:20250517T204442Z
UID:5307-1747585800-1747591200@ngk-hoogezand-sappemeer.nl
SUMMARY:Br. B.R. Munneke
DESCRIPTION:Deze dienst is on-line of later te volgen via Kerkdienstgemist\n\nLiturgie\nVotum en groet\nZingen: Kerkboek Ps. 122: 1\, 3\nGebed;\nZingen: GK Gezang 156\nLezen: Kolossenzen 3: 12 – 17\nLezen: Efeziërs 2: 11 – 18\nLezen: Filippenzen 4: 6 – 7\nPreek\nZingen: LB 1010: 1\, 4\nGebed\nCollecte: Kerk en Emeritering\nGeloofsbelijdenis\nZingen: Weerklank 357\nZegen \nKlik hier voor de liturgie met teksten\nU kunt uw bijdrage in de collecte overmaken via de Scipio-app of op NL 51 RABO 0329 1113 10 onder vermelding van “collecte on-line diensten”. De Commissie van Beheer zorgt dan voor de verdeling over de collectedoelen. \nEen goede dienst gewenst in verbondenheid
URL:https://ngk-hoogezand-sappemeer.nl/activiteit/br-b-r-munneke-10/
LOCATION:De Ark\, Rembrandtlaan 194\, Hoogezand\, Groningen\, 9601 XD\, Nederland
CATEGORIES:Kerkdienst
END:VEVENT
BEGIN:VEVENT
DTSTART;TZID=Europe/Amsterdam:20250525T100000
DTEND;TZID=Europe/Amsterdam:20250525T113000
DTSTAMP:20260419T171156
CREATED:20250420T140456Z
LAST-MODIFIED:20250523T145144Z
UID:5309-1748167200-1748172600@ngk-hoogezand-sappemeer.nl
SUMMARY:Ds. A.M. Pathuis
DESCRIPTION:Deze dienst is on-line of later te volgen via Kerkdienstgemist\n\nLiturgie\nVotum en groet\nZingen: DNP Psalm 33: 1\, 2\, 6\nGebed\nInleiding bij het thema\nWetlezing: Deuteronomium 5: 6 – 21 (BGT)\nZingen: GKB (2006) Gezang 23\nLezen: Deuteronomium 4: 1 – 2 en 9 – 20\nZingen: DNP Psalm 40: 1\, 3\nLezen: Jakobus 1: 16 – 27\nPreek\nZingen: Opwekking 689\nDankgebed\nZingen: Liedboek 1006\nCollecte Kerk en Diaconie\nZingen: Liedboek 413\nZegen \nBegeleiding: Jan Leemhuis\nSchriftlezing: Herman Dokter \nKlik hier voor de liturgie met teksten\nU kunt uw bijdrage in de collecte overmaken via de Scipio-app of op NL 51 RABO 0329 1113 10 onder vermelding van “collecte on-line diensten”. De Commissie van Beheer zorgt dan voor de verdeling over de collectedoelen. \nEen goede dienst gewenst in verbondenheid
URL:https://ngk-hoogezand-sappemeer.nl/activiteit/ds-a-m-pathuis-41/
LOCATION:De Ark\, Rembrandtlaan 194\, Hoogezand\, Groningen\, 9601 XD\, Nederland
CATEGORIES:Kerkdienst
END:VEVENT
BEGIN:VEVENT
DTSTART;TZID=Europe/Amsterdam:20250525T163000
DTEND;TZID=Europe/Amsterdam:20250525T180000
DTSTAMP:20260419T171156
CREATED:20250420T140553Z
LAST-MODIFIED:20250523T145314Z
UID:5311-1748190600-1748196000@ngk-hoogezand-sappemeer.nl
SUMMARY:Br. G.J. Bondt
DESCRIPTION:Deze dienst is on-line of later te volgen via Kerkdienstgemist\n\nLiturgie\nOpw 695\nVotum + begroeting\nOpw 765\nGebed\nLezen Joh 3\, 1-21\nPreek\nOpw 848 (waarschijnlijk als luisterlied)\nGebed\nSela; Maranatha\nCollecte Kerk en Diaconie\nOpw 785\nZegen \nKlik hier voor de liturgie met teksten\nU kunt uw bijdrage in de collecte overmaken via de Scipio-app of op NL 51 RABO 0329 1113 10 onder vermelding van “collecte on-line diensten”. De Commissie van Beheer zorgt dan voor de verdeling over de collectedoelen. \nEen goede dienst gewenst in verbondenheid
URL:https://ngk-hoogezand-sappemeer.nl/activiteit/br-p-braam-19/
LOCATION:De Ark\, Rembrandtlaan 194\, Hoogezand\, Groningen\, 9601 XD\, Nederland
CATEGORIES:Kerkdienst
END:VEVENT
BEGIN:VEVENT
DTSTART;TZID=Europe/Amsterdam:20250529T100000
DTEND;TZID=Europe/Amsterdam:20250529T113000
DTSTAMP:20260419T171156
CREATED:20250420T140656Z
LAST-MODIFIED:20250528T120235Z
UID:5313-1748512800-1748518200@ngk-hoogezand-sappemeer.nl
SUMMARY:Ds. F. Rinkema - Hemelvaart
DESCRIPTION:Deze dienst is on-line of later te volgen via Kerkdienstgemist\n\nLiturgie\nDNP Ps. 47: 1\nVotum\, groet\nDNP Ps. 47: 2\nGebed\nLezen: Hand. 1\, 1 – 11\nGK17 Gez. 215: 1\, 2\nLezen: Psalm 110\nLezen: Hebreeën 12: 1 – 2\nGK17 Gez. 215: 3 – 5\nVerkondiging – Aan Gods rechterhand\nLB Gez. 412: 5\, 6\nGeloofsbelijdenis van Nicea\nGK17 Gez. 216\nGebed\nCollecte Kerk en Zending & Hulpverlening\nDNP Ps. 68: 9\nZegen \nBegeleiding: Jan Leemhuis\nSchriftlezing: José Leemhuis \nKlik hier voor de liturgie met teksten\nU kunt uw bijdrage in de collecte overmaken via de Scipio-app of op NL 51 RABO 0329 1113 10 onder vermelding van “collecte on-line diensten”. De Commissie van Beheer zorgt dan voor de verdeling over de collectedoelen. \nEen goede dienst gewenst in verbondenheid
URL:https://ngk-hoogezand-sappemeer.nl/activiteit/ds-f-rinkema-hemelvaart/
LOCATION:De Ark\, Rembrandtlaan 194\, Hoogezand\, Groningen\, 9601 XD\, Nederland
CATEGORIES:Kerkdienst
END:VEVENT
END:VCALENDAR