BEGIN:VCALENDAR
VERSION:2.0
PRODID:-//NGK Hoogezand-Sappemeer - ECPv6.3.7//NONSGML v1.0//EN
CALSCALE:GREGORIAN
METHOD:PUBLISH
X-WR-CALNAME:NGK Hoogezand-Sappemeer
X-ORIGINAL-URL:https://ngk-hoogezand-sappemeer.nl
X-WR-CALDESC:Evenementen voor NGK Hoogezand-Sappemeer
REFRESH-INTERVAL;VALUE=DURATION:PT1H
X-Robots-Tag:noindex
X-PUBLISHED-TTL:PT1H
BEGIN:VTIMEZONE
TZID:Europe/Amsterdam
BEGIN:DAYLIGHT
TZOFFSETFROM:+0100
TZOFFSETTO:+0200
TZNAME:CEST
DTSTART:20250330T010000
END:DAYLIGHT
BEGIN:STANDARD
TZOFFSETFROM:+0200
TZOFFSETTO:+0100
TZNAME:CET
DTSTART:20251026T010000
END:STANDARD
END:VTIMEZONE
BEGIN:VEVENT
DTSTART;TZID=Europe/Amsterdam:20250302T100000
DTEND;TZID=Europe/Amsterdam:20250302T113000
DTSTAMP:20260419T201324
CREATED:20250125T112645Z
LAST-MODIFIED:20250228T165147Z
UID:5160-1740909600-1740915000@ngk-hoogezand-sappemeer.nl
SUMMARY:Ds. H.J.J. Pomp
DESCRIPTION:Deze dienst is on-line of later te volgen via Kerkdienstgemist\n\nLiturgie\nZingen GKB2017 Gezang 228\nZingen Ps. 145: 1\, 2\nWet\nZingen Ps. 25: 4\, 6\nGebed\nLezen: Matteüs 5: 1 – 16\nZingen GKB2017 Gezang 248: 1 – 6\nPreek\nZingen LB2013 Lied 1005: 1 – 5\nGebed\nCollecte Kerk en Emeritering\nZingen LB2013 Lied 1010: 1 – 4\nZegen \nBegeleiding: Jan Leemhuis\nSchriftlezing: Herman Dokter \nKlik hier voor de liturgie met teksten\nU kunt uw bijdrage in de collecte overmaken via de Scipio-app of op NL 51 RABO 0329 1113 10 onder vermelding van “collecte on-line diensten”. De Commissie van Beheer zorgt dan voor de verdeling over de collectedoelen. \nEen goede dienst gewenst in verbondenheid
URL:https://ngk-hoogezand-sappemeer.nl/activiteit/ds-h-j-j-pomp/
LOCATION:De Ark\, Rembrandtlaan 194\, Hoogezand\, Groningen\, 9601 XD\, Nederland
CATEGORIES:Kerkdienst
END:VEVENT
BEGIN:VEVENT
DTSTART;TZID=Europe/Amsterdam:20250302T163000
DTEND;TZID=Europe/Amsterdam:20250302T180000
DTSTAMP:20260419T201324
CREATED:20250125T112925Z
LAST-MODIFIED:20250228T164955Z
UID:5162-1740933000-1740938400@ngk-hoogezand-sappemeer.nl
SUMMARY:Ds. N.W. Dijksterhuis
DESCRIPTION:Deze dienst is on-line of later te volgen via Kerkdienstgemist\n\nLiturgie\nWelkom en mededelingen.\nVotum en groet.\nZingen LB Gezang 654: 1\, 5\, 6.\nGebed voor de opening van het woord.\nLezen / tekst Johannes 3: 14 – 21.\nZingen GKB Gezang 107: 1\, 4.\nVerkondiging.\nZingen Psalm 84: 3\, 4\, 6.\nGeloofsbelijdenis.\nZingen DNP Psalm 145: 1\, 3.\nDankgebed.\nCollecten Kerk en Emeritering.\nSlotlied LB Gezang 418.\nZegen. \nKlik hier voor de liturgie met teksten\nU kunt uw bijdrage in de collecte overmaken via de Scipio-app of op NL 51 RABO 0329 1113 10 onder vermelding van “collecte on-line diensten”. De Commissie van Beheer zorgt dan voor de verdeling over de collectedoelen. \nEen goede dienst gewenst in verbondenheid
URL:https://ngk-hoogezand-sappemeer.nl/activiteit/ds-n-w-dijksterhuis-3/
LOCATION:De Ark\, Rembrandtlaan 194\, Hoogezand\, Groningen\, 9601 XD\, Nederland
CATEGORIES:Kerkdienst
END:VEVENT
BEGIN:VEVENT
DTSTART;TZID=Europe/Amsterdam:20250309T100000
DTEND;TZID=Europe/Amsterdam:20250309T113000
DTSTAMP:20260419T201324
CREATED:20250125T113111Z
LAST-MODIFIED:20250308T211952Z
UID:5164-1741514400-1741519800@ngk-hoogezand-sappemeer.nl
SUMMARY:Ds. A.M. Pathuis
DESCRIPTION:Deze dienst is on-line of later te volgen via Kerkdienstgemist\n\nLiturgie\nVotum en groet\nZingen: GKB (2017) Psalm 8a\nGebed\nKindermoment\nZingen: Kinderopwekking 301\nLezen: Genesis 2: 4b – 25\nZingen: DNP Psalm 145: 1\, 3\nPreek\nZingen: Liedboek 146c: 1\, 4\,\nDankgebed\nLeefregel: Lucas 12: 22 – 31\nZingen: Liedboek 985\nCollecte Kerk en Zending & Hulpverlening\nZingen: Liedboek 978\nZegen \nBegeleiding: Nano Siertsema\nSchriftlezing: Tonny Prins \nKlik hier voor de liturgie met teksten\nU kunt uw bijdrage in de collecte overmaken via de Scipio-app of op NL 51 RABO 0329 1113 10 onder vermelding van “collecte on-line diensten”. De Commissie van Beheer zorgt dan voor de verdeling over de collectedoelen. \nEen goede dienst gewenst in verbondenheid
URL:https://ngk-hoogezand-sappemeer.nl/activiteit/ds-a-m-pathuis-35/
LOCATION:De Ark\, Rembrandtlaan 194\, Hoogezand\, Groningen\, 9601 XD\, Nederland
CATEGORIES:Kerkdienst
END:VEVENT
BEGIN:VEVENT
DTSTART;TZID=Europe/Amsterdam:20250309T163000
DTEND;TZID=Europe/Amsterdam:20250309T180000
DTSTAMP:20260419T201324
CREATED:20250125T114819Z
LAST-MODIFIED:20250308T212225Z
UID:5183-1741537800-1741543200@ngk-hoogezand-sappemeer.nl
SUMMARY:Br. P. Braam
DESCRIPTION:Deze dienst is on-line of later te volgen via Kerkdienstgemist\n\nLiturgie\nVotum – groet\nNLB 534: 1\, 2\nGebed\nLezen: Marcus 1: 39 – 45\nLezen: Leviticus 13: 1 – 3\, 45 – 46\nLezen: Leviticus 14: 1 – 9\nNLB 534: 3\, 4\nTekst Marcus 1: 41\nPreek\nDNP 51: 4\, 5\nDankgebed\nCollecte Kerk en Zending & Hulpverlening\nGeloofsbelijdenis\nGKB 68: 1\, 2 \, 3\, 4\nZegen \nKlik hier voor de liturgie met teksten\nU kunt uw bijdrage in de collecte overmaken via de Scipio-app of op NL 51 RABO 0329 1113 10 onder vermelding van “collecte on-line diensten”. De Commissie van Beheer zorgt dan voor de verdeling over de collectedoelen. \nEen goede dienst gewenst in verbondenheid
URL:https://ngk-hoogezand-sappemeer.nl/activiteit/br-p-braam-18/
LOCATION:De Ark\, Rembrandtlaan 194\, Hoogezand\, Groningen\, 9601 XD\, Nederland
CATEGORIES:Kerkdienst
END:VEVENT
BEGIN:VEVENT
DTSTART;TZID=Europe/Amsterdam:20250312T193000
DTEND;TZID=Europe/Amsterdam:20250312T210000
DTSTAMP:20260419T201324
CREATED:20250125T113316Z
LAST-MODIFIED:20250311T135229Z
UID:5168-1741807800-1741813200@ngk-hoogezand-sappemeer.nl
SUMMARY:Ds. A.M. Pathuis
DESCRIPTION:Deze dienst is on-line of later te volgen via Kerkdienstgemist\n\nLiturgie\nVotum: DNP Psalm 24: 1\, 3\nGroet\nZingen: Liedboek 221\nGebed\nLuisterlied: Coldplay ‘We pray’\nLezen: Lucas 11: 1 – 13\nPreek\nZingen: Liedboek 756: 1\, 2\, 4\, 5\, 6\nVoorbede\nZingen: Liedboek 370\nCollecte Diaconie: SAT\nGeloofsbelijdenis: HC Zondag 10\nZingen: Opwekking 520\nZegen \nBegeleiding: Jan Leemhuis\nSchriftlezing: José Leemhuis \nKlik hier voor de liturgie met teksten\nU kunt uw bijdrage in de collecte overmaken via de Scipio-app of op NL 51 RABO 0329 1113 10 onder vermelding van “collecte on-line diensten”. De Commissie van Beheer zorgt dan voor de verdeling over de collectedoelen. \nEen goede dienst gewenst in verbondenheid
URL:https://ngk-hoogezand-sappemeer.nl/activiteit/ds-a-m-pathuis-36/
LOCATION:De Ark\, Rembrandtlaan 194\, Hoogezand\, Groningen\, 9601 XD\, Nederland
CATEGORIES:Kerkdienst
END:VEVENT
BEGIN:VEVENT
DTSTART;TZID=Europe/Amsterdam:20250316T100000
DTEND;TZID=Europe/Amsterdam:20250316T113000
DTSTAMP:20260419T201324
CREATED:20250125T113650Z
LAST-MODIFIED:20250315T104132Z
UID:5170-1742119200-1742124600@ngk-hoogezand-sappemeer.nl
SUMMARY:Br. B.R. Munneke
DESCRIPTION:Deze dienst is on-line of later te volgen via Kerkdienstgemist\n\nLiturgie\nVotum en groet\nZingen: Opw 854\n10 Geboden\nZingen: Psalm 119 : 3\nGebed\nKindermoment\nKinderlied: Lied 218: 1 – 5\nLezen: Job 2: 11 – 3: 7\nZingen: Psalm 141: 1\, 2\, 3\nTekst: Job 2: 13\nVerkondiging: Stil\nLuisterlied: Stef Bos; Lied van Job ’Het nulpunt’\nZingen: Opwekking 717\nDankzegging en voorbede\nCollecte Kerk en Theologische Universiteit\nZingen: Lied 513\nZegen \nBegeleiding: Jan Leemhuis\nSchriftlezing: Francien Venhuizen \nKlik hier voor de liturgie met teksten\nU kunt uw bijdrage in de collecte overmaken via de Scipio-app of op NL 51 RABO 0329 1113 10 onder vermelding van “collecte on-line diensten”. De Commissie van Beheer zorgt dan voor de verdeling over de collectedoelen. \nEen goede dienst gewenst in verbondenheid
URL:https://ngk-hoogezand-sappemeer.nl/activiteit/br-b-r-munneke-11/
LOCATION:De Ark\, Rembrandtlaan 194\, Hoogezand\, Groningen\, 9601 XD\, Nederland
CATEGORIES:Kerkdienst
END:VEVENT
BEGIN:VEVENT
DTSTART;TZID=Europe/Amsterdam:20250316T163000
DTEND;TZID=Europe/Amsterdam:20250316T180000
DTSTAMP:20260419T201324
CREATED:20250125T113801Z
LAST-MODIFIED:20250315T104345Z
UID:5172-1742142600-1742148000@ngk-hoogezand-sappemeer.nl
SUMMARY:Ds. H. van Noort
DESCRIPTION:Deze dienst is on-line of later te volgen via Kerkdienstgemist\n\nLiturgie\nStilte\nVotum en groet\nZingen Psalm 122: 1\, 3\nGebed\nLezen HC zondag 47 – 49\nLezen Psalm 115\nVerkondiging\nZingen Psalm 143: 1\, 9\,10\nGebed\nCollecte Kerk en Theologische Universiteit\nZingen (en belijdenis) GKB gezang 177\nZegen \nKlik hier voor de liturgie met teksten\nU kunt uw bijdrage in de collecte overmaken via de Scipio-app of op NL 51 RABO 0329 1113 10 onder vermelding van “collecte on-line diensten”. De Commissie van Beheer zorgt dan voor de verdeling over de collectedoelen. \nEen goede dienst gewenst in verbondenheid
URL:https://ngk-hoogezand-sappemeer.nl/activiteit/ds-h-van-noort-5/
LOCATION:De Ark\, Rembrandtlaan 194\, Hoogezand\, Groningen\, 9601 XD\, Nederland
CATEGORIES:Kerkdienst
END:VEVENT
BEGIN:VEVENT
DTSTART;TZID=Europe/Amsterdam:20250323T100000
DTEND;TZID=Europe/Amsterdam:20250323T103000
DTSTAMP:20260419T201324
CREATED:20250125T113906Z
LAST-MODIFIED:20250321T154804Z
UID:5174-1742724000-1742725800@ngk-hoogezand-sappemeer.nl
SUMMARY:Ds. A.M. Pathuis
DESCRIPTION:Deze dienst is on-line of later te volgen via Kerkdienstgemist\n\nLiturgie\nVotum en groet\nZingen: Opwekking 281 (2x)\nGebed\nKindermoment\n– Filmpje bij de 3e zondag\n– Zingen: Opwekking voor Kids 244\nLezen: Jesaja 35: 1 – 10\nZingen: DNP Psalm 126\nLezen: Lucas 7: 18 – 23\nPreek\nZingen: Opwekking 461\nLeefregel: Jakobus 5: 7 – 16\nZingen: DNP Psalm 63: 1\, 2\nDankgebed\nCollecte Kerk en Evangelisatie\nZingen: Opwekking 832\nZegen \nBegeleiding: Nanno Siertsema\nSchriftlezing: Geert Bondt \nKlik hier voor de liturgie met teksten\nU kunt uw bijdrage in de collecte overmaken via de Scipio-app of op NL 51 RABO 0329 1113 10 onder vermelding van “collecte on-line diensten”. De Commissie van Beheer zorgt dan voor de verdeling over de collectedoelen. \nEen goede dienst gewenst in verbondenheid
URL:https://ngk-hoogezand-sappemeer.nl/activiteit/ds-a-m-pathuis-37/
LOCATION:De Ark\, Rembrandtlaan 194\, Hoogezand\, Groningen\, 9601 XD\, Nederland
CATEGORIES:Kerkdienst
END:VEVENT
BEGIN:VEVENT
DTSTART;TZID=Europe/Amsterdam:20250323T163000
DTEND;TZID=Europe/Amsterdam:20250323T180000
DTSTAMP:20260419T201324
CREATED:20250125T114037Z
LAST-MODIFIED:20250321T155051Z
UID:5176-1742747400-1742752800@ngk-hoogezand-sappemeer.nl
SUMMARY:Ds. M.K. van Rijswijk
DESCRIPTION:Deze dienst is on-line of later te volgen via Kerkdienstgemist\n\nLiturgie\nVotum\nVrede-/zegengroet\nGebed door te zingen: LB 314: 1\, 2\, 3\nWestminister Confessie 1.6 en 1.7\nJohannes 7: 53 – 8: 11\nDNP 51: 1\, 3\, 4\nPreek\nSela – Agnus Dei\nBelijdenis\nLB 377: 1\, 2\, 3\, 4\, 6\nGebed\nCollecte Kerk en Evangelisatie\nGezang 218: 1\, 2\, 3\, 4\nZegen \nKlik hier voor de liturgie met teksten\nU kunt uw bijdrage in de collecte overmaken via de Scipio-app of op NL 51 RABO 0329 1113 10 onder vermelding van “collecte on-line diensten”. De Commissie van Beheer zorgt dan voor de verdeling over de collectedoelen. \nEen goede dienst gewenst in verbondenheid
URL:https://ngk-hoogezand-sappemeer.nl/activiteit/ds-m-k-van-rijswijk-3/
LOCATION:De Ark\, Rembrandtlaan 194\, Hoogezand\, Groningen\, 9601 XD\, Nederland
CATEGORIES:Kerkdienst
END:VEVENT
BEGIN:VEVENT
DTSTART;TZID=Europe/Amsterdam:20250330T100000
DTEND;TZID=Europe/Amsterdam:20250330T113000
DTSTAMP:20260419T201324
CREATED:20250125T114201Z
LAST-MODIFIED:20250328T154851Z
UID:5178-1743328800-1743334200@ngk-hoogezand-sappemeer.nl
SUMMARY:Ds. G.A. Heek
DESCRIPTION:Deze dienst is on-line of later te volgen via Kerkdienstgemist\n\nLiturgie\nVotum/groet\nLied: Opw 462\nGebed\nBijbellezing: Handelingen 10: 44 – 48\nBijbellezing: Handelingen 15: 1 – 21\nLied: NLB 969\nPreek\nLied: Opw 769\nWet: Efeziërs 2\nLied: Opw 767\nGebed\nCollecte: Kerk en Emeritering\nSlotlied: Opw 705\nZegen \nBegeleiding: Jan Leemhuis\nSchriftlezing: Alco Huttenga \nKlik hier voor de liturgie met teksten\nU kunt uw bijdrage in de collecte overmaken via de Scipio-app of op NL 51 RABO 0329 1113 10 onder vermelding van “collecte on-line diensten”. De Commissie van Beheer zorgt dan voor de verdeling over de collectedoelen. \nEen goede dienst gewenst in verbondenheid
URL:https://ngk-hoogezand-sappemeer.nl/activiteit/ds-g-a-heek/
LOCATION:De Ark\, Rembrandtlaan 194\, Hoogezand\, Groningen\, 9601 XD\, Nederland
CATEGORIES:Kerkdienst
END:VEVENT
BEGIN:VEVENT
DTSTART;TZID=Europe/Amsterdam:20250330T163000
DTEND;TZID=Europe/Amsterdam:20250330T180000
DTSTAMP:20260419T201324
CREATED:20250125T114245Z
LAST-MODIFIED:20250328T160019Z
UID:5180-1743352200-1743357600@ngk-hoogezand-sappemeer.nl
SUMMARY:Ds. A.M. Pathuis
DESCRIPTION:Deze dienst is on-line of later te volgen via Kerkdienstgemist\n\nLiturgie\nVotum: GKB Psalm 121: 1 (a capella)\nGroet\nZingen: GKB Psalm 121: 2\, 3\, 4 (a capella)\nGebed\nSchriftlezing: Marcus 8: 29 – 33\nZingen: Liedboek 536 (a capella)\nSchriftlezing: Marcus 9: 2 – 10\nPreek\nZingen: Liedboek 575: 1\, 2\, 5\, 6\nTer inleiding op het gebed als luisterlied: Sela ‘Heer\, we kijken omhoog’\,\nDankgebed en voorbeden\nCollecte: Kerk en Emeritering\nLeefregel en geloofsbelijdenis: Filippenzen 2: 3 – 11\nZingen: Liedboek 835 (a capella)\nZegen \nKlik hier voor de liturgie met teksten\nU kunt uw bijdrage in de collecte overmaken via de Scipio-app of op NL 51 RABO 0329 1113 10 onder vermelding van “collecte on-line diensten”. De Commissie van Beheer zorgt dan voor de verdeling over de collectedoelen. \nEen goede dienst gewenst in verbondenheid
URL:https://ngk-hoogezand-sappemeer.nl/activiteit/ds-a-m-pathuis-38/
LOCATION:De Ark\, Rembrandtlaan 194\, Hoogezand\, Groningen\, 9601 XD\, Nederland
CATEGORIES:Kerkdienst
END:VEVENT
END:VCALENDAR