BEGIN:VCALENDAR
VERSION:2.0
PRODID:-//NGK Hoogezand-Sappemeer - ECPv6.3.7//NONSGML v1.0//EN
CALSCALE:GREGORIAN
METHOD:PUBLISH
X-ORIGINAL-URL:https://ngk-hoogezand-sappemeer.nl
X-WR-CALDESC:Evenementen voor NGK Hoogezand-Sappemeer
REFRESH-INTERVAL;VALUE=DURATION:PT1H
X-Robots-Tag:noindex
X-PUBLISHED-TTL:PT1H
BEGIN:VTIMEZONE
TZID:Europe/Amsterdam
BEGIN:DAYLIGHT
TZOFFSETFROM:+0100
TZOFFSETTO:+0200
TZNAME:CEST
DTSTART:20250330T010000
END:DAYLIGHT
BEGIN:STANDARD
TZOFFSETFROM:+0200
TZOFFSETTO:+0100
TZNAME:CET
DTSTART:20251026T010000
END:STANDARD
END:VTIMEZONE
BEGIN:VEVENT
DTSTART;TZID=Europe/Amsterdam:20250202T100000
DTEND;TZID=Europe/Amsterdam:20250202T113000
DTSTAMP:20260419T213829
CREATED:20250115T210844Z
LAST-MODIFIED:20250131T194155Z
UID:5126-1738490400-1738495800@ngk-hoogezand-sappemeer.nl
SUMMARY:Ds. P.K. van de Kamp
DESCRIPTION:Deze dienst is on-line of later te volgen via Kerkdienstgemist\n\nLiturgie\nWelkom \nZingen: Lb. (2013) 276  \nStiltemoment \nAfhankelijkheidsbelijdenis & Vredegroet \nZingen: Gz. (2017) 163 \nZingen: Lb. (2013) 280 \nGebed \nLezing: Genesis 28: 10 – 22 \nZingen: Gz. (2017) 198  \nPreek  \nZingen: Lb. (2013) 416 \nHet evangelie van Gods Wet \nZingen: Psalm 147: 7  \nGebed voor Kerk & Wereld \nCollecte: Kerk en Zending en Hulpverlening \nZingen: Lb. (2013) 218  \nZegen \n\nBegeleiding: Jan Leemhuis \nSchriftlezing: Dineke Scherff \n\n  \nKlik hier voor de liturgie met teksten\nU kunt uw bijdrage in de collecte overmaken via de Scipio-app of op NL 51 RABO 0329 1113 10 onder vermelding van “collecte on-line diensten”. De Commissie van Beheer zorgt dan voor de verdeling over de collectedoelen. \nEen goede dienst gewenst in verbondenheid
URL:https://ngk-hoogezand-sappemeer.nl/activiteit/ds-p-k-van-de-kamp/
LOCATION:De Ark\, Rembrandtlaan 194\, Hoogezand\, Groningen\, 9601 XD\, Nederland
CATEGORIES:Kerkdienst
END:VEVENT
BEGIN:VEVENT
DTSTART;TZID=Europe/Amsterdam:20250202T163000
DTEND;TZID=Europe/Amsterdam:20250202T180000
DTSTAMP:20260419T213829
CREATED:20250115T211226Z
LAST-MODIFIED:20250131T194534Z
UID:5128-1738513800-1738519200@ngk-hoogezand-sappemeer.nl
SUMMARY:Zr. L. de Haan-Wilts
DESCRIPTION:Deze dienst is on-line of later te volgen via Kerkdienstgemist\n\nLiturgie\nWelkom en mededelingen \nMoment stilte \nVotum en groet \nZingen: De Nieuwe Psalmberijming 111: 1\, 4  \nGebed om opening Schriften \nLezing HC 24 v/a 62 en Lucas 12: 22 – 32 \n(NB: v/a 63 en 64 lees ik tijdens de preek) \nZingen: GK149  \nPreek \nZingen: De Nieuwe Psalmberijming 8: 1\, 3\, 4\, 6  \nApostolische geloofsbelijdenis \nZingen: Opwekking 123 \nDankgebed \nCollecte: Kerk en Zending en Hulpverlening \nZingen: LB 415: 1\, 2  \nZegen \nZingen: LB 415: 3 \n  \nKlik hier voor de liturgie met teksten\nU kunt uw bijdrage in de collecte overmaken via de Scipio-app of op NL 51 RABO 0329 1113 10 onder vermelding van “collecte on-line diensten”. De Commissie van Beheer zorgt dan voor de verdeling over de collectedoelen. \nEen goede dienst gewenst in verbondenheid
URL:https://ngk-hoogezand-sappemeer.nl/activiteit/zr-l-de-haan-wilts/
LOCATION:De Ark\, Rembrandtlaan 194\, Hoogezand\, Groningen\, 9601 XD\, Nederland
CATEGORIES:Kerkdienst
END:VEVENT
BEGIN:VEVENT
DTSTART;TZID=Europe/Amsterdam:20250209T100000
DTEND;TZID=Europe/Amsterdam:20250209T113000
DTSTAMP:20260419T213829
CREATED:20250125T111950Z
LAST-MODIFIED:20250208T084204Z
UID:5148-1739095200-1739100600@ngk-hoogezand-sappemeer.nl
SUMMARY:Ds. A.M. Pathuis
DESCRIPTION:Deze dienst is on-line of later te volgen via Kerkdienstgemist\n\nLiturgie\nVotum: Opwekking 640 (Psalm 121)\nGroet\nLezen: Psalm 19: 2 – 3 (BGT)\nZingen: Opwekking 709 (Psalm 19)\nLeefregel: Psalm 19: 8 – 15 (BGT)\nZingen: Opwekking (Psalm 51)\nLezen: Psalm 103: 8 – 12 (BGT)\nGebed\nKindermoment\nZingen: Opwekking 733 (Psalm 103)\nInleiding Preek\nLezen: Psalm 86 (NBV21)\nPreek\nZingen: Sela ‘Huis van vrede’ (Psalm 84)\nDankgebed\nZingen: Sela ‘Ken mijn hart’ (Psalm 139)\nCollectemoment Kerk en Theologische Universiteit\nZingen: Sela ‘Als ik naar de bergen kijk’ (Psalm 121)\nZegen\nNa de dienst: Phil Wickham ‘Psalm 23’ \nBegeleiding: Nanno Siertsema en Menorah\nSchriftlezing: Sem Bolhuis \nKlik hier voor de liturgie met teksten\nU kunt uw bijdrage in de collecte overmaken via de Scipio-app of op NL 51 RABO 0329 1113 10 onder vermelding van “collecte on-line diensten”. De Commissie van Beheer zorgt dan voor de verdeling over de collectedoelen. \nEen goede dienst gewenst in verbondenheid
URL:https://ngk-hoogezand-sappemeer.nl/activiteit/ds-a-m-pathuis-34/
LOCATION:De Ark\, Rembrandtlaan 194\, Hoogezand\, Groningen\, 9601 XD\, Nederland
CATEGORIES:Kerkdienst
END:VEVENT
BEGIN:VEVENT
DTSTART;TZID=Europe/Amsterdam:20250209T163000
DTEND;TZID=Europe/Amsterdam:20250209T180000
DTSTAMP:20260419T213829
CREATED:20250125T113210Z
LAST-MODIFIED:20250208T084622Z
UID:5166-1739118600-1739124000@ngk-hoogezand-sappemeer.nl
SUMMARY:Br. B.R. Munneke
DESCRIPTION:Deze dienst is on-line of later te volgen via Kerkdienstgemist\n\nLiturgie\nVotum/groet\nZingen Ps 103: 5\nGebed\nLezen Johannes 1: 19 – 35\nZingen Gez 200\nPreek\nZingen “O\, God\, almachtige” \nGebed\nCollecte Kerk en Theologische Universiteit\nGeloofsbelijdenis\, zingen Gez 179a\nZegen \nKlik hier voor de liturgie met teksten\nU kunt uw bijdrage in de collecte overmaken via de Scipio-app of op NL 51 RABO 0329 1113 10 onder vermelding van “collecte on-line diensten”. De Commissie van Beheer zorgt dan voor de verdeling over de collectedoelen. \nEen goede dienst gewenst in verbondenheid
URL:https://ngk-hoogezand-sappemeer.nl/activiteit/br-p-braam-17/
LOCATION:De Ark\, Rembrandtlaan 194\, Hoogezand\, Groningen\, 9601 XD\, Nederland
CATEGORIES:Kerkdienst
END:VEVENT
BEGIN:VEVENT
DTSTART;TZID=Europe/Amsterdam:20250216T100000
DTEND;TZID=Europe/Amsterdam:20250216T113000
DTSTAMP:20260419T213829
CREATED:20250125T112149Z
LAST-MODIFIED:20250215T113658Z
UID:5152-1739700000-1739705400@ngk-hoogezand-sappemeer.nl
SUMMARY:Ds. A.M. Pathuis - Heilig Avondmaal
DESCRIPTION:Deze dienst is on-line of later te volgen via Kerkdienstgemist\n\nLiturgie\nZingen: Sela\, Een toekomst vol van hoop\nVotum (gesproken) en groet\nZingen: Opwekking 642\nWetlezing: Deuteronomium 5: 6 – 21\nLuisterlied: Psalmen voor Nu 1\nGebed\nLezen: Jeremia 17: 1 – 11\nZingen: DNP Psalm 125\nLezen: Lucas 6: 17 – 26\nPreek\nZingen: Liedboek 912\nDankgebed en voorbede\nZingen: Liedboek 995\nViering Heilig Avondmaal\n– Collecte Diaconie en kerk\n– Gebed\n– Zingen: Liedboek 381: 1\, 2\, 3\, 4\, 5\n– Opwekking en uitnodiging\, viering\n– Zingen: Liedboek 381: 6\nZingen: DNP Psalm 67\nZegen\nZingen: Lied 416 \nBegeleiding: Jan Leemhuis\nSchriftlezing: Tea Snip \nKlik hier voor de liturgie met teksten\nU kunt uw bijdrage in de collecte overmaken via de Scipio-app of op NL 51 RABO 0329 1113 10 onder vermelding van “collecte on-line diensten”. De Commissie van Beheer zorgt dan voor de verdeling over de collectedoelen. \nEen goede dienst gewenst in verbondenheid
URL:https://ngk-hoogezand-sappemeer.nl/activiteit/ds-a-m-pathuis-heilig-avondmaal-11/
LOCATION:De Ark\, Rembrandtlaan 194\, Hoogezand\, Groningen\, 9601 XD\, Nederland
CATEGORIES:Kerkdienst
END:VEVENT
BEGIN:VEVENT
DTSTART;TZID=Europe/Amsterdam:20250216T163000
DTEND;TZID=Europe/Amsterdam:20250216T180000
DTSTAMP:20260419T213829
CREATED:20250125T112250Z
LAST-MODIFIED:20250215T113844Z
UID:5154-1739723400-1739728800@ngk-hoogezand-sappemeer.nl
SUMMARY:Ds. H. Zeilstra - Heilig Avondmaal
DESCRIPTION:Deze dienst is on-line of later te volgen via Kerkdienstgemist\n\nLiturgie\nVotum en zegengroet\nLvdK Gezang 323: 1\, 2\nViering Avondmaal form 5\nGeloofsbelijdenis\nPsalm 89: 7\nViering\nGebed\nJesaja 57: 14 – 21\nPsalm 103: 9\nMatteüs 11: 20 – 30\nPreek\nLvdK Gezang 436: 1\, 4\,\nGebed\nCollecte diaconie en kerk\nGK06 Gezang 162: 1\, 3\, 4\nZegen \nKlik hier voor de liturgie met teksten\nU kunt uw bijdrage in de collecte overmaken via de Scipio-app of op NL 51 RABO 0329 1113 10 onder vermelding van “collecte on-line diensten”. De Commissie van Beheer zorgt dan voor de verdeling over de collectedoelen. \nEen goede dienst gewenst in verbondenheid
URL:https://ngk-hoogezand-sappemeer.nl/activiteit/ds-h-zeilstra-heilig-avondmaal/
LOCATION:De Ark\, Rembrandtlaan 194\, Hoogezand\, Groningen\, 9601 XD\, Nederland
CATEGORIES:Kerkdienst
END:VEVENT
BEGIN:VEVENT
DTSTART;TZID=Europe/Amsterdam:20250223T100000
DTEND;TZID=Europe/Amsterdam:20250223T113000
DTSTAMP:20260419T213829
CREATED:20250125T112350Z
LAST-MODIFIED:20250221T162218Z
UID:5156-1740304800-1740310200@ngk-hoogezand-sappemeer.nl
SUMMARY:Br. G.J. Bondt
DESCRIPTION:Deze dienst is on-line of later te volgen via Kerkdienstgemist\n\nLiturgie\nOpw. 464 als votum\nBegroeting;\nLB. 287: 1\, 2\, 5\nGebed (begin kidsclub)\nLezen: Johannes 1: 35 – 51\nPs. 139: 1\, 11\nPreek\nGK 198\nGebed\nWet\nWeerklank 451\nCollecte Kerk en Evangelisatie\nLB 441: 1\, 5\, 6\nZegen \nBegeleiding: Nanno Siertsema\nSchriftlezing: Benno Munneke \nKlik hier voor de liturgie met teksten\nU kunt uw bijdrage in de collecte overmaken via de Scipio-app of op NL 51 RABO 0329 1113 10 onder vermelding van “collecte on-line diensten”. De Commissie van Beheer zorgt dan voor de verdeling over de collectedoelen. \nEen goede dienst gewenst in verbondenheid
URL:https://ngk-hoogezand-sappemeer.nl/activiteit/br-g-j-bondt-21/
LOCATION:De Ark\, Rembrandtlaan 194\, Hoogezand\, Groningen\, 9601 XD\, Nederland
CATEGORIES:Kerkdienst
END:VEVENT
BEGIN:VEVENT
DTSTART;TZID=Europe/Amsterdam:20250225T194500
DTEND;TZID=Europe/Amsterdam:20250225T214000
DTSTAMP:20260419T213829
CREATED:20250225T080554Z
LAST-MODIFIED:20250225T080554Z
UID:5208-1740512700-1740519600@ngk-hoogezand-sappemeer.nl
SUMMARY:Gespreksavond LHBTI
DESCRIPTION:Deze avond is alleen on-line te volgen via Kerkdienstgemist\n\nProgramma\n19.45 Opening \n20.00 Introductie en individuele opdracht (o.l.v. Cors Visser) \n20.30/40 Via koffie en thee in groepjes in gesprek (wordt niet uitgezonden) \n21.25 Afronding in de kerkzaal (o.l.v. Cors Visser) \n21.40 Sluiting
URL:https://ngk-hoogezand-sappemeer.nl/activiteit/gespreksavond-lhbti/
LOCATION:De Ark\, Rembrandtlaan 194\, Hoogezand\, Groningen\, 9601 XD\, Nederland
CATEGORIES:Kerkdienst
END:VEVENT
END:VCALENDAR