BEGIN:VCALENDAR
VERSION:2.0
PRODID:-//NGK Hoogezand-Sappemeer - ECPv6.3.7//NONSGML v1.0//EN
CALSCALE:GREGORIAN
METHOD:PUBLISH
X-WR-CALNAME:NGK Hoogezand-Sappemeer
X-ORIGINAL-URL:https://ngk-hoogezand-sappemeer.nl
X-WR-CALDESC:Evenementen voor NGK Hoogezand-Sappemeer
REFRESH-INTERVAL;VALUE=DURATION:PT1H
X-Robots-Tag:noindex
X-PUBLISHED-TTL:PT1H
BEGIN:VTIMEZONE
TZID:Europe/Amsterdam
BEGIN:DAYLIGHT
TZOFFSETFROM:+0100
TZOFFSETTO:+0200
TZNAME:CEST
DTSTART:20240331T010000
END:DAYLIGHT
BEGIN:STANDARD
TZOFFSETFROM:+0200
TZOFFSETTO:+0100
TZNAME:CET
DTSTART:20241027T010000
END:STANDARD
END:VTIMEZONE
BEGIN:VEVENT
DTSTART;TZID=Europe/Amsterdam:20241103T100000
DTEND;TZID=Europe/Amsterdam:20241103T113000
DTSTAMP:20260420T021712
CREATED:20241001T133806Z
LAST-MODIFIED:20241102T211242Z
UID:4928-1730628000-1730633400@ngk-hoogezand-sappemeer.nl
SUMMARY:Br. B.R. Munneke
DESCRIPTION:Deze dienst is on-line of later te volgen via Kerkdienstgemist\n\nLiturgie\nVotum en groet\nZingen: GK Gezang 1: 1\, 3\, 6\nGebed\nToewijding (Marcus 7: 8 – 23)\nZingen: NLB 838\nKindermoment\nZingen: Psalm 150: 2\nLezen: Marcus 7: 24 – 30\nLezen: Efeziërs 2 : 11 – 22\nZingen: Psalm 116 : 1\, 11\nTekst: Marcus 7: 24 – 30\nThema: Gods genade kent geen grenzen!\nZingen: Uw woord is een lamp voor mijn voet\nDank- en voorbedengebed\nCollecte Kerk en Emeritering\nZingen: NLB 904: 1\, 4\, 5\nZegen \nBegeleiding: Nanno Siertsema\nBegeleiding: Erik Scherff\nSchriftlezing: Tobias Metscher\nSchriftlezing: Femke Bondt \nKlik hier voor de liturgie met teksten\nU kunt uw bijdrage in de collecte overmaken via de Scipio-app of op NL 51 RABO 0329 1113 10 onder vermelding van “collecte on-line diensten”. De Commissie van Beheer zorgt dan voor de verdeling over de collectedoelen. \nEen goede dienst gewenst in verbondenheid
URL:https://ngk-hoogezand-sappemeer.nl/activiteit/br-b-r-munneke-9/
LOCATION:De Ark\, Rembrandtlaan 194\, Hoogezand\, Groningen\, 9601 XD\, Nederland
CATEGORIES:Kerkdienst
END:VEVENT
BEGIN:VEVENT
DTSTART;TZID=Europe/Amsterdam:20241103T163000
DTEND;TZID=Europe/Amsterdam:20241103T180000
DTSTAMP:20260420T021712
CREATED:20241001T133847Z
LAST-MODIFIED:20241102T211429Z
UID:4930-1730651400-1730656800@ngk-hoogezand-sappemeer.nl
SUMMARY:Ds. J.W. Roosenbrand
DESCRIPTION:Deze dienst is on-line of later te volgen via Kerkdienstgemist\n\nLiturgie\nVotum en groet\nOpwekking 123 \nGebed \nLezing Genesis 32: 4 – 33: 16 \nOpwekking 642\nPreek  \nSela: een toekomst vol van hoop. \nGeloofsbelijdenis \nPsalm 146: 1\, 2\, 3 \nGebeden   \nCollecten Kerk en Emeritering\nOpwekking 124 \nZegen \nKlik hier voor de liturgie met teksten\nU kunt uw bijdrage in de collecte overmaken via de Scipio-app of op NL 51 RABO 0329 1113 10 onder vermelding van “collecte on-line diensten”. De Commissie van Beheer zorgt dan voor de verdeling over de collectedoelen. \nEen goede dienst gewenst in verbondenheid
URL:https://ngk-hoogezand-sappemeer.nl/activiteit/ds-j-w-roosenbrand-9/
LOCATION:De Ark\, Rembrandtlaan 194\, Hoogezand\, Groningen\, 9601 XD\, Nederland
CATEGORIES:Kerkdienst
END:VEVENT
BEGIN:VEVENT
DTSTART;TZID=Europe/Amsterdam:20241110T100000
DTEND;TZID=Europe/Amsterdam:20241110T113000
DTSTAMP:20260420T021712
CREATED:20241106T200635Z
LAST-MODIFIED:20241109T193507Z
UID:4979-1731232800-1731238200@ngk-hoogezand-sappemeer.nl
SUMMARY:Ds. A.M. Pathuis
DESCRIPTION:Deze dienst is on-line of later te volgen via Kerkdienstgemist\n\nLiturgie\nVotum en groet\nZingen: DNP Psalm 100\nLeefregel: Galaten 5: 16 – 23\nZingen: Liedboek 51b\nGebed\nKindermoment\nZingen: Kinderopwekking 8\nLezen: 1 Korintiërs 12: 1 – 13\nZingen: Opwekking 464\nPreek\nZingen: Liedboek 971\nDankgebed\nCollecte: Kerk en Zending & Hulpverlening\nZingen: Opwekking 520\nZegen \nBegeleiding: Jan Leemhuis\nSchriftlezing: Dineke Scherff \nKlik hier voor de liturgie met teksten\nU kunt uw bijdrage in de collecte overmaken via de Scipio-app of op NL 51 RABO 0329 1113 10 onder vermelding van “collecte on-line diensten”. De Commissie van Beheer zorgt dan voor de verdeling over de collectedoelen. \nEen goede dienst gewenst in verbondenheid
URL:https://ngk-hoogezand-sappemeer.nl/activiteit/ds-a-m-pathuis-28/
LOCATION:De Ark\, Rembrandtlaan 194\, Hoogezand\, Groningen\, 9601 XD\, Nederland
CATEGORIES:Kerkdienst
END:VEVENT
BEGIN:VEVENT
DTSTART;TZID=Europe/Amsterdam:20241110T163000
DTEND;TZID=Europe/Amsterdam:20241110T180000
DTSTAMP:20260420T021712
CREATED:20241106T200908Z
LAST-MODIFIED:20241106T200908Z
UID:4982-1731256200-1731261600@ngk-hoogezand-sappemeer.nl
SUMMARY:Ds. F. Rinkema
DESCRIPTION:Deze dienst is on-line of later te volgen via Kerkdienstgemist\n\nLiturgie\nVOLGT ZODRA BEKEND \nKlik hier voor de liturgie met teksten\nU kunt uw bijdrage in de collecte overmaken via de Scipio-app of op NL 51 RABO 0329 1113 10 onder vermelding van “collecte on-line diensten”. De Commissie van Beheer zorgt dan voor de verdeling over de collectedoelen. \nEen goede dienst gewenst in verbondenheid
URL:https://ngk-hoogezand-sappemeer.nl/activiteit/ds-f-rinkema-6/
LOCATION:De Ark\, Rembrandtlaan 194\, Hoogezand\, Groningen\, 9601 XD\, Nederland
CATEGORIES:Kerkdienst
END:VEVENT
BEGIN:VEVENT
DTSTART;TZID=Europe/Amsterdam:20241117T100000
DTEND;TZID=Europe/Amsterdam:20241117T113000
DTSTAMP:20260420T021712
CREATED:20241106T200312Z
LAST-MODIFIED:20241115T214853Z
UID:4975-1731837600-1731843000@ngk-hoogezand-sappemeer.nl
SUMMARY:Zr. C.L. Prins
DESCRIPTION:Deze dienst is on-line of later te volgen via Kerkdienstgemist\n\nLiturgie\nWelkom en mededelingen\nGezongen votum en groet\nZingen: Lied 838 (2013): 1 – 3\nZingen: Opwekking 642\nGebed\nKindermoment\nLezen: Marcus 3: 7 – 19 (Bijbel in gewone taal)\nLezen: Marcus 6: 7 – 13 (Bijbel in gewone taal)\nPreek: Hoe ben je christen in de praktijk?\nLuisterlied: The Afters – I will fear no more\nZingen: Sela – laat ons samen één zijn\nDankgebed en voorbeden\nLeefregel\nZingen: Hillsong – Who you say I am\nZingen: Opwekking 832\nCollecte: Kerk en Theologische Universiteit\nZingen: Opwekking 849\nZingen: Opwekking 124\nZegen en amen \nBegeleiding: Nanno Siertsema\nSchriftlezing: Valeria Moedt \nKlik hier voor de liturgie met teksten\nU kunt uw bijdrage in de collecte overmaken via de Scipio-app of op NL 51 RABO 0329 1113 10 onder vermelding van “collecte on-line diensten”. De Commissie van Beheer zorgt dan voor de verdeling over de collectedoelen. \nEen goede dienst gewenst in verbondenheid
URL:https://ngk-hoogezand-sappemeer.nl/activiteit/zr-c-l-prins-7/
LOCATION:De Ark\, Rembrandtlaan 194\, Hoogezand\, Groningen\, 9601 XD\, Nederland
CATEGORIES:Kerkdienst
END:VEVENT
BEGIN:VEVENT
DTSTART;TZID=Europe/Amsterdam:20241117T163000
DTEND;TZID=Europe/Amsterdam:20241117T180000
DTSTAMP:20260420T021712
CREATED:20241106T200427Z
LAST-MODIFIED:20241115T215122Z
UID:4977-1731861000-1731866400@ngk-hoogezand-sappemeer.nl
SUMMARY:Ds. N.W. Dijksterhuis
DESCRIPTION:Deze dienst is on-line of later te volgen via Kerkdienstgemist\n\nLiturgie\nWelkom en mededelingen.\nVotum en groet.\nZingen Psalm 63: 1\, 2.\nGebed om de opening van het woord.\nLezen Johannes 4: 1 – 26.\nZingen LB Gezang 653: 1\, 3\, 7.\nTekst Johannes 4: 13\, 14.\nVerkondiging.\nZingen (als geloofsbelijdenis): LB Gezang 342.\nDankgebed.\nCollecte: Kerk en Theologische Universiteit\nSlotzang Psalm 23.\nZegen. \nKlik hier voor de liturgie met teksten\nU kunt uw bijdrage in de collecte overmaken via de Scipio-app of op NL 51 RABO 0329 1113 10 onder vermelding van “collecte on-line diensten”. De Commissie van Beheer zorgt dan voor de verdeling over de collectedoelen. \nEen goede dienst gewenst in verbondenheid
URL:https://ngk-hoogezand-sappemeer.nl/activiteit/ds-n-dijksterhuis/
LOCATION:De Ark\, Rembrandtlaan 194\, Hoogezand\, Groningen\, 9601 XD\, Nederland
CATEGORIES:Kerkdienst
END:VEVENT
BEGIN:VEVENT
DTSTART;TZID=Europe/Amsterdam:20241124T100000
DTEND;TZID=Europe/Amsterdam:20241124T113000
DTSTAMP:20260420T021712
CREATED:20241106T201049Z
LAST-MODIFIED:20241122T215426Z
UID:4984-1732442400-1732447800@ngk-hoogezand-sappemeer.nl
SUMMARY:Ds. A.M. Pathuis - Gedachteniszondag
DESCRIPTION:Deze dienst is on-line of later te volgen via Kerkdienstgemist\n\nLiturgie\nVotum en groet\nZingen: Liedboek 23c\nGebed\nLezen: 1 Thessalonicenzen 4: 13 – 5: 11\nPreek\nZingen: Liedboek 728 ‘De heiligen\, ons voorgegaan’\nGedachtenismoment\n– Inleiding \n– Zingen: Liedboek 91a: 1\, 3\n– Jan Steenhuis (13 okt. 1962 – 4 feb. 2024)\n– Marnix Beekman (23 jan. 1988 – 15 feb. 2024)\n– Egbert Prins (28 aug. 1939 – 26 feb. 2024)\n– Henk Pomp (3 nov. 1933 – 1 mei 2024)\n– Linda Prins (8 sept. 1944 – 23 juni 2024)\n– Aafien Oldenburger (13 april 1924 – 27 juni 2024)\n– Algemeen gedachtenismoment\n  Ondertussen Sela ‘De mensen die we missen’\nZingen: Sela ‘Een toekomst vol van hoop’\nLuisterlied: Marcel & Lydia Zimmer ‘Hij is erbij’\nDankgebed\nCollectemoment Kerk en Evangelisatie\nZingen: Liedboek 766\nZegen \nBegeleiding: Jan Leemhuis\nSchriftlezing: Wim Harmanny \nKlik hier voor de liturgie met teksten\nU kunt uw bijdrage in de collecte overmaken via de Scipio-app of op NL 51 RABO 0329 1113 10 onder vermelding van “collecte on-line diensten”. De Commissie van Beheer zorgt dan voor de verdeling over de collectedoelen. \nEen goede dienst gewenst in verbondenheid
URL:https://ngk-hoogezand-sappemeer.nl/activiteit/ds-a-m-pathuis-gedachteniszondag/
LOCATION:De Ark\, Rembrandtlaan 194\, Hoogezand\, Groningen\, 9601 XD\, Nederland
CATEGORIES:Kerkdienst
END:VEVENT
BEGIN:VEVENT
DTSTART;TZID=Europe/Amsterdam:20241124T163000
DTEND;TZID=Europe/Amsterdam:20241124T180000
DTSTAMP:20260420T021712
CREATED:20241106T201137Z
LAST-MODIFIED:20241122T215654Z
UID:4986-1732465800-1732471200@ngk-hoogezand-sappemeer.nl
SUMMARY:Ds. H. van Noort
DESCRIPTION:Deze dienst is on-line of later te volgen via Kerkdienstgemist\n\nLiturgie\nStilte\nVotum en groet\nZingen GK Psalm 19: 1\, 4\nGebed\nLezen HC zondag 9\nZingen (belijdenis) GK gezang 176: 1\nLezen Openbaring 1: 4 – 8\nVerkondiging (deel 1)\nZingen GK Psalm 55: 9\nLezen Mattheus 6: 30 – 34\nVerkondiging (deel 2)\nZingen GK gezang 250: 1\, 2\nGebed\nCollecte Kerk en Evangelisatie\nZingen NLB 413\nZegen \nKlik hier voor de liturgie met teksten\nU kunt uw bijdrage in de collecte overmaken via de Scipio-app of op NL 51 RABO 0329 1113 10 onder vermelding van “collecte on-line diensten”. De Commissie van Beheer zorgt dan voor de verdeling over de collectedoelen. \nEen goede dienst gewenst in verbondenheid
URL:https://ngk-hoogezand-sappemeer.nl/activiteit/ds-h-van-noort-4/
LOCATION:De Ark\, Rembrandtlaan 194\, Hoogezand\, Groningen\, 9601 XD\, Nederland
CATEGORIES:Kerkdienst
END:VEVENT
END:VCALENDAR