BEGIN:VCALENDAR
VERSION:2.0
PRODID:-//NGK Hoogezand-Sappemeer - ECPv6.3.7//NONSGML v1.0//EN
CALSCALE:GREGORIAN
METHOD:PUBLISH
X-ORIGINAL-URL:https://ngk-hoogezand-sappemeer.nl
X-WR-CALDESC:Evenementen voor NGK Hoogezand-Sappemeer
REFRESH-INTERVAL;VALUE=DURATION:PT1H
X-Robots-Tag:noindex
X-PUBLISHED-TTL:PT1H
BEGIN:VTIMEZONE
TZID:Europe/Amsterdam
BEGIN:DAYLIGHT
TZOFFSETFROM:+0100
TZOFFSETTO:+0200
TZNAME:CEST
DTSTART:20240331T010000
END:DAYLIGHT
BEGIN:STANDARD
TZOFFSETFROM:+0200
TZOFFSETTO:+0100
TZNAME:CET
DTSTART:20241027T010000
END:STANDARD
END:VTIMEZONE
BEGIN:VEVENT
DTSTART;TZID=Europe/Amsterdam:20240901T100000
DTEND;TZID=Europe/Amsterdam:20240901T113000
DTSTAMP:20260420T052915
CREATED:20240827T201113Z
LAST-MODIFIED:20240831T084833Z
UID:4870-1725184800-1725190200@ngk-hoogezand-sappemeer.nl
SUMMARY:Ds. A.M. Pathuis - Heilig Avondmaal
DESCRIPTION:Deze dienst is on-line of later te volgen via Kerkdienstgemist\n\nLiturgie\nWelkom en mededelingen\nVotum en groet\nZingen: DNP Psalm 111: 1\, 3\, 4\nGebed\nKindermoment\nLied: Marcel & Lydia ‘De Heer is mijn herder’\nLezen: 1 Koningen 17: 1 – 16\nZingen: DNP Psalm 126: 2\nPreek\nZingen: PvN Psalm 16 (Opwekking 727)\nDankgebed en voorbeden\nViering Heilig Avondmaal\nCollecte Diaconie en Kerk\nZingen: Liedboek 718: 1\, 4\nUitleg bij het Avondmaal\nGebed\nZingen: Liedboek 381: 1\, 2\, 3\, 4\, 5\nOpwekking en uitnodiging\, viering\nZingen: Liedboek 381: 6\nZegen\nZingen: Opwekking 710 \nBegeleiding: Jan Leemhuis\nSchriftlezing: Erna Maring \nKlik hier voor de liturgie met teksten\nU kunt uw bijdrage in de collecte overmaken via de Scipio-app of op NL 51 RABO 0329 1113 10 onder vermelding van “collecte on-line diensten”. De Commissie van Beheer zorgt dan voor de verdeling over de collectedoelen. \nEen goede dienst gewenst in verbondenheid
URL:https://ngk-hoogezand-sappemeer.nl/activiteit/ds-a-m-pathuis-heilig-avondmaal-8/
LOCATION:De Ark\, Rembrandtlaan 194\, Hoogezand\, Groningen\, 9601 XD\, Nederland
CATEGORIES:Kerkdienst
END:VEVENT
BEGIN:VEVENT
DTSTART;TZID=Europe/Amsterdam:20240901T163000
DTEND;TZID=Europe/Amsterdam:20240901T180000
DTSTAMP:20260420T052915
CREATED:20240827T201211Z
LAST-MODIFIED:20240831T085057Z
UID:4872-1725208200-1725213600@ngk-hoogezand-sappemeer.nl
SUMMARY:Ds. R. Sietsma - Heilig Avondmaal
DESCRIPTION:Deze dienst is on-line of later te volgen via Kerkdienstgemist\n\nLiturgie\nWelkom\, mededelingen\nZingen: Opwekking 7\nGebed\nViering Avondmaal – Formulier 4\nZingen voor de viering: LvK ’73 182: 1\nNa de viering: LvK ’73 182: 6\nLezen: 1 Timoteüs 2: 1 – 7\nLezen: 2 Petrus 3: 1 – 10\nZingen: LvK ‘73 328\nLezen uit HC Zondag 11.29 en uit de Gewone Catechismus 20\nPreek\, thema: Moet het per sé Jezus zijn?\nCredo zingen: GK ‘13 177\nGebed\nCollecte Diaconie en Kerk\nSlotzang Opwekking 727\nZegen \nKlik hier voor de liturgie met teksten\nU kunt uw bijdrage in de collecte overmaken via de Scipio-app of op NL 51 RABO 0329 1113 10 onder vermelding van “collecte on-line diensten”. De Commissie van Beheer zorgt dan voor de verdeling over de collectedoelen. \nEen goede dienst gewenst in verbondenheid
URL:https://ngk-hoogezand-sappemeer.nl/activiteit/ds-r-sietsma-heilig-avondmaal/
LOCATION:De Ark\, Rembrandtlaan 194\, Hoogezand\, Groningen\, 9601 XD\, Nederland
CATEGORIES:Kerkdienst
END:VEVENT
BEGIN:VEVENT
DTSTART;TZID=Europe/Amsterdam:20240908T103000
DTEND;TZID=Europe/Amsterdam:20240908T120000
DTSTAMP:20260420T052915
CREATED:20240827T201521Z
LAST-MODIFIED:20240906T195927Z
UID:4876-1725791400-1725796800@ngk-hoogezand-sappemeer.nl
SUMMARY:Ds. A.M. Pathuis - Startzondag
DESCRIPTION:Deze dienst is on-line of later te volgen via Kerkdienstgemist\n\nLiturgie\nWelkom en mededelingen\nZingen: Liedboek 405\nVotum en groet\nZingen: Opwekking 277\nZingen: Opwekking 464\nGebed\nKindermoment\nZingen: Kinderopwekking 211\nLezen: Jozua 3: 14 – 4: 11\nPreek\nZingen: Opwekking 789\nCollecte Kerk en Zending & Hulpverlening\nGetuigenis/oproepje\nZingen: Opwekking 687: 1\, 4\nDankgebed\nToelichting bij vervolg van de startzondag\nZingen: Opwekking 798\nZegen  \nBegeleiding: Nanno Siertsema\nSchriftlezing: Tonny Prins \nKlik hier voor de liturgie met teksten\nU kunt uw bijdrage in de collecte overmaken via de Scipio-app of op NL 51 RABO 0329 1113 10 onder vermelding van “collecte on-line diensten”. De Commissie van Beheer zorgt dan voor de verdeling over de collectedoelen. \nEen goede dienst gewenst in verbondenheid
URL:https://ngk-hoogezand-sappemeer.nl/activiteit/ds-a-m-pathuis-startzondag/
LOCATION:De Ark\, Rembrandtlaan 194\, Hoogezand\, Groningen\, 9601 XD\, Nederland
CATEGORIES:Kerkdienst
END:VEVENT
BEGIN:VEVENT
DTSTART;TZID=Europe/Amsterdam:20240915T100000
DTEND;TZID=Europe/Amsterdam:20240915T113000
DTSTAMP:20260420T052915
CREATED:20240827T201716Z
LAST-MODIFIED:20240913T084138Z
UID:4878-1726394400-1726399800@ngk-hoogezand-sappemeer.nl
SUMMARY:Ds. A.J.Th. van der Scheer
DESCRIPTION:Deze dienst is on-line of later te volgen via Kerkdienstgemist\n\nLiturgie\nVotum en groet\nZingen Psalm 90: 1\, 8\nGebed\nLezen Hosea 1: 1 – 2: 5 en 3: 1 – 5\nZingen Psalm 95: 1 en 3\nTekst Hosea 11\nZingen GK Gezang 160\nPreek\nZingen GK Gezang 161 (Belijdenis)\nVoorbedegebed\nCollecte Kerk en Theologische Universiteit\nZingen LvdK Gezang 481\nZegen \nBegeleiding: Jan Leemhuis\nSchriftlezing: Tea Snip \nU kunt uw bijdrage in de collecte overmaken via de Scipio-app of op NL 51 RABO 0329 1113 10 onder vermelding van “collecte on-line diensten”. De Commissie van Beheer zorgt dan voor de verdeling over de collectedoelen. \nEen goede dienst gewenst in verbondenheid
URL:https://ngk-hoogezand-sappemeer.nl/activiteit/ds-a-j-th-van-der-scheer/
LOCATION:De Ark\, Rembrandtlaan 194\, Hoogezand\, Groningen\, 9601 XD\, Nederland
CATEGORIES:Kerkdienst
END:VEVENT
BEGIN:VEVENT
DTSTART;TZID=Europe/Amsterdam:20240915T163000
DTEND;TZID=Europe/Amsterdam:20240915T180000
DTSTAMP:20260420T052915
CREATED:20240827T201832Z
LAST-MODIFIED:20240913T084302Z
UID:4880-1726417800-1726423200@ngk-hoogezand-sappemeer.nl
SUMMARY:Ds. H. van Noort
DESCRIPTION:Deze dienst is on-line of later te volgen via Kerkdienstgemist\n\nLiturgie\nStilte\nVotum en groet\nZingen GK gezang 8a: 1\, 4\nGebed\nLezen Psalm 8\nZingen Opwekking voor kinderen 301\nVerkondiging\nZingen GK gezang 8a: 2\, 3\nBelijdenis\nZingen NLB 978: 1\, 4\nGebed\nCollecte Kerk en Theologische Universiteit\nZingen Opwekking 407\nZegen \nU kunt uw bijdrage in de collecte overmaken via de Scipio-app of op NL 51 RABO 0329 1113 10 onder vermelding van “collecte on-line diensten”. De Commissie van Beheer zorgt dan voor de verdeling over de collectedoelen. \nEen goede dienst gewenst in verbondenheid
URL:https://ngk-hoogezand-sappemeer.nl/activiteit/ds-h-van-noort-3/
LOCATION:De Ark\, Rembrandtlaan 194\, Hoogezand\, Groningen\, 9601 XD\, Nederland
CATEGORIES:Kerkdienst
END:VEVENT
BEGIN:VEVENT
DTSTART;TZID=Europe/Amsterdam:20240922T100000
DTEND;TZID=Europe/Amsterdam:20240922T113000
DTSTAMP:20260420T052915
CREATED:20240827T201936Z
LAST-MODIFIED:20240921T142126Z
UID:4882-1726999200-1727004600@ngk-hoogezand-sappemeer.nl
SUMMARY:Ds. A.M. Pathuis
DESCRIPTION:Deze dienst is on-line of later te volgen via Kerkdienstgemist\n\nLiturgie\nWelkom en mededelingen\nVotum en groet\nZingen: PvN Psalm 84 ‘Wat hou ik van uw huis’\nZingen: Opwekking 815 ‘Vul dit huis met uw glorie’\nDoopbediening aan Myrthe Esmee Sterenberg\no Uitleg bij de doop\no Gebed\no Zingen: Sela ‘Doop’\no Vragen aan de ouders\no Doopbediening\no Zingen: Hillsong ‘Oceans’\no Oproep aan de gemeente\no Doopkaart + roos\no Dankgebed\nLezen: Jozua 24:1-3 (t/m ‘nakomelingen.’) en 24:13-28\nPreek\nZingen: Opwekking 645 ‘Ik kies vandaag’\nCollecte Kerk en Evangelisatie\nZingen: Opwekking 717 ‘Stil\, mijn ziel wees stil’\nDankgebed en voorbeden\nLeefregel: Matteus 6:24-34\nZingen: Liedboek 838 ‘O grote God die liefde zijt’\nZegen \nU kunt uw bijdrage in de collecte overmaken via de Scipio-app of op NL 51 RABO 0329 1113 10 onder vermelding van “collecte on-line diensten”. De Commissie van Beheer zorgt dan voor de verdeling over de collectedoelen. \nEen goede dienst gewenst in verbondenheid
URL:https://ngk-hoogezand-sappemeer.nl/activiteit/ds-a-m-pathuis-26/
LOCATION:De Ark\, Rembrandtlaan 194\, Hoogezand\, Groningen\, 9601 XD\, Nederland
CATEGORIES:Kerkdienst
END:VEVENT
BEGIN:VEVENT
DTSTART;TZID=Europe/Amsterdam:20240922T163000
DTEND;TZID=Europe/Amsterdam:20240922T180000
DTSTAMP:20260420T052915
CREATED:20240827T202038Z
LAST-MODIFIED:20240928T133454Z
UID:4884-1727022600-1727028000@ngk-hoogezand-sappemeer.nl
SUMMARY:Ds. R. Sietsma
DESCRIPTION:Deze dienst is on-line of later te volgen via Kerkdienstgemist\n\nLiturgie\nWelkom\, mededelingen\nVotum en groet\nZingen: LB 968: 1\, 3\, 5\nGebed\nLezen: Openbaring 11: 1-14 en Daniël 2: 44-45\nZingen: LvK 109: 1\, 2\, 3 \nPreektekst: art. 27 NGB – Thema: Heeft de kerk nog toekomst?\nZingen: LvK 296: 1\, 3 \nGebed\nCollecte\nGezongen Credo: Weerklank 304 (Melodie LB 913) \nZegen \nU kunt uw bijdrage in de collecte overmaken via de Scipio-app of op NL 51 RABO 0329 1113 10 onder vermelding van “collecte on-line diensten”. De Commissie van Beheer zorgt dan voor de verdeling over de collectedoelen. \nEen goede dienst gewenst in verbondenheid
URL:https://ngk-hoogezand-sappemeer.nl/activiteit/ds-r-sietsma-10/
LOCATION:De Ark\, Rembrandtlaan 194\, Hoogezand\, Groningen\, 9601 XD\, Nederland
CATEGORIES:Kerkdienst
END:VEVENT
BEGIN:VEVENT
DTSTART;TZID=Europe/Amsterdam:20240929T100000
DTEND;TZID=Europe/Amsterdam:20240929T113000
DTSTAMP:20260420T052915
CREATED:20240827T202120Z
LAST-MODIFIED:20240928T132705Z
UID:4886-1727604000-1727609400@ngk-hoogezand-sappemeer.nl
SUMMARY:Ds. A.M. Pathuis
DESCRIPTION:Deze dienst is on-line of later te volgen via Kerkdienstgemist\n\nLiturgie\nWelkom en afkondigingen\nInleiding thema\nMoment van stilte\nZingen: DNP Psalm 65:1\, 2\nVotum en groet\nGebed\nZingen: Liedboek 273:1\, 2\, 4\nKindermoment\nZingen: Opwekking 281\nLezen: Leviticus 23:3\, Numeri 28:9-10\nen 1 Kronieken 23:30-32\nZingen: DNP Psalm 92:1\, 2\nPreek (lezen: Hebreeën 10:19-25)\nZingen: DNP Psalm 84:1\, 2\nCollecte Kerk en Emeritering\nDank- en voorbede\nZingen: Opwekking 436 ‘Onze Vader’\nZegen\nZingen: Opwekking 640 \nBegeleiding: Jan Leemhuis\nSchriftlezing: Francien Venhuizen \nU kunt uw bijdrage in de collecte overmaken via de Scipio-app of op NL 51 RABO 0329 1113 10 onder vermelding van “collecte on-line diensten”. De Commissie van Beheer zorgt dan voor de verdeling over de collectedoelen. \nEen goede dienst gewenst in verbondenheid
URL:https://ngk-hoogezand-sappemeer.nl/activiteit/ds-a-m-pathuis-27/
LOCATION:De Ark\, Rembrandtlaan 194\, Hoogezand\, Groningen\, 9601 XD\, Nederland
CATEGORIES:Kerkdienst
END:VEVENT
BEGIN:VEVENT
DTSTART;TZID=Europe/Amsterdam:20240929T163000
DTEND;TZID=Europe/Amsterdam:20240929T180000
DTSTAMP:20260420T052915
CREATED:20240827T202220Z
LAST-MODIFIED:20240928T133307Z
UID:4888-1727627400-1727632800@ngk-hoogezand-sappemeer.nl
SUMMARY:Ds. A.M. Pathuis
DESCRIPTION:Deze dienst is on-line of later te volgen via Kerkdienstgemist\n\nLiturgie\nWelkom en mededelingen\nVotum en groet\nZingen: Evangelische Liedbundel 262\nGebed\nZingen: Liedboek 314:1\, 2\, 3\nLezen: Numeri 11:4-17 en 24-30\nPreek\nLuisterlied: Sons of Korah ‘Psalm 19b’\nDankgebed\nGeloofsbelijdenis\nZingen: DNP Psalm 100:1\,2\,3\,4\nCollecte Kerk en Emeritering\nZingen: Liedboek 838:1\,2\,3\,4\nZegen \nU kunt uw bijdrage in de collecte overmaken via de Scipio-app of op NL 51 RABO 0329 1113 10 onder vermelding van “collecte on-line diensten”. De Commissie van Beheer zorgt dan voor de verdeling over de collectedoelen. \nEen goede dienst gewenst in verbondenheid
URL:https://ngk-hoogezand-sappemeer.nl/activiteit/ds-t-waalewijn-2/
LOCATION:De Ark\, Rembrandtlaan 194\, Hoogezand\, Groningen\, 9601 XD\, Nederland
CATEGORIES:Kerkdienst
END:VEVENT
END:VCALENDAR