BEGIN:VCALENDAR
VERSION:2.0
PRODID:-//NGK Hoogezand-Sappemeer - ECPv6.3.7//NONSGML v1.0//EN
CALSCALE:GREGORIAN
METHOD:PUBLISH
X-ORIGINAL-URL:https://ngk-hoogezand-sappemeer.nl
X-WR-CALDESC:Evenementen voor NGK Hoogezand-Sappemeer
REFRESH-INTERVAL;VALUE=DURATION:PT1H
X-Robots-Tag:noindex
X-PUBLISHED-TTL:PT1H
BEGIN:VTIMEZONE
TZID:Europe/Amsterdam
BEGIN:DAYLIGHT
TZOFFSETFROM:+0100
TZOFFSETTO:+0200
TZNAME:CEST
DTSTART:20240331T010000
END:DAYLIGHT
BEGIN:STANDARD
TZOFFSETFROM:+0200
TZOFFSETTO:+0100
TZNAME:CET
DTSTART:20241027T010000
END:STANDARD
END:VTIMEZONE
BEGIN:VEVENT
DTSTART;TZID=Europe/Amsterdam:20240804T100000
DTEND;TZID=Europe/Amsterdam:20240804T113000
DTSTAMP:20260420T065705
CREATED:20240716T200630Z
LAST-MODIFIED:20240802T152305Z
UID:4822-1722765600-1722771000@ngk-hoogezand-sappemeer.nl
SUMMARY:Br. P. Braam
DESCRIPTION:Deze dienst is on-line of later te volgen via Kerkdienstgemist\n\nLiturgie\nVotum – groet\nOpwekking 520\nGebed\nKindermoment\nLied – Hij Is Koning: Elly & Rikkert Zuiderveld\nLezen en tekst – 1 Koningen 3\nDNP 72: 1\, 2\, 7\nPreek; We bidden om een horend hart – een hart dat hoort\nGKB’ 06 Gezang 131: 1\, 7\, 9\nDankgebed\nCollecte Kerk en Emeritering\nGKB’ 06 Gezang 123 1 \,3 \,5 (lezen 2 en 4)\nZegen \nBegeleiding: Nanno Siertsema\nSchriftlezing: Antje Leemhuis \nKlik hier voor de liturgie met teksten\nU kunt uw bijdrage in de collecte overmaken via de Scipio-app of op NL 51 RABO 0329 1113 10 onder vermelding van “collecte on-line diensten”. De Commissie van Beheer zorgt dan voor de verdeling over de collectedoelen. \nEen goede dienst gewenst in verbondenheid
URL:https://ngk-hoogezand-sappemeer.nl/activiteit/br-p-braam-9/
LOCATION:De Ark\, Rembrandtlaan 194\, Hoogezand\, Groningen\, 9601 XD\, Nederland
CATEGORIES:Kerkdienst
END:VEVENT
BEGIN:VEVENT
DTSTART;TZID=Europe/Amsterdam:20240811T100000
DTEND;TZID=Europe/Amsterdam:20240811T113000
DTSTAMP:20260420T065705
CREATED:20240716T200727Z
LAST-MODIFIED:20240809T092215Z
UID:4824-1723370400-1723375800@ngk-hoogezand-sappemeer.nl
SUMMARY:Br. B.R. Munneke
DESCRIPTION:Deze dienst is on-line of later te volgen via Kerkdienstgemist\n\nLiturgie\nVotum en zegengroet\nZingen: GKB’17 Gezang 163\nGebed\nKindermoment\nZingen Psalm 91 : 8\nLezen/tekst: Johannes 6: 52 – 70\nPreek\nZingen: Liedboek’13 Lied 531\nZingen: Lied van de 10 woorden\nGebed\nCollecte kerk en Zending en Hulpverlening\nZingen: Liedboek’13 Lied 416\nZegen \nBegeleiding: Nanno Siertsema\nSchriftlezing: Erna Maring \nKlik hier voor de liturgie met teksten\nU kunt uw bijdrage in de collecte overmaken via de Scipio-app of op NL 51 RABO 0329 1113 10 onder vermelding van “collecte on-line diensten”. De Commissie van Beheer zorgt dan voor de verdeling over de collectedoelen. \nEen goede dienst gewenst in verbondenheid
URL:https://ngk-hoogezand-sappemeer.nl/activiteit/br-b-r-munneke-8/
LOCATION:De Ark\, Rembrandtlaan 194\, Hoogezand\, Groningen\, 9601 XD\, Nederland
CATEGORIES:Kerkdienst
END:VEVENT
BEGIN:VEVENT
DTSTART;TZID=Europe/Amsterdam:20240818T100000
DTEND;TZID=Europe/Amsterdam:20240818T113000
DTSTAMP:20260420T065705
CREATED:20240716T200819Z
LAST-MODIFIED:20240816T145406Z
UID:4826-1723975200-1723980600@ngk-hoogezand-sappemeer.nl
SUMMARY:Ds. A.M. Pathuis
DESCRIPTION:Deze dienst is on-line of later te volgen via Kerkdienstgemist\n\nLiturgie\nZingen: DNP Psalm 146: 1\nVotum en groet\nZingen: Liedboek 212\nGebed\nKindermoment\nZingen: Opwekking 518\nLezen: Marcus 7: 24 – 30\nPreek\nZingen: Opwekking 642\nLeefregel: Filippenzen 4: 4 – 9\nGeloofsbelijdenis: Zingen: DNP Psalm 146: 3\, 5\, 6\nCollecte Kerk en Theologische Universiteit\nDankgebed\nZingen: Liedboek 978\nZegen \nBegeleiding: Nanno Siertsema\nSchriftlezing: Herman Dokter \nKlik hier voor de liturgie met teksten\nU kunt uw bijdrage in de collecte overmaken via de Scipio-app of op NL 51 RABO 0329 1113 10 onder vermelding van “collecte on-line diensten”. De Commissie van Beheer zorgt dan voor de verdeling over de collectedoelen. \nEen goede dienst gewenst in verbondenheid
URL:https://ngk-hoogezand-sappemeer.nl/activiteit/ds-a-m-pathuis-25/
LOCATION:De Ark\, Rembrandtlaan 194\, Hoogezand\, Groningen\, 9601 XD\, Nederland
CATEGORIES:Kerkdienst
END:VEVENT
BEGIN:VEVENT
DTSTART;TZID=Europe/Amsterdam:20240825T100000
DTEND;TZID=Europe/Amsterdam:20240825T113000
DTSTAMP:20260420T065705
CREATED:20240716T200908Z
LAST-MODIFIED:20240822T093913Z
UID:4828-1724580000-1724585400@ngk-hoogezand-sappemeer.nl
SUMMARY:Ds. H. Zeilstra
DESCRIPTION:Deze dienst is on-line of later te volgen via Kerkdienstgemist\n\nLiturgie\nVotum en zegengroet\nPsalm 149: 1\, 2\nWet\nPsalm 86: 4\nGebed\nGenesis 5 en Judas 14 – 15\nPsalm 25: 7\nTekst Genesis 5: 22 – 24 en Hebreeën 11: 5 – 6\nPreek\nNieuw Liedboek 416: 1\, 2\, 3\, 4 \nGebed\nCollecte Kerk en Evangelisatie\nOpwekking 770 \nZegen \nBegeleiding: Nanno Siertsema\nSchriftlezing: Beno Munneke \nKlik hier voor de liturgie met teksten\nU kunt uw bijdrage in de collecte overmaken via de Scipio-app of op NL 51 RABO 0329 1113 10 onder vermelding van “collecte on-line diensten”. De Commissie van Beheer zorgt dan voor de verdeling over de collectedoelen. \nEen goede dienst gewenst in verbondenheid
URL:https://ngk-hoogezand-sappemeer.nl/activiteit/ds-h-zeilstra-4/
LOCATION:De Ark\, Rembrandtlaan 194\, Hoogezand\, Groningen\, 9601 XD\, Nederland
CATEGORIES:Kerkdienst
END:VEVENT
END:VCALENDAR