BEGIN:VCALENDAR
VERSION:2.0
PRODID:-//NGK Hoogezand-Sappemeer - ECPv6.3.7//NONSGML v1.0//EN
CALSCALE:GREGORIAN
METHOD:PUBLISH
X-WR-CALNAME:NGK Hoogezand-Sappemeer
X-ORIGINAL-URL:https://ngk-hoogezand-sappemeer.nl
X-WR-CALDESC:Evenementen voor NGK Hoogezand-Sappemeer
REFRESH-INTERVAL;VALUE=DURATION:PT1H
X-Robots-Tag:noindex
X-PUBLISHED-TTL:PT1H
BEGIN:VTIMEZONE
TZID:Europe/Amsterdam
BEGIN:DAYLIGHT
TZOFFSETFROM:+0100
TZOFFSETTO:+0200
TZNAME:CEST
DTSTART:20240331T010000
END:DAYLIGHT
BEGIN:STANDARD
TZOFFSETFROM:+0200
TZOFFSETTO:+0100
TZNAME:CET
DTSTART:20241027T010000
END:STANDARD
END:VTIMEZONE
BEGIN:VEVENT
DTSTART;TZID=Europe/Amsterdam:20240704T131500
DTEND;TZID=Europe/Amsterdam:20240704T143000
DTSTAMP:20260420T082246
CREATED:20240703T202510Z
LAST-MODIFIED:20240703T203211Z
UID:4804-1720098900-1720103400@ngk-hoogezand-sappemeer.nl
SUMMARY:Dankdienst voor het leven van Aafien Oldenburger
DESCRIPTION:Deze dienst is on-line of later te volgen via Kerkdienstgemist\n\nLiturgie\nVoorganger: Ds. Anne-Maaike Pathuis\nOrganist:      Nanno Siertsema \nMuziek bij binnenkomst familie ‘Ik zie een poort wijd open staan’\nZingen: Johannes de Heer 140:1 (+ refrein) ‘Ik zie een poort wijd open staan’\nWoord van welkom\nZingen: LvdK (1973) Gezang 457:1\, 4 ‘Heilig\, heilig\, heilig!\nGebed\nBijdrage namens de familie\nZingen: GKB Psalm 108:1 ‘Mijn hart is\, Heer\, in U gerust’\nLezen: Psalm 57:1-4 en 8-12 (NBG51)\nOverdenking\nZingen: Opwekking 123 ‘Groot is uw trouw\, o Heer’\nDankgebed\nZingen: Johannes de Heer 523:1 ‘Veilig in Jezus’ armen’\nZegen\nZingen bij het uitdragen van Aafien Oldenburger: ‘Lichtstad met de paar’len poorten’ \nDankwoord (Ellen Nooren)
URL:https://ngk-hoogezand-sappemeer.nl/activiteit/dankdienst-voor-het-leven-van-aafien-oldenburger/
LOCATION:De Ark\, Rembrandtlaan 194\, Hoogezand\, Groningen\, 9601 XD\, Nederland
CATEGORIES:Kerkdienst
END:VEVENT
BEGIN:VEVENT
DTSTART;TZID=Europe/Amsterdam:20240707T100000
DTEND;TZID=Europe/Amsterdam:20240707T113000
DTSTAMP:20260420T082246
CREATED:20240615T090610Z
LAST-MODIFIED:20240706T100926Z
UID:4777-1720346400-1720351800@ngk-hoogezand-sappemeer.nl
SUMMARY:Ds. J.C. van der Vecht
DESCRIPTION:Deze dienst is on-line of later te volgen via Kerkdienstgemist\n\nLiturgie\nVotum en zegengroet: \nOpw. 400\nGebed\nGK’06 Gezang 103: 1\, 2\, 4\, 5\nNederlandse Geloofsbelijdenis artikel 2\n1 Johannes 1: 1 – 7 en 4: 7 – 21\nGKB Psalm 103: 1\, 5\nVerkondiging\nOpw. 488\nDankgebed\nLeefregel – Fillipenzen 2: 1 – 11\nNLB 838: 1 – 4\nCollecte: Kerk en Zending & Hulpverlening\nSela – Mag ik jou tot zegen zijn\nZegen \nBegeleiding: Jan Leemhuis \nU kunt uw bijdrage in de collecte overmaken via de Scipio-app of op NL 51 RABO 0329 1113 10 onder vermelding van “collecte on-line diensten”. De Commissie van Beheer zorgt dan voor de verdeling over de collectedoelen. \nEen goede dienst gewenst in verbondenheid
URL:https://ngk-hoogezand-sappemeer.nl/activiteit/ds-j-c-van-der-vecht-5/
LOCATION:De Ark\, Rembrandtlaan 194\, Hoogezand\, Groningen\, 9601 XD\, Nederland
CATEGORIES:Kerkdienst
END:VEVENT
BEGIN:VEVENT
DTSTART;TZID=Europe/Amsterdam:20240707T163000
DTEND;TZID=Europe/Amsterdam:20240707T180000
DTSTAMP:20260420T082246
CREATED:20240615T090709Z
LAST-MODIFIED:20240706T101046Z
UID:4779-1720369800-1720375200@ngk-hoogezand-sappemeer.nl
SUMMARY:Br. H. Dokter
DESCRIPTION:Deze dienst is on-line of later te volgen via Kerkdienstgemist\n\nLiturgie\nVotum en Zegengroet\nZingen: Opwekking 734\nGebed\nBijbellezing: Prediker 2: 17 – 23\nBijbellezing: Prediker 5: 9 – 19\nZingen: Opwekking 705\nPreek\nAmenlied: GK gez. 161\nBelijdenis\nGebed\nCollecte: Kerk en Zending & Hulpverlening\nSlotzang: Opwekking 174\nZegen \nU kunt uw bijdrage in de collecte overmaken via de Scipio-app of op NL 51 RABO 0329 1113 10 onder vermelding van “collecte on-line diensten”. De Commissie van Beheer zorgt dan voor de verdeling over de collectedoelen. \nEen goede dienst gewenst in verbondenheid
URL:https://ngk-hoogezand-sappemeer.nl/activiteit/br-h-dokter-5/
LOCATION:De Ark\, Rembrandtlaan 194\, Hoogezand\, Groningen\, 9601 XD\, Nederland
CATEGORIES:Kerkdienst
END:VEVENT
BEGIN:VEVENT
DTSTART;TZID=Europe/Amsterdam:20240714T100000
DTEND;TZID=Europe/Amsterdam:20240714T113000
DTSTAMP:20260420T082246
CREATED:20240615T090819Z
LAST-MODIFIED:20240713T141400Z
UID:4781-1720951200-1720956600@ngk-hoogezand-sappemeer.nl
SUMMARY:Ds. A.M. Pathuis - Heilig Avondmaal
DESCRIPTION:Deze dienst is on-line of later te volgen via Kerkdienstgemist\n\nLiturgie\nWelkom en mededelingen\nVotum en groet\nZingen: DNP Psalm 136:1(a)\, 2 (v)\, 3(m)\,11(a)\, 12(a)\nGebed\nKindermoment\nLezen: Genesis 18: 1 – 22\nPreek\nZingen: Opwekking 520\nDankgebed en voorbeden\nViering Heilig Avondmaal\n– Collecte Diaconie en kerk\n– Zingen: Liedboek 653: 1\, 2\, 5\n– Gebed\n– Zingen: Evangelische Liedbundel 466\n– Viering\n– Zingen: Liedboek 413\nZegen\nZingen: Liedboek 425 \nBegeleiding: Jan Leemhuis\nSchriftlezing: Wim Harmanny \nKlik hier voor de liturgie met teksten\nU kunt uw bijdrage in de collecte overmaken via de Scipio-app of op NL 51 RABO 0329 1113 10 onder vermelding van “collecte on-line diensten”. De Commissie van Beheer zorgt dan voor de verdeling over de collectedoelen. \nEen goede dienst gewenst in verbondenheid
URL:https://ngk-hoogezand-sappemeer.nl/activiteit/ds-a-m-pathuis-heilig-avondmaal-7/
LOCATION:De Ark\, Rembrandtlaan 194\, Hoogezand\, Groningen\, 9601 XD\, Nederland
CATEGORIES:Kerkdienst
END:VEVENT
BEGIN:VEVENT
DTSTART;TZID=Europe/Amsterdam:20240714T163000
DTEND;TZID=Europe/Amsterdam:20240714T180000
DTSTAMP:20260420T082246
CREATED:20240615T091332Z
LAST-MODIFIED:20240713T142600Z
UID:4783-1720974600-1720980000@ngk-hoogezand-sappemeer.nl
SUMMARY:Ds. M.E. Buitenhuis - Heilig Avondmaal
DESCRIPTION:Deze dienst is on-line of later te volgen via Kerkdienstgemist\n\nLiturgie\nVotum en groet\nZingen: Lied 314\nGebed\nViering Heilig Avondmaal – formulier 4\nZingen: Evangelische Liedbundel 289\nZingen: Psalm 119 \nLezen: Romeinen 10: 9 – 17\nZingen: Lied 305\nTekst: Romeinen 10: 17\nPreek: Naar wie luister jij?\nZingen: Opwekking 462\nGebed\nCollecte Diaconie en kerk\nZingen: Gezang 177\nZegen \nKlik hier voor de liturgie met teksten\nU kunt uw bijdrage in de collecte overmaken via de Scipio-app of op NL 51 RABO 0329 1113 10 onder vermelding van “collecte on-line diensten”. De Commissie van Beheer zorgt dan voor de verdeling over de collectedoelen. \nEen goede dienst gewenst in verbondenheid
URL:https://ngk-hoogezand-sappemeer.nl/activiteit/nog-niet-bekend/
LOCATION:De Ark\, Rembrandtlaan 194\, Hoogezand\, Groningen\, 9601 XD\, Nederland
CATEGORIES:Kerkdienst
END:VEVENT
BEGIN:VEVENT
DTSTART;TZID=Europe/Amsterdam:20240721T100000
DTEND;TZID=Europe/Amsterdam:20240721T113000
DTSTAMP:20260420T082246
CREATED:20240615T091442Z
LAST-MODIFIED:20240719T130320Z
UID:4785-1721556000-1721561400@ngk-hoogezand-sappemeer.nl
SUMMARY:Br. H. Dokter
DESCRIPTION:Deze dienst is on-line of later te volgen via Kerkdienstgemist\n\nLiturgie\nVotum en zegengroet\nZingen: Opwekking 847\nGebed\nBijbellezing: Prediker 11: 1 – 6\nBijbellezing: Marcus 4: 1 – 9\nZingen: Opwekking 124\nPreek\nZingen: Psalm 138: 1\, 2\, 3 (DNP)\nLeefregel: Matteüs 5: 1 – 16\nGebed\nCollecte Kerk en Theologische Universiteit\nSlotzang: Opwekking 377\nZegen \nBegeleiding: Jan Leemhuis\nSchriftlezing: Femke Bondt \nKlik hier voor de liturgie met teksten\nU kunt uw bijdrage in de collecte overmaken via de Scipio-app of op NL 51 RABO 0329 1113 10 onder vermelding van “collecte on-line diensten”. De Commissie van Beheer zorgt dan voor de verdeling over de collectedoelen. \nEen goede dienst gewenst in verbondenheid
URL:https://ngk-hoogezand-sappemeer.nl/activiteit/br-h-dokter-6/
LOCATION:De Ark\, Rembrandtlaan 194\, Hoogezand\, Groningen\, 9601 XD\, Nederland
CATEGORIES:Kerkdienst
END:VEVENT
BEGIN:VEVENT
DTSTART;TZID=Europe/Amsterdam:20240728T100000
DTEND;TZID=Europe/Amsterdam:20240728T110000
DTSTAMP:20260420T082246
CREATED:20240716T200542Z
LAST-MODIFIED:20240727T093011Z
UID:4820-1722160800-1722164400@ngk-hoogezand-sappemeer.nl
SUMMARY:Zr. C.L. Prins
DESCRIPTION:Deze dienst is on-line of later te volgen via Kerkdienstgemist\n\nLiturgie\nWelkom en mededelingen\nGezongen votum en groet\nZingen: Sela Votum en groet\nZingen: Liedboek 705: 1\, 2\nGebed\nKindermoment\nLezen: NGB artikel 12\nLezen: Hebreeën 1: 5 – 14\nPreek: Ontdek hoe God engelen inschakelt voor je redding!\nZingen: DNP Psalm 34: 1\, 2\, 3\nDankgebed en voorbeden\nZingen: Opwekking 436\nLeefregel:\nZingen: Opwekking 760\nZingen: DNP Psalm 104: 1\, 7\, 8\nCollecteaankondiging Kerk en Evangelisatie\nZingen: Gezang (2017) 177\nZegen \nBegeleiding: Jan Leemhuis\nSchriftlezing: Femke Bondt \nKlik hier voor de liturgie met teksten\nU kunt uw bijdrage in de collecte overmaken via de Scipio-app of op NL 51 RABO 0329 1113 10 onder vermelding van “collecte on-line diensten”. De Commissie van Beheer zorgt dan voor de verdeling over de collectedoelen. \nEen goede dienst gewenst in verbondenheid
URL:https://ngk-hoogezand-sappemeer.nl/activiteit/zr-c-l-prins-5/
LOCATION:De Ark\, Rembrandtlaan 194\, Hoogezand\, Groningen\, 9601 XD\, Nederland
CATEGORIES:Kerkdienst
END:VEVENT
END:VCALENDAR