BEGIN:VCALENDAR
VERSION:2.0
PRODID:-//NGK Hoogezand-Sappemeer - ECPv6.3.7//NONSGML v1.0//EN
CALSCALE:GREGORIAN
METHOD:PUBLISH
X-WR-CALNAME:NGK Hoogezand-Sappemeer
X-ORIGINAL-URL:https://ngk-hoogezand-sappemeer.nl
X-WR-CALDESC:Evenementen voor NGK Hoogezand-Sappemeer
REFRESH-INTERVAL;VALUE=DURATION:PT1H
X-Robots-Tag:noindex
X-PUBLISHED-TTL:PT1H
BEGIN:VTIMEZONE
TZID:Europe/Amsterdam
BEGIN:DAYLIGHT
TZOFFSETFROM:+0100
TZOFFSETTO:+0200
TZNAME:CEST
DTSTART:20240331T010000
END:DAYLIGHT
BEGIN:STANDARD
TZOFFSETFROM:+0200
TZOFFSETTO:+0100
TZNAME:CET
DTSTART:20241027T010000
END:STANDARD
END:VTIMEZONE
BEGIN:VEVENT
DTSTART;TZID=Europe/Amsterdam:20240505T100000
DTEND;TZID=Europe/Amsterdam:20240505T113000
DTSTAMP:20260420T105507
CREATED:20240424T072942Z
LAST-MODIFIED:20240503T090853Z
UID:4671-1714903200-1714908600@ngk-hoogezand-sappemeer.nl
SUMMARY:Ds. H. Zeilstra
DESCRIPTION:Deze dienst is on-line of later te volgen via Kerkdienstgemist\n\nLiturgie\nPs. 23: 1\, 2\, 3\nVotum en zegengroet\nGK06 Gezang 145: 1\, 2\, 3\, 4\nWet\nGK06 Gezang 79: 4\, 6\nGebed\nHandelingen 17: 16 – 34\nPsalm 115: 2\, 5\, 7\nHandelingen 17: 32 – 34\nPreek\nPsalm 96: 1\, 3\, 6\, 8\nGebed\nCollecte: Kerk en Evangelisatie\nGK06 Gezang 118: 1\, 2\, 3\nZegen \nBegeleiding: Nanno Siertsema\nSchriftlezing: Erna Maring \nKlik hier voor de liturgie met teksten\nU kunt uw bijdrage in de collecte overmaken via de Scipio-app of op NL 51 RABO 0329 1113 10 onder vermelding van “collecte on-line diensten”. De Commissie van Beheer zorgt dan voor de verdeling over de collectedoelen. \nEen goede dienst gewenst in verbondenheid
URL:https://ngk-hoogezand-sappemeer.nl/activiteit/ds-h-zeilstra-3/
LOCATION:De Ark\, Rembrandtlaan 194\, Hoogezand\, Groningen\, 9601 XD\, Nederland
CATEGORIES:Kerkdienst
END:VEVENT
BEGIN:VEVENT
DTSTART;TZID=Europe/Amsterdam:20240505T163000
DTEND;TZID=Europe/Amsterdam:20240505T180000
DTSTAMP:20260420T105507
CREATED:20240424T073122Z
LAST-MODIFIED:20240503T091150Z
UID:4673-1714926600-1714932000@ngk-hoogezand-sappemeer.nl
SUMMARY:Br. H. Dokter
DESCRIPTION:Deze dienst is on-line of later te volgen via Kerkdienstgemist\n\nLiturgie\nAfhankelijkheid belijden\nZegengroet\nZingen: Opw. 40\nGebed\nLezen: Lucas 9: 18 – 27\nZingen: Psalm 42a (2x)\nPreek: Jezus’ boodschap serieus nemen\nZingen: Lied 653 : 1\, 6\, 7\nBelijdenis\nZingen: GK06 Gezang 119: 1\, 5\nDanken en bidden\nCollecte: Kerk en Evangelisatie\nZingen: Op Toonhoogte 268\nZegen \nKlik hier voor de liturgie met teksten\nU kunt uw bijdrage in de collecte overmaken via de Scipio-app of op NL 51 RABO 0329 1113 10 onder vermelding van “collecte on-line diensten”. De Commissie van Beheer zorgt dan voor de verdeling over de collectedoelen. \nEen goede dienst gewenst in verbondenheid
URL:https://ngk-hoogezand-sappemeer.nl/activiteit/br-h-dokter-4/
LOCATION:De Ark\, Rembrandtlaan 194\, Hoogezand\, Groningen\, 9601 XD\, Nederland
CATEGORIES:Kerkdienst
END:VEVENT
BEGIN:VEVENT
DTSTART;TZID=Europe/Amsterdam:20240508T133000
DTEND;TZID=Europe/Amsterdam:20240508T150000
DTSTAMP:20260420T105507
CREATED:20240501T121102Z
LAST-MODIFIED:20240507T175400Z
UID:4696-1715175000-1715180400@ngk-hoogezand-sappemeer.nl
SUMMARY:Afscheidsdienst van br. Henk Pomp
DESCRIPTION:Deze dienst is on-line of later te volgen via Kerkdienstgemist\n\nKlik hier voor de liturgie met teksten\nLiturgie\nBinnenkomst familie\nWelkom\nZingen: Gezang 115: 1\, 2 (Nooit kan ’t geloof) (06)\nGebed\nLezen Psalm 23 (NBG 51)\nZingen: Psalm 23: 1\, 2\, 3 (De Here wil mijn trouwe herder wezen) (oude berijming)\nOverdenking\nZingen: Psalm 43: 3\, 4 (Zend\, Heer\, uw licht en waarheid neder)\nGebed\nZingen: Liedboek 293: 1-4 (wat de toekomst brengen moge) (1973) \nUitdragen\n(tijdens uitdragen: wat de toekomst brenge moge) \n\n 
URL:https://ngk-hoogezand-sappemeer.nl/activiteit/dankdienst-br-pomp/
LOCATION:De Ark\, Rembrandtlaan 194\, Hoogezand\, Groningen\, 9601 XD\, Nederland
CATEGORIES:Kerkdienst
END:VEVENT
BEGIN:VEVENT
DTSTART;TZID=Europe/Amsterdam:20240509T100000
DTEND;TZID=Europe/Amsterdam:20240509T113000
DTSTAMP:20260420T105507
CREATED:20240424T073252Z
LAST-MODIFIED:20240508T144122Z
UID:4675-1715248800-1715254200@ngk-hoogezand-sappemeer.nl
SUMMARY:Ds. A.M. Pathuis - Hemelvaart
DESCRIPTION:Deze dienst is on-line of later te volgen via Kerkdienstgemist\n\nLiturgie\nVotum en groet\nZingen: DNP Psalm 47\nKindermoment\nZingen: Kinderopwekking 205\nGebed\nLezen: Handelingen 1: 1 – 14\nPreek\nZingen: Opwekking 717\nCollecte Kerk en Emeritering\nZingen: GKB (2017) Gezang 181:1\, 3\, 8\nDankgebed\nLeefregel: Romeinen 12: 9 – 12\nZingen: ‘In de hemel is de Heer’\nZegen \nBegeleiding: Nanno Siertsema\nSchriftlezing: Tea Snip \nKlik hier voor de liturgie met teksten\nU kunt uw bijdrage in de collecte overmaken via de Scipio-app of op NL 51 RABO 0329 1113 10 onder vermelding van “collecte on-line diensten”. De Commissie van Beheer zorgt dan voor de verdeling over de collectedoelen. \nEen goede dienst gewenst in verbondenheid
URL:https://ngk-hoogezand-sappemeer.nl/activiteit/ds-a-m-pathuis-hemelvaart-2/
LOCATION:De Ark\, Rembrandtlaan 194\, Hoogezand\, Groningen\, 9601 XD\, Nederland
CATEGORIES:Kerkdienst
END:VEVENT
BEGIN:VEVENT
DTSTART;TZID=Europe/Amsterdam:20240512T100000
DTEND;TZID=Europe/Amsterdam:20240512T113000
DTSTAMP:20260420T105507
CREATED:20240424T073429Z
LAST-MODIFIED:20240511T141457Z
UID:4677-1715508000-1715513400@ngk-hoogezand-sappemeer.nl
SUMMARY:Ds. A.J. Minnema
DESCRIPTION:Deze dienst is on-line of later te volgen via Kerkdienstgemist\n\nLiturgie\nVotum en vredegroet\nZingen: Ps. 27: 1\, 3\, 7\nDe Tien Woorden\nZingen: Ps. 96: 1\, 2\, 6\nGebed\n1e Lezing: Hooglied 5: 2 – 8\nZingen: (GK2017) Gez. 217: 1\, 2\, 3\, 8\n2e Lezing: Johannes 14: 1 – 26\nZingen: LB 981: 1\, 2\, 3\, 4\, 5\nTekst: Lucas 24: 52\, 53; Handelingen 1: 14\nVerkondiging\nZingen: LB 663: 1\, 2\nGebed\nCollecte Kerk en Theologische Universiteit\nZingen: (GK2017) Gez. 228\nZegen \nBegeleiding: Jan Leemhuis\nSchriftlezing: Sem Bolhuis \nKlik hier voor de liturgie met teksten\nU kunt uw bijdrage in de collecte overmaken via de Scipio-app of op NL 51 RABO 0329 1113 10 onder vermelding van “collecte on-line diensten”. De Commissie van Beheer zorgt dan voor de verdeling over de collectedoelen. \nEen goede dienst gewenst in verbondenheid
URL:https://ngk-hoogezand-sappemeer.nl/activiteit/ds-a-j-minnema-3/
LOCATION:De Ark\, Rembrandtlaan 194\, Hoogezand\, Groningen\, 9601 XD\, Nederland
CATEGORIES:Kerkdienst
END:VEVENT
BEGIN:VEVENT
DTSTART;TZID=Europe/Amsterdam:20240512T190000
DTEND;TZID=Europe/Amsterdam:20240512T210000
DTSTAMP:20260420T105507
CREATED:20240424T073529Z
LAST-MODIFIED:20240424T075419Z
UID:4679-1715540400-1715547600@ngk-hoogezand-sappemeer.nl
SUMMARY:Gespreksavond Samen Jong
DESCRIPTION:Thema ” ‘Een warme gemeenschap vormen’\nDeze avond is (gedeeltelijk) te volgen via Kerkdienstgemist\n\nInformatie\nVOLGT ZODRA BEKEND
URL:https://ngk-hoogezand-sappemeer.nl/activiteit/br-p-braam-8/
LOCATION:De Ark\, Rembrandtlaan 194\, Hoogezand\, Groningen\, 9601 XD\, Nederland
CATEGORIES:Kerkdienst
END:VEVENT
BEGIN:VEVENT
DTSTART;TZID=Europe/Amsterdam:20240519T100000
DTEND;TZID=Europe/Amsterdam:20240519T113000
DTSTAMP:20260420T105507
CREATED:20240424T073636Z
LAST-MODIFIED:20240518T153117Z
UID:4681-1716112800-1716118200@ngk-hoogezand-sappemeer.nl
SUMMARY:Ds. A.M. Pathuis - Pinksteren
DESCRIPTION:Deze dienst is on-line of later te volgen via Kerkdienstgemist\n\nLiturgie\nVotum en groet\nZingen: Opwekking 281 (2x)\nZingen: Sela ‘Kom Heilige Geest’\nLezen: Handelingen 2: 1 – 11 (in het Arabisch)\nZingen: InSalvation ‘Breek de hemelen open’\nGebed\nKindermoment\nKinderlied: Opwekking voor Kids 205\nLezen: Handelingen 2: 22 – 28\, 32 – 33\nPreek\nZingen: Opwekking 623\nCollecte Kerk en Zending & Hulpverlening\nDankgebed\nLeefregel: Galaten 5: 22 – 25\nZingen: Marcel & Lydia Zimmer ‘Heer\, wij aanbidden U’\nZegen\nNa de dienst: Phil Wickham ‘I believe’ \nBegeleiding: Menora\nSchriftlezing: Beno Munneke \nKlik hier voor de liturgie met teksten\nU kunt uw bijdrage in de collecte overmaken via de Scipio-app of op NL 51 RABO 0329 1113 10 onder vermelding van “collecte on-line diensten”. De Commissie van Beheer zorgt dan voor de verdeling over de collectedoelen. \nEen goede dienst gewenst in verbondenheid
URL:https://ngk-hoogezand-sappemeer.nl/activiteit/ds-a-m-pathuis-pinksteren/
LOCATION:De Ark\, Rembrandtlaan 194\, Hoogezand\, Groningen\, 9601 XD\, Nederland
CATEGORIES:Kerkdienst
END:VEVENT
BEGIN:VEVENT
DTSTART;TZID=Europe/Amsterdam:20240519T163000
DTEND;TZID=Europe/Amsterdam:20240519T180000
DTSTAMP:20260420T105507
CREATED:20240424T073743Z
LAST-MODIFIED:20240518T153615Z
UID:4683-1716136200-1716141600@ngk-hoogezand-sappemeer.nl
SUMMARY:Br. B.R. Munneke - Pinksteren
DESCRIPTION:Deze dienst is on-line of later te volgen via Kerkdienstgemist\n\nLiturgie\nWelkom en mededelingen\nMoment van Stilte\nZingen Opw 464 (als votum)\nGroet\nZingen Gezang 102b: 1\nGebed\nVerkondiging met Lezen Joël 3\nZingen Gezang 103: 1\, 9\nDankzegging en voorbede\nCollecte Kerk en Zending & Hulpverlening\nZingen Gezang 179b\nZegen \nKlik hier voor de liturgie met teksten\nU kunt uw bijdrage in de collecte overmaken via de Scipio-app of op NL 51 RABO 0329 1113 10 onder vermelding van “collecte on-line diensten”. De Commissie van Beheer zorgt dan voor de verdeling over de collectedoelen. \nEen goede dienst gewenst in verbondenheid
URL:https://ngk-hoogezand-sappemeer.nl/activiteit/br-b-r-munneke-7/
LOCATION:De Ark\, Rembrandtlaan 194\, Hoogezand\, Groningen\, 9601 XD\, Nederland
CATEGORIES:Kerkdienst
END:VEVENT
BEGIN:VEVENT
DTSTART;TZID=Europe/Amsterdam:20240526T100000
DTEND;TZID=Europe/Amsterdam:20240526T113000
DTSTAMP:20260420T105507
CREATED:20240424T074051Z
LAST-MODIFIED:20240523T152435Z
UID:4685-1716717600-1716723000@ngk-hoogezand-sappemeer.nl
SUMMARY:Ds. A.M. Pathuis - Heilig Avondmaal
DESCRIPTION:Deze dienst is on-line of later te volgen via Kerkdienstgemist\n\nLiturgie\nZingen: DNP Psalm 84: 1\nVotum en groet (gesproken)\nZingen: DNP Psalm 84: 2\, 4\nKindermoment\nGebed\nZingen: Elly en Rikkert ‘Als je bidt zal Hij je geven’\nLezen: Matteüs 10: 16 – 33\nZingen: DNP Psalm 27: 1\, 4\nPreek\nZingen: Liedboek 835: 1\, 2\, 3\nCollecte Open Doors\nDankgebed \nViering Avondmaal\nGeloofsbelijdenis\nZingen: GKB (2017) Gezang 177: 1\, 3\nKorte uitleg bij het Avondmaal\, gebed\nNodiging en viering\nZingen: Liedboek 704\nZegen\nZingen: ‘Lichtstad met de paar’len poorten’ \nBegeleiding: Jan Leemhuis\nSchriftlezing: Kathy/Herman Dokter \nKlik hier voor de liturgie met teksten\nU kunt uw bijdrage in de collecte overmaken via de Scipio-app of op NL 51 RABO 0329 1113 10 onder vermelding van “collecte on-line diensten”. De Commissie van Beheer zorgt dan voor de verdeling over de collectedoelen. \nEen goede dienst gewenst in verbondenheid
URL:https://ngk-hoogezand-sappemeer.nl/activiteit/ds-a-m-pathuis-heilig-avondmaal-6/
LOCATION:De Ark\, Rembrandtlaan 194\, Hoogezand\, Groningen\, 9601 XD\, Nederland
CATEGORIES:Kerkdienst
END:VEVENT
BEGIN:VEVENT
DTSTART;TZID=Europe/Amsterdam:20240526T163000
DTEND;TZID=Europe/Amsterdam:20240526T180000
DTSTAMP:20260420T105507
CREATED:20240424T074211Z
LAST-MODIFIED:20240523T152604Z
UID:4687-1716741000-1716746400@ngk-hoogezand-sappemeer.nl
SUMMARY:Ds. F. Rinkema - Heilig Avondmaal
DESCRIPTION:Deze dienst is on-line of later te volgen via Kerkdienstgemist\n\nLiturgie\nVotum\, groet\nDNP Ps. 93\nGebed\nLezen: Johannes 15: 18 – 27\nLB Gez. 687\nVerkondiging – Leven uit de Geest\nDNP Ps. 68: 1\nViering maaltijd van de Heer\nLezen: 1 Korintiërs 11: 23 – 29\nGebed\nGeloofsbelijdenis\nViering\nLvK Gez. 358: 6\nInzameling gaven: Open Doors\nGK17 Ps. 87\nZegen \nKlik hier voor de liturgie met teksten\nU kunt uw bijdrage in de collecte overmaken via de Scipio-app of op NL 51 RABO 0329 1113 10 onder vermelding van “collecte on-line diensten”. De Commissie van Beheer zorgt dan voor de verdeling over de collectedoelen. \nEen goede dienst gewenst in verbondenheid
URL:https://ngk-hoogezand-sappemeer.nl/activiteit/ds-f-rinkema-4/
LOCATION:De Ark\, Rembrandtlaan 194\, Hoogezand\, Groningen\, 9601 XD\, Nederland
CATEGORIES:Kerkdienst
END:VEVENT
END:VCALENDAR