BEGIN:VCALENDAR
VERSION:2.0
PRODID:-//NGK Hoogezand-Sappemeer - ECPv6.3.7//NONSGML v1.0//EN
CALSCALE:GREGORIAN
METHOD:PUBLISH
X-ORIGINAL-URL:https://ngk-hoogezand-sappemeer.nl
X-WR-CALDESC:Evenementen voor NGK Hoogezand-Sappemeer
REFRESH-INTERVAL;VALUE=DURATION:PT1H
X-Robots-Tag:noindex
X-PUBLISHED-TTL:PT1H
BEGIN:VTIMEZONE
TZID:Europe/Amsterdam
BEGIN:DAYLIGHT
TZOFFSETFROM:+0100
TZOFFSETTO:+0200
TZNAME:CEST
DTSTART:20240331T010000
END:DAYLIGHT
BEGIN:STANDARD
TZOFFSETFROM:+0200
TZOFFSETTO:+0100
TZNAME:CET
DTSTART:20241027T010000
END:STANDARD
END:VTIMEZONE
BEGIN:VEVENT
DTSTART;TZID=Europe/Amsterdam:20240407T100000
DTEND;TZID=Europe/Amsterdam:20240407T113000
DTSTAMP:20260420T120627
CREATED:20240327T212216Z
LAST-MODIFIED:20240406T150835Z
UID:4610-1712484000-1712489400@ngk-hoogezand-sappemeer.nl
SUMMARY:Br. P. Braam
DESCRIPTION:Deze dienst is on-line of later te volgen via Kerkdienstgemist\n\nLiturgie\nVotum – groet\nDNP 4 : 1\, 3\nGebed\nKindermoment + lied Samuël\, Samuël\, Samuël\nLezen: 1 Samuël 3 : 1 – 18\nNLB 362\nPreek\nOpw 617\nGebed\nCollecte Kerk en Emeritering\nLeefregels\nSela – Jezus liefde voor mij\nZegen   \nBegeleiding: Nanno Siertsema\nSchriftlezing: Femke Bondt \nU kunt uw bijdrage in de collecte overmaken via de Scipio-app of op NL 51 RABO 0329 1113 10 onder vermelding van “collecte on-line diensten”. De Commissie van Beheer zorgt dan voor de verdeling over de collectedoelen. \nKlik hier voor de liturgie met teksten\nEen goede dienst gewenst in verbondenheid
URL:https://ngk-hoogezand-sappemeer.nl/activiteit/br-p-braam-7/
LOCATION:De Ark\, Rembrandtlaan 194\, Hoogezand\, Groningen\, 9601 XD\, Nederland
CATEGORIES:Kerkdienst
END:VEVENT
BEGIN:VEVENT
DTSTART;TZID=Europe/Amsterdam:20240407T163000
DTEND;TZID=Europe/Amsterdam:20240407T180000
DTSTAMP:20260420T120627
CREATED:20240327T220327Z
LAST-MODIFIED:20240406T150955Z
UID:4626-1712507400-1712512800@ngk-hoogezand-sappemeer.nl
SUMMARY:Br. G.J. Bondt
DESCRIPTION:Deze dienst is on-line of later te volgen via Kerkdienstgemist\n\nLiturgie\nVotum/groet;\nPs 95: 1 – 3\nGebed\nLB 997\nLezen Prediker 4: 1 – 12\nPreek\nZingende Gezegend 199\nZingend luisteren – For the One\nGebed\nLB 1010: 1\, 3\nCollecte Kerk en Emeritering\nOpw 167\nZegen \nU kunt uw bijdrage in de collecte overmaken via de Scipio-app of op NL 51 RABO 0329 1113 10 onder vermelding van “collecte on-line diensten”. De Commissie van Beheer zorgt dan voor de verdeling over de collectedoelen. \nKlik hier voor de liturgie met teksten\nEen goede dienst gewenst in verbondenheid
URL:https://ngk-hoogezand-sappemeer.nl/activiteit/br-g-j-bondt-15/
LOCATION:De Ark\, Rembrandtlaan 194\, Hoogezand\, Groningen\, 9601 XD\, Nederland
CATEGORIES:Kerkdienst
END:VEVENT
BEGIN:VEVENT
DTSTART;TZID=Europe/Amsterdam:20240414T100000
DTEND;TZID=Europe/Amsterdam:20240414T113000
DTSTAMP:20260420T120627
CREATED:20240327T212410Z
LAST-MODIFIED:20240413T102817Z
UID:4614-1713088800-1713094200@ngk-hoogezand-sappemeer.nl
SUMMARY:Ds. A.M. Pathuis
DESCRIPTION:Deze dienst is on-line of later te volgen via Kerkdienstgemist\n\nLiturgie\nVotum en groet\nZingen: DNP Psalm 98\nGebed\nKindermoment\nKinderlied: MSNK ‘Uw liefde raakt nooit op’\nLezen: Johannes 18: 15 – 18 en 25 – 27\nZingen: GKB (2017) Gezang 243\nLezen: Johannes 21: 15 – 23\nPreek\nZingen: Opwekking 123\nCollecte Kerk en Zending en Hulpverlening\nDankgebed\nZingen: Liedboek 834\nLeefregel: Kolossenzen 3: 12 – 17\nZingen: Liedboek 912\nZegen \nBegeleiding: Jan Leemhuis\nSchriftlezing: Wim Harmanny \nU kunt uw bijdrage in de collecte overmaken via de Scipio-app of op NL 51 RABO 0329 1113 10 onder vermelding van “collecte on-line diensten”. De Commissie van Beheer zorgt dan voor de verdeling over de collectedoelen. \nKlik hier voor de liturgie met teksten\nEen goede dienst gewenst in verbondenheid
URL:https://ngk-hoogezand-sappemeer.nl/activiteit/ds-a-m-pathuis-21/
LOCATION:De Ark\, Rembrandtlaan 194\, Hoogezand\, Groningen\, 9601 XD\, Nederland
CATEGORIES:Kerkdienst
END:VEVENT
BEGIN:VEVENT
DTSTART;TZID=Europe/Amsterdam:20240414T163000
DTEND;TZID=Europe/Amsterdam:20240414T180000
DTSTAMP:20260420T120627
CREATED:20240327T212645Z
LAST-MODIFIED:20240413T102925Z
UID:4616-1713112200-1713117600@ngk-hoogezand-sappemeer.nl
SUMMARY:Ds. J.C. van der Vecht
DESCRIPTION:Deze dienst is on-line of later te volgen via Kerkdienstgemist\n\nLiturgie\nVotum en groet\nGKB Psalm 33: 1\, 2\, 8\nGebed\nLB Lied 632: 1\, 2\, 3\nJohannes 20: 19 – 29\nPreek\nLB Lied 653: 1\, 7\nGeloofsbelijdenis Nicea\nGKB Gezang 237: 1\, 3\, 5\nGebed\nCollecte\nOpw. 710\nZegen \nU kunt uw bijdrage in de collecte overmaken via de Scipio-app of op NL 51 RABO 0329 1113 10 onder vermelding van “collecte on-line diensten”. De Commissie van Beheer zorgt dan voor de verdeling over de collectedoelen. \nKlik hier voor de liturgie met teksten\nEen goede dienst gewenst in verbondenheid
URL:https://ngk-hoogezand-sappemeer.nl/activiteit/ds-j-c-van-der-vecht-3/
LOCATION:De Ark\, Rembrandtlaan 194\, Hoogezand\, Groningen\, 9601 XD\, Nederland
CATEGORIES:Kerkdienst
END:VEVENT
BEGIN:VEVENT
DTSTART;TZID=Europe/Amsterdam:20240421T100000
DTEND;TZID=Europe/Amsterdam:20240421T113000
DTSTAMP:20260420T120627
CREATED:20240327T212806Z
LAST-MODIFIED:20240327T212806Z
UID:4618-1713693600-1713699000@ngk-hoogezand-sappemeer.nl
SUMMARY:Ds. A.M. Pathuis
DESCRIPTION:Deze dienst is on-line of later te volgen via Kerkdienstgemist\n\nLiturgie\nVOLGT ZODRA BEKEND \nU kunt uw bijdrage in de collecte overmaken via de Scipio-app of op NL 51 RABO 0329 1113 10 onder vermelding van “collecte on-line diensten”. De Commissie van Beheer zorgt dan voor de verdeling over de collectedoelen. \nKlik hier voor de liturgie met teksten\nEen goede dienst gewenst in verbondenheid
URL:https://ngk-hoogezand-sappemeer.nl/activiteit/ds-a-m-pathuis-22/
LOCATION:De Ark\, Rembrandtlaan 194\, Hoogezand\, Groningen\, 9601 XD\, Nederland
CATEGORIES:Kerkdienst
END:VEVENT
BEGIN:VEVENT
DTSTART;TZID=Europe/Amsterdam:20240421T163000
DTEND;TZID=Europe/Amsterdam:20240421T180000
DTSTAMP:20260420T120627
CREATED:20240327T212858Z
LAST-MODIFIED:20240327T220531Z
UID:4620-1713717000-1713722400@ngk-hoogezand-sappemeer.nl
SUMMARY:Ds. J.W. Roosenbrand
DESCRIPTION:Deze dienst is on-line of later te volgen via Kerkdienstgemist\n\nLiturgie\nVOLGT ZODRA BEKEND \nU kunt uw bijdrage in de collecte overmaken via de Scipio-app of op NL 51 RABO 0329 1113 10 onder vermelding van “collecte on-line diensten”. De Commissie van Beheer zorgt dan voor de verdeling over de collectedoelen. \nKlik hier voor de liturgie met teksten\nEen goede dienst gewenst in verbondenheid
URL:https://ngk-hoogezand-sappemeer.nl/activiteit/ds-j-w-roosenbrandt-2/
LOCATION:De Ark\, Rembrandtlaan 194\, Hoogezand\, Groningen\, 9601 XD\, Nederland
CATEGORIES:Kerkdienst
END:VEVENT
BEGIN:VEVENT
DTSTART;TZID=Europe/Amsterdam:20240428T100000
DTEND;TZID=Europe/Amsterdam:20240428T113000
DTSTAMP:20260420T120627
CREATED:20240327T213027Z
LAST-MODIFIED:20240503T091613Z
UID:4622-1714298400-1714303800@ngk-hoogezand-sappemeer.nl
SUMMARY:Ds. A.M. Pathuis
DESCRIPTION:Deze dienst is on-line of later te volgen via Kerkdienstgemist\n\nLiturgie\nVotum en groet\nDNP Psalm 24: 1\, 4 ‘De aarde is met al wat leeft’\nWetslezing: Psalm 15 (BGT)\nDNP Psalm 24: 3 ‘Aan hen die eerlijk zijn en echt’\nGebed\nKindermoment over Goliat\nKinderlied: Marcel & Lydia Zimmer ‘De Heer is mijn herder’\nLezen: 1 Samuël 17: 41-54\nZingen: DNP Psalm 18: 6\, 7 ‘Met U\, mijn God\, kan ik door legers dringen’\nPreek\nLezen: Matteüs 22: 15-22\nDNP Psalm 95: 1\, 2\, 3 ‘Zing blij een loflied voor de Heer’\nCollecte Kerk en Diaconie\nDankgebed\nZingen: LB 103c: 1\, 4\, 5 ‘Loof de koning\, heel mijn wezen’\nZegen\nZingen: Liedboek 708: 1\, 6 ‘Wilhelmus…’ \nBegeleiding: Jan Leemhuis\nSchriftlezing: Dineke Scherf \nU kunt uw bijdrage in de collecte overmaken via de Scipio-app of op NL 51 RABO 0329 1113 10 onder vermelding van “collecte on-line diensten”. De Commissie van Beheer zorgt dan voor de verdeling over de collectedoelen. \nEen goede dienst gewenst in verbondenheid
URL:https://ngk-hoogezand-sappemeer.nl/activiteit/ds-a-m-pathuis-23/
LOCATION:De Ark\, Rembrandtlaan 194\, Hoogezand\, Groningen\, 9601 XD\, Nederland
CATEGORIES:Kerkdienst
END:VEVENT
BEGIN:VEVENT
DTSTART;TZID=Europe/Amsterdam:20240428T163000
DTEND;TZID=Europe/Amsterdam:20240428T180000
DTSTAMP:20260420T120627
CREATED:20240327T220050Z
LAST-MODIFIED:20240503T091910Z
UID:4624-1714321800-1714327200@ngk-hoogezand-sappemeer.nl
SUMMARY:Ds. N.W. Dijksterhuis
DESCRIPTION:Deze dienst is on-line of later te volgen via Kerkdienstgemist\n\nLiturgie\nVotum en groet.\nGKB Gezang 28. (Eens zal er vrede zijn)\nGebed voor de opening van het woord.\nLezen Klaagliederen 3: 1-24.\nZingen DNP Psalm 73: 1\, 4. (Gods volk kan op zijn liefde aan)\nRomeinen 8: 31-39.\nZingen DNP Psalm 73: 7. (Wie heb ik in het hier en nu)\nTekst Klaagliederen 3: 21-24.\nVerkondiging.\nOpwekking 461. (Mijn Jezus\, mijn redder)\nGeloofsbelijdenis.\nOpwekking 331. (Breng dank)\nDankgebed.\nCollecte Kerk en Diaconie\nSlotlied Psalm 65: 1\, 2\, 3. (De lofzang klinkt uit Sions zalen)\nZegen. \nU kunt uw bijdrage in de collecte overmaken via de Scipio-app of op NL 51 RABO 0329 1113 10 onder vermelding van “collecte on-line diensten”. De Commissie van Beheer zorgt dan voor de verdeling over de collectedoelen. \nEen goede dienst gewenst in verbondenheid
URL:https://ngk-hoogezand-sappemeer.nl/activiteit/ds-n-w-dijksterhuis-2/
LOCATION:De Ark\, Rembrandtlaan 194\, Hoogezand\, Groningen\, 9601 XD\, Nederland
CATEGORIES:Kerkdienst
END:VEVENT
END:VCALENDAR