BEGIN:VCALENDAR
VERSION:2.0
PRODID:-//NGK Hoogezand-Sappemeer - ECPv6.3.7//NONSGML v1.0//EN
CALSCALE:GREGORIAN
METHOD:PUBLISH
X-ORIGINAL-URL:https://ngk-hoogezand-sappemeer.nl
X-WR-CALDESC:Evenementen voor NGK Hoogezand-Sappemeer
REFRESH-INTERVAL;VALUE=DURATION:PT1H
X-Robots-Tag:noindex
X-PUBLISHED-TTL:PT1H
BEGIN:VTIMEZONE
TZID:Europe/Amsterdam
BEGIN:DAYLIGHT
TZOFFSETFROM:+0100
TZOFFSETTO:+0200
TZNAME:CEST
DTSTART:20240331T010000
END:DAYLIGHT
BEGIN:STANDARD
TZOFFSETFROM:+0200
TZOFFSETTO:+0100
TZNAME:CET
DTSTART:20241027T010000
END:STANDARD
END:VTIMEZONE
BEGIN:VEVENT
DTSTART;TZID=Europe/Amsterdam:20240303T100000
DTEND;TZID=Europe/Amsterdam:20240303T113000
DTSTAMP:20260420T133246
CREATED:20240228T160703Z
LAST-MODIFIED:20240302T155117Z
UID:4555-1709460000-1709465400@ngk-hoogezand-sappemeer.nl
SUMMARY:Ds. A.M. Pathuis
DESCRIPTION:Deze dienst is on-line of later te volgen via Kerkdienstgemist\n\nLiturgie\nOpw. 770 n.a.v. overlijden br. Egbert Prins \nVotum en groet\nZingen: DNP Psalm 118: 1\, 2 \nLeefregel\nZingen: DNP Psalm 119: 1\, 3\nGebed\nKinderlied: Kinderopwekking 46 \nLezen: Matteüs 26: 26 – 30 \nZingen: Liedboek 536: 1\, 4\nLezen: Matteüs 26: 31 – 35 \nPreek\nLuisterlied: ‘Gebed om vergeving’ (Sela)\nZingen: DNP Psalm 80: 1 \,6\nDankgebed\nCollecte Hulpreis Israël\, Yad Lami & Lema Ancha\nZingen: Liedboek 909 \nZegen \nBegeleiding: Jan Leemhuis\nSchriftlezing: Beno Munneke \nU kunt uw bijdrage in de collecte overmaken via de Scipio-app of op NL 51 RABO 0329 1113 10 onder vermelding van “collecte on-line diensten”. De Commissie van Beheer zorgt dan voor de verdeling over de collectedoelen. \nKlik hier voor de liturgie met teksten\nEen goede dienst gewenst in verbondenheid
URL:https://ngk-hoogezand-sappemeer.nl/activiteit/ds-a-m-pathuis-19/
LOCATION:De Ark\, Rembrandtlaan 194\, Hoogezand\, Groningen\, 9601 XD\, Nederland
CATEGORIES:Kerkdienst
END:VEVENT
BEGIN:VEVENT
DTSTART;TZID=Europe/Amsterdam:20240303T163000
DTEND;TZID=Europe/Amsterdam:20240303T180000
DTSTAMP:20260420T133246
CREATED:20240228T160933Z
LAST-MODIFIED:20240302T155854Z
UID:4557-1709483400-1709488800@ngk-hoogezand-sappemeer.nl
SUMMARY:Ds. R. Tigelaar
DESCRIPTION:Deze dienst is on-line of later te volgen via Kerkdienstgemist\n\nLiturgie\nVotum/zegengroet\nGK 168 \nGebed\nGewone Catechismus 51 – 54\nPs. 51: 1\, 2 \nJesaja 53\nPs. 51: 4\, 5 \nPreek\nGK 201 (wie zal voor God verschijnen?)\nBelijdenis\nGK 205 \nGebed\nCollecte Hulpreis Israël\, Yad Lami & Lema Ancha\nGK06 89 \nZegen \nU kunt uw bijdrage in de collecte overmaken via de Scipio-app of op NL 51 RABO 0329 1113 10 onder vermelding van “collecte on-line diensten”. De Commissie van Beheer zorgt dan voor de verdeling over de collectedoelen. \nKlik hier voor de liturgie met teksten\nEen goede dienst gewenst in verbondenheid
URL:https://ngk-hoogezand-sappemeer.nl/activiteit/ds-r-tigelaar/
LOCATION:De Ark\, Rembrandtlaan 194\, Hoogezand\, Groningen\, 9601 XD\, Nederland
CATEGORIES:Kerkdienst
END:VEVENT
BEGIN:VEVENT
DTSTART;TZID=Europe/Amsterdam:20240310T100000
DTEND;TZID=Europe/Amsterdam:20240310T113000
DTSTAMP:20260420T133246
CREATED:20240228T161041Z
LAST-MODIFIED:20240309T114725Z
UID:4559-1710064800-1710070200@ngk-hoogezand-sappemeer.nl
SUMMARY:Ds. R.F. Telgenhof
DESCRIPTION:Deze dienst is on-line of later te volgen via Kerkdienstgemist\n\nLiturgie\nZingen Opw. 520\nVotum en groet\nZingen Liedboek 2013 – 103C: 1\, 2\, 3\nLezen: Matteüs 5: 1 – 16 + 6: 33\nZingen Liedboek 2013 – 103C: 4\, 5\nGebed\nKindermoment\nBijbellezing: Marcus 1: 1 – 20 en Lukas 17: 21\nPreek – thema: Het welles/nietes van Gods Koninkrijk\nZingen Opw. 123\nMededelingen en Voorbede + Dankgebed\nCollecte Kerk en Emeritering\nZingen Opw. 430\nZegen \nBegeleiding: Nanno Siertsema\nSchriftlezing: Tonny Prins \nU kunt uw bijdrage in de collecte overmaken via de Scipio-app of op NL 51 RABO 0329 1113 10 onder vermelding van “collecte on-line diensten”. De Commissie van Beheer zorgt dan voor de verdeling over de collectedoelen. \nKlik hier voor de liturgie met teksten\nEen goede dienst gewenst in verbondenheid
URL:https://ngk-hoogezand-sappemeer.nl/activiteit/ds-r-f-telgenhof-2/
LOCATION:De Ark\, Rembrandtlaan 194\, Hoogezand\, Groningen\, 9601 XD\, Nederland
CATEGORIES:Kerkdienst
END:VEVENT
BEGIN:VEVENT
DTSTART;TZID=Europe/Amsterdam:20240310T163000
DTEND;TZID=Europe/Amsterdam:20240310T180000
DTSTAMP:20260420T133246
CREATED:20240228T161131Z
LAST-MODIFIED:20240228T161131Z
UID:4561-1710088200-1710093600@ngk-hoogezand-sappemeer.nl
SUMMARY:Geen dienst i.v.m. gespreksavond
DESCRIPTION:
URL:https://ngk-hoogezand-sappemeer.nl/activiteit/geen-dienst-i-v-m-gespreksavond/
LOCATION:Groningen
CATEGORIES:Kerkdienst
END:VEVENT
BEGIN:VEVENT
DTSTART;TZID=Europe/Amsterdam:20240313T193000
DTEND;TZID=Europe/Amsterdam:20240313T210000
DTSTAMP:20260420T133246
CREATED:20240228T161233Z
LAST-MODIFIED:20240310T160316Z
UID:4563-1710358200-1710363600@ngk-hoogezand-sappemeer.nl
SUMMARY:Ds. A.M. Pathuis - Biddag
DESCRIPTION:Deze dienst is on-line of later te volgen via Kerkdienstgemist\n\nLiturgie\nVotum en groet\nZingen: Liedboek 283\nGebed\nLezen: Marcus 4: 26 – 32\nZingen: DNP Psalm 127\nPreek\nZingen: DNP Psalm 126: 2\nGeloofsbelijdenis: HC Zondag 10\nZingen: Liedboek 984: 1\, 2\, 3\nGebed\nZingen: Liedboek 984: 4\, 5\, 6\nCollecte Diaconie\nZingen: Liedboek 905: 1\, 4\nZegen \nBegeleiding: Jan Leemhuis\nSchriftlezing: José Leemhuis \nU kunt uw bijdrage in de collecte overmaken via de Scipio-app of op NL 51 RABO 0329 1113 10 onder vermelding van “collecte on-line diensten”. De Commissie van Beheer zorgt dan voor de verdeling over de collectedoelen. \nKlik hier voor de liturgie met teksten\nEen goede dienst gewenst in verbondenheid
URL:https://ngk-hoogezand-sappemeer.nl/activiteit/ds-a-m-pathuis-biddag/
LOCATION:De Ark\, Rembrandtlaan 194\, Hoogezand\, Groningen\, 9601 XD\, Nederland
CATEGORIES:Kerkdienst
END:VEVENT
BEGIN:VEVENT
DTSTART;TZID=Europe/Amsterdam:20240317T100000
DTEND;TZID=Europe/Amsterdam:20240317T113000
DTSTAMP:20260420T133246
CREATED:20240228T161323Z
LAST-MODIFIED:20240315T163703Z
UID:4565-1710669600-1710675000@ngk-hoogezand-sappemeer.nl
SUMMARY:Ds. A.M. Pathuis
DESCRIPTION:Deze dienst is on-line of later te volgen via Kerkdienstgemist\n\nLiturgie\nVotum en groet\nZingen: DNP Psalm 33: 1\,6\nGebed\nKindermoment\nKinderlied: Kinderopwekking 159\nKinderen naar de kidsclub\nZingen: DNP Psalm 62: 2\, 3\, 5\, 6\nLezen: Matteüs 26: 46 – 56\nPreek\nZingen: DNP Psalm 139: 1\, 7\, 8\nDankgebed\nZingen: Liedboek 1010: 1\, 3\, 4\nCollecte Kerk en Zending & Hulpverlening\nZingen: Liedboek 838: 1\, 3\, 4\nZegen \nBegeleiding: Jan Leemhuis\nSchriftlezing: Francien Venhuizen \nU kunt uw bijdrage in de collecte overmaken via de Scipio-app of op NL 51 RABO 0329 1113 10 onder vermelding van “collecte on-line diensten”. De Commissie van Beheer zorgt dan voor de verdeling over de collectedoelen. \nKlik hier voor de liturgie met teksten\nEen goede dienst gewenst in verbondenheid
URL:https://ngk-hoogezand-sappemeer.nl/activiteit/ds-a-m-pathuis-20/
LOCATION:De Ark\, Rembrandtlaan 194\, Hoogezand\, Groningen\, 9601 XD\, Nederland
CATEGORIES:Kerkdienst
END:VEVENT
BEGIN:VEVENT
DTSTART;TZID=Europe/Amsterdam:20240317T163000
DTEND;TZID=Europe/Amsterdam:20240317T180000
DTSTAMP:20260420T133246
CREATED:20240228T161424Z
LAST-MODIFIED:20240315T164025Z
UID:4567-1710693000-1710698400@ngk-hoogezand-sappemeer.nl
SUMMARY:Br. B.R. Munneke
DESCRIPTION:Deze dienst is on-line of later te volgen via Kerkdienstgemist\n\nLiturgie\nVotum/groet:\nZingen: Opw 124\nGebed om de opening van het Woord\nSchriftlezing: Lukas 4: 1 – 13\nZingen DNP 116: 1\, 3\, 8\nPrediking\nZingen: Gez 164\nGebed\nCollecten Kerk en Zending & Hulpverlening\nZingen: Geloofsbelijdenis Gez. 161\nZegen \nU kunt uw bijdrage in de collecte overmaken via de Scipio-app of op NL 51 RABO 0329 1113 10 onder vermelding van “collecte on-line diensten”. De Commissie van Beheer zorgt dan voor de verdeling over de collectedoelen. \nKlik hier voor de liturgie met teksten\nEen goede dienst gewenst in verbondenheid
URL:https://ngk-hoogezand-sappemeer.nl/activiteit/br-b-r-munneke-6/
LOCATION:De Ark\, Rembrandtlaan 194\, Hoogezand\, Groningen\, 9601 XD\, Nederland
CATEGORIES:Kerkdienst
END:VEVENT
BEGIN:VEVENT
DTSTART;TZID=Europe/Amsterdam:20240324T100000
DTEND;TZID=Europe/Amsterdam:20240324T113000
DTSTAMP:20260420T133246
CREATED:20240228T161705Z
LAST-MODIFIED:20240323T092923Z
UID:4569-1711274400-1711279800@ngk-hoogezand-sappemeer.nl
SUMMARY:Zr. C.L. Prins
DESCRIPTION:Deze dienst is on-line of later te volgen via Kerkdienstgemist\n\nLiturgie\nWelkom en mededelingen\nGezongen votum en groet\nZingen: Opwekking 805\nZingen: Gezang 168\nGebed\nKindermoment\nProjectlied: Ja\, ja\, ja Petrus\nLezen: Matteüs 26: 57 – 75\nPreek: Jezelf tegenvallen\nZingen: Opwekking 629\nDankgebed en voorbeden\nLeefregel\nZingen: Liedboek 51b\nZingen: Gezang 167\nCollecteaankondiging Kerk en Theologische Universiteit\nZingen: Psalm 25: 2\, 3\, 4\nZegen en amen \nBegeleiding: Nanno Siertsema\nSchriftlezing: Geert Bondt \nU kunt uw bijdrage in de collecte overmaken via de Scipio-app of op NL 51 RABO 0329 1113 10 onder vermelding van “collecte on-line diensten”. De Commissie van Beheer zorgt dan voor de verdeling over de collectedoelen. \nKlik hier voor de liturgie met teksten\nEen goede dienst gewenst in verbondenheid
URL:https://ngk-hoogezand-sappemeer.nl/activiteit/zr-c-l-prins-3/
LOCATION:De Ark\, Rembrandtlaan 194\, Hoogezand\, Groningen\, 9601 XD\, Nederland
CATEGORIES:Kerkdienst
END:VEVENT
BEGIN:VEVENT
DTSTART;TZID=Europe/Amsterdam:20240324T163000
DTEND;TZID=Europe/Amsterdam:20240324T180000
DTSTAMP:20260420T133246
CREATED:20240228T161816Z
LAST-MODIFIED:20240323T093150Z
UID:4571-1711297800-1711303200@ngk-hoogezand-sappemeer.nl
SUMMARY:Ds. H. van Noort
DESCRIPTION:Deze dienst is on-line of later te volgen via Kerkdienstgemist\n\nLiturgie\nVotum en groet\nZingen GK Psalm 86: 3\, 4\nGebed\nLezen doopformulier 3 (alleen: laatste vraag\ndoopouders en &#39;oproep gemeente&#39;)\nZingen DNP Psalm 78: 1\, 2\nVerkondiging\nApostolische geloofsbelijdenis\nVerkondiging\nZingen NLB 653: 1\, 5\, 7\nGebed (zingen) NLB 1006\nCollecte Kerk en Theologische Universiteit\nZingen GK Psalm 89: 1\, 6\, 7\nZegen \nU kunt uw bijdrage in de collecte overmaken via de Scipio-app of op NL 51 RABO 0329 1113 10 onder vermelding van “collecte on-line diensten”. De Commissie van Beheer zorgt dan voor de verdeling over de collectedoelen. \nKlik hier voor de liturgie met teksten\nEen goede dienst gewenst in verbondenheid
URL:https://ngk-hoogezand-sappemeer.nl/activiteit/ds-h-van-noort-2/
LOCATION:De Ark\, Rembrandtlaan 194\, Hoogezand\, Groningen\, 9601 XD\, Nederland
CATEGORIES:Kerkdienst
END:VEVENT
BEGIN:VEVENT
DTSTART;TZID=Europe/Amsterdam:20240327T163000
DTEND;TZID=Europe/Amsterdam:20240327T180000
DTSTAMP:20260420T133246
CREATED:20240327T212306Z
LAST-MODIFIED:20240327T212306Z
UID:4612-1711557000-1711562400@ngk-hoogezand-sappemeer.nl
SUMMARY:Br. G.J. Bondt
DESCRIPTION:Deze dienst is on-line of later te volgen via Kerkdienstgemist\n\nLiturgie\nVOLGT ZODRA BEKEND \nU kunt uw bijdrage in de collecte overmaken via de Scipio-app of op NL 51 RABO 0329 1113 10 onder vermelding van “collecte on-line diensten”. De Commissie van Beheer zorgt dan voor de verdeling over de collectedoelen. \nKlik hier voor de liturgie met teksten\nEen goede dienst gewenst in verbondenheid
URL:https://ngk-hoogezand-sappemeer.nl/activiteit/br-g-j-bondt-14/
LOCATION:De Ark\, Rembrandtlaan 194\, Hoogezand\, Groningen\, 9601 XD\, Nederland
CATEGORIES:Kerkdienst
END:VEVENT
BEGIN:VEVENT
DTSTART;TZID=Europe/Amsterdam:20240328T193000
DTEND;TZID=Europe/Amsterdam:20240328T203000
DTSTAMP:20260420T133246
CREATED:20240327T211946Z
LAST-MODIFIED:20240328T095301Z
UID:4606-1711654200-1711657800@ngk-hoogezand-sappemeer.nl
SUMMARY:Ds. A.M. Pathuis -Vesperdienst
DESCRIPTION:Deze dienst is on-line of later te volgen via Kerkdienstgemist\n\n\nLiturgie\nIn stilte bereiden we ons voor op de vesper \nGebed\nWelkom en inleiding\n(We nemen een slokje druivensap: l’chaim – ‘op het leven’)\nZingen: DNP Psalm 75: 1\nLezen: Exodus 12: 1 – 20\n(We proeven van een aantal onderdelen van de Pesach-maaltijd) \nLezen: Johannes 13: 1 – 11\n(Voetwassing van één of twee gemeenteleden)\nLezen: Johannes 13: 12 – 15\nZingen: Opwekking 51\nLezen: Matteüs 26: 26 – 30\nZingen: DNP Psalm 116: 1\, 6\, 7\, 8\nLezen: Matteüs 26: 36 – 46\nZingen: Liedboek 247: 1\, 2\, 3\nWe verlaten\, ieder op ons eigen moment\, de kerk in stilte \nBegeleiding: Jan Leemhuis\nSchriftlezing: Sem Bolhuis\nSchriftlezing: Berdien Boerema \nKlik hier voor de liturgie met teksten\n \nEen goede dienst gewenst in verbondenheid
URL:https://ngk-hoogezand-sappemeer.nl/activiteit/ds-a-m-pathuis-vesperdienst/
LOCATION:De Ark\, Rembrandtlaan 194\, Hoogezand\, Groningen\, 9601 XD\, Nederland
CATEGORIES:Kerkdienst
ATTACH;FMTTYPE=image/jpeg:https://ngk-hoogezand-sappemeer.nl/wp-content/uploads/2024/03/Stille-week1.jpg
END:VEVENT
BEGIN:VEVENT
DTSTART;TZID=Europe/Amsterdam:20240329T193000
DTEND;TZID=Europe/Amsterdam:20240329T210000
DTSTAMP:20260420T133246
CREATED:20240228T161927Z
LAST-MODIFIED:20240328T095249Z
UID:4573-1711740600-1711746000@ngk-hoogezand-sappemeer.nl
SUMMARY:Ds. A.M. Pathuis - Goede Vrijdag
DESCRIPTION:Deze dienst is on-line of later te volgen via Kerkdienstgemist\n\nLiturgie\nKlik hier voor de liturgie met teksten\nIn stilte bereiden we ons voor op de dienst\nVotum en groet\nZingen: Opwekking 595\nGebed\nLezen: Johannes 18: 12 – 27\nZingen: Gedicht ‘Petrus’ op de wijs van Liedboek 536\nLezen: Johannes 18: 28 – 40\nZingen: Liedboek 587: 1\, 2\, 3\nLezen: Johannes 19:1 – 16a\nPianosolo over melodie ‘O\, hoofd vol bloed en wonden’\nLezen: Johannes 19: 16b – 30\nLuisteren: ‘This is my commandment’ van James Whitbourn\,\nDe kaars wordt gedoofd\nStilte\nOverdenking\nZingen: Liedboek 574: 1\, 2\nDankgebed\nZingen: Opwekking 509\nZegen\nWe verlaten\, ieder op ons eigen moment\, de kerk in stilte \nBegeleiding: Jan Leemhuis\nSchriftlezing: Alco Huttenga\nSchriftlezing: Jannie Prins \nU kunt uw bijdrage in de collecte overmaken via de Scipio-app of op NL 51 RABO 0329 1113 10 onder vermelding van “collecte on-line diensten”. De Commissie van Beheer zorgt dan voor de verdeling over de collectedoelen. \n\n\n\nEen goede dienst gewenst in verbondenheid\n 
URL:https://ngk-hoogezand-sappemeer.nl/activiteit/ds-a-m-pathuis-goede-vrijdag-2/
LOCATION:De Ark\, Rembrandtlaan 194\, Hoogezand\, Groningen\, 9601 XD\, Nederland
CATEGORIES:Kerkdienst
ATTACH;FMTTYPE=image/jpeg:https://ngk-hoogezand-sappemeer.nl/wp-content/uploads/2024/03/Stille-week1.jpg
END:VEVENT
BEGIN:VEVENT
DTSTART;TZID=Europe/Amsterdam:20240330T193000
DTEND;TZID=Europe/Amsterdam:20240330T203000
DTSTAMP:20260420T133246
CREATED:20240327T212036Z
LAST-MODIFIED:20240328T095804Z
UID:4608-1711827000-1711830600@ngk-hoogezand-sappemeer.nl
SUMMARY:Ds. A.M. Pathuis - Vesperdienst
DESCRIPTION:Deze dienst is on-line of later te volgen via Kerkdienstgemist\n\nLiturgie \nKlik hier voor de liturgie met teksten\nIn stilte bereiden we ons voor op de vesper\nZingen: PvN Psalm 130\nGebed\nInleiding bij de lezing\nLezing: Johannes 19: 38 – 42\nStilte\nAansteken van de kaars\nZingen: Liedboek 598\nGebed\nZingen: Opwekking 717\nWe verlaten\, ieder op ons eigen moment\, de kerk in stilte \nBegeleiding: Nanno Siertsema\nSchriftlezing: Jannie Prins \n\nEen goede dienst gewenst in verbondenheid
URL:https://ngk-hoogezand-sappemeer.nl/activiteit/ds-a-m-pathuis-vesperdienst-2/
LOCATION:De Ark\, Rembrandtlaan 194\, Hoogezand\, Groningen\, 9601 XD\, Nederland
CATEGORIES:Kerkdienst
ATTACH;FMTTYPE=image/jpeg:https://ngk-hoogezand-sappemeer.nl/wp-content/uploads/2024/03/Stille-week1.jpg
END:VEVENT
BEGIN:VEVENT
DTSTART;TZID=Europe/Amsterdam:20240331T100000
DTEND;TZID=Europe/Amsterdam:20240331T113000
DTSTAMP:20260420T133246
CREATED:20240228T162018Z
LAST-MODIFIED:20240330T083516Z
UID:4575-1711879200-1711884600@ngk-hoogezand-sappemeer.nl
SUMMARY:Ds. A.M. Pathuis - Pasen - Heilig Avondmaal
DESCRIPTION:Deze dienst is on-line of later te volgen via Kerkdienstgemist\n\nLiturgie\n– Zingen: Sela – ‘Opgestaan’\n– Votum en groet\n– Zingen: Opwekking 847 ‘Er is hoop die groter dan de dood is’\n– Zingen: Opwekking 799 ‘In eeuwigheid’\n– Gebed\n– Kindermoment\n   o Lezen: Johannes 20:1-10 (BGT)\n   o Zingen: Elly &amp; Rikkert ‘Hij is opgestaan’\n– Lezen: Johannes 20:11-18 (NBV21)\n– Preek\n– Zingen: Sela – ‘Huis van vrede’\n– Dankgebed\n– Viering Avondmaal\n   o Collecte Diaconie en Kerk\n   o Zingen: Opwekking 795 ‘Ik geloof in de Zoon / Amen’\n   o Korte uitleg bij het Avondmaal\, gebed\n   o Zingen: Sela – ‘U nodigt mij aan tafel’\n  o Nodiging en viering\n– Zingen: Opwekking 832 ‘Jezus\, overwinnaar’\n– Zegen\n– Zingen: Opwekking 213 ‘U zij de glorie’ \nBegeleiding: Nanno Siertsema en Menorah \nU kunt uw bijdrage in de collecte overmaken via de Scipio-app of op NL 51 RABO 0329 1113 10 onder vermelding van “collecte on-line diensten”. De Commissie van Beheer zorgt dan voor de verdeling over de collectedoelen. \nKlik hier voor de liturgie met teksten\nEen goede dienst gewenst in verbondenheid
URL:https://ngk-hoogezand-sappemeer.nl/activiteit/ds-a-m-pathuis-pasen-heilig-avondmaal-2/
LOCATION:De Ark\, Rembrandtlaan 194\, Hoogezand\, Groningen\, 9601 XD\, Nederland
CATEGORIES:Kerkdienst
END:VEVENT
BEGIN:VEVENT
DTSTART;TZID=Europe/Amsterdam:20240331T163000
DTEND;TZID=Europe/Amsterdam:20240331T180000
DTSTAMP:20260420T133246
CREATED:20240228T162247Z
LAST-MODIFIED:20240330T083741Z
UID:4577-1711902600-1711908000@ngk-hoogezand-sappemeer.nl
SUMMARY:Ds. H. Zeilstra - Pasen - Heilig Avondmaal
DESCRIPTION:Deze dienst is on-line of later te volgen via Kerkdienstgemist\n\nLiturgie\nKlik hier voor de liturgie met teksten\nVotum en zegen\nLvdK Gezang 218: 1\, 2\, 7\, 8 a capella\nAvondmaal formulier 5\nGeloofsbelijdenis\nOpwekking 407\nViering Avondmaal\nDanken viering Avondmaal en bidden om\nopening van het woord\nLezen: Marcus 16: 9 – 20\nLvdK Gezang 215: 1\, 2\, 3\nTekst: Marcus 16: 15 – 16\nPreek\nGK06 Gezang 64: 1\, 2\, 3\nGebed\nCollecte Diaconie en Kerk\nGK06 Gezang 99: 1\, 3\nZegen \nU kunt uw bijdrage in de collecte overmaken via de Scipio-app of op NL 51 RABO 0329 1113 10 onder vermelding van “collecte on-line diensten”. De Commissie van Beheer zorgt dan voor de verdeling over de collectedoelen. \nEen goede dienst gewenst in verbondenheid
URL:https://ngk-hoogezand-sappemeer.nl/activiteit/ds-h-zeilstra-pasen-heilig-avondmaal/
LOCATION:De Ark\, Rembrandtlaan 194\, Hoogezand\, Groningen\, 9601 XD\, Nederland
CATEGORIES:Kerkdienst
END:VEVENT
END:VCALENDAR