BEGIN:VCALENDAR
VERSION:2.0
PRODID:-//NGK Hoogezand-Sappemeer - ECPv6.3.7//NONSGML v1.0//EN
CALSCALE:GREGORIAN
METHOD:PUBLISH
X-ORIGINAL-URL:https://ngk-hoogezand-sappemeer.nl
X-WR-CALDESC:Evenementen voor NGK Hoogezand-Sappemeer
REFRESH-INTERVAL;VALUE=DURATION:PT1H
X-Robots-Tag:noindex
X-PUBLISHED-TTL:PT1H
BEGIN:VTIMEZONE
TZID:Europe/Amsterdam
BEGIN:DAYLIGHT
TZOFFSETFROM:+0100
TZOFFSETTO:+0200
TZNAME:CEST
DTSTART:20240331T010000
END:DAYLIGHT
BEGIN:STANDARD
TZOFFSETFROM:+0200
TZOFFSETTO:+0100
TZNAME:CET
DTSTART:20241027T010000
END:STANDARD
END:VTIMEZONE
BEGIN:VEVENT
DTSTART;TZID=Europe/Amsterdam:20240107T100000
DTEND;TZID=Europe/Amsterdam:20240107T113000
DTSTAMP:20260420T161538
CREATED:20231216T163024Z
LAST-MODIFIED:20240105T223457Z
UID:4433-1704621600-1704627000@ngk-hoogezand-sappemeer.nl
SUMMARY:Zr. C.L. Prins
DESCRIPTION:Deze dienst in on-line of later te volgen via Kerkdienstgemist\n\nLiturgie\nGezongen votum en groet\nZingen: Opwekking 815\nZingen: Opwekking 689\nGebed\nKindermoment\nLezen: Lucas 3: 21 – 22\nLezen: Lucas 4: 1 – 15\nPreek: Standvastig in de strijd!\nLuisterlied: Dingen die je doet – Matthijn Buwalda\nZingen: Gezang (2017) 238\nDankgebed en voorbeden\nLeefregel\nZingen: Gezang (2017) 237\nZingen: Opwekking 832\nCollecte kerk en Zending en Hulpverlening\nZingen: Psalm 150\nZegen en amen \nBegeleiding: Jan Leemhuis\nSchriftlezing: Antje Leemhuis \nU kunt uw bijdrage in de collecte overmaken via de Scipio-app of op NL 51 RABO 0329 1113 10 onder vermelding van “collecte on-line diensten”. De Commissie van Beheer zorgt dan voor de verdeling over de collectedoelen. \nKlik hier voor de liturgie met teksten\nEen goede dienst gewenst in verbondenheid
URL:https://ngk-hoogezand-sappemeer.nl/activiteit/zr-c-l-prins-2/
LOCATION:De Ark\, Rembrandtlaan 194\, Hoogezand\, Groningen\, 9601 XD\, Nederland
CATEGORIES:Kerkdienst
END:VEVENT
BEGIN:VEVENT
DTSTART;TZID=Europe/Amsterdam:20240107T163000
DTEND;TZID=Europe/Amsterdam:20240107T180000
DTSTAMP:20260420T161538
CREATED:20231216T163112Z
LAST-MODIFIED:20240105T223657Z
UID:4435-1704645000-1704650400@ngk-hoogezand-sappemeer.nl
SUMMARY:Br. H. Dokter
DESCRIPTION:Deze dienst in on-line of later te volgen via Kerkdienstgemist\n\nLiturgie\nVotum en groet\nZingen: Psalm 8: 1\, 2\, 3\nGebed\nLezen: HC zondag 4\nZingen: DNP Psalm 7: 3\nLezen: Nahum 1: 1 – 6\nLezen: Matteüs 10: 24 – 33\nZingen: Opw. 46\nTekst: Nahum 1: 6 &amp; Matteüs 10: 28\nPreek: Rechtvaardig én Barmhartig?\nZingen: Lied 412: 1\, 2\, 3\nGeloofsbelijdenis van Nicea\nZingen: DNP Psalm 101: 1\, 3\, 4\, 5\nDanken & Bidden\nCollecte kerk en Zending en Hulpverlening\nZingen: Gezang 238: 1\, 2\, 3\nZegen \nU kunt uw bijdrage in de collecte overmaken via de Scipio-app of op NL 51 RABO 0329 1113 10 onder vermelding van “collecte on-line diensten”. De Commissie van Beheer zorgt dan voor de verdeling over de collectedoelen. \nKlik hier voor de liturgie met teksten\nEen goede dienst gewenst in verbondenheid
URL:https://ngk-hoogezand-sappemeer.nl/activiteit/lezen/
LOCATION:De Ark\, Rembrandtlaan 194\, Hoogezand\, Groningen\, 9601 XD\, Nederland
CATEGORIES:Kerkdienst
END:VEVENT
BEGIN:VEVENT
DTSTART;TZID=Europe/Amsterdam:20240114T100000
DTEND;TZID=Europe/Amsterdam:20240114T113000
DTSTAMP:20260420T161538
CREATED:20231216T163232Z
LAST-MODIFIED:20240113T112157Z
UID:4437-1705226400-1705231800@ngk-hoogezand-sappemeer.nl
SUMMARY:Ds. A.M. Pathuis
DESCRIPTION:Deze dienst in on-line of later te volgen via Kerkdienstgemist\n\nLiturgie\nVotum en groet\nZingen: DNP Psalm 23\nGebed\nKindermoment\nZingen: Kinderopwekking 22\nLezen: Johannes 2: 1 – 11\nPreek\nZingen: DNP Psalm 34: 1\, 2\nBevestiging van Hilda Horst als diaken\nZingen: DNP Psalm 134\nToewijding: Liedboek 912\nDankgebed en voorbeden\nCollecte Kerk en Theologische Universiteit\nZingen: Opwekking 267 (2x)\nZegen \nBegeleiding: Nanno Siertsema\nSchriftlezing: Wim Harmanny \nU kunt uw bijdrage in de collecte overmaken via de Scipio-app of op NL 51 RABO 0329 1113 10 onder vermelding van “collecte on-line diensten”. De Commissie van Beheer zorgt dan voor de verdeling over de collectedoelen. \nKlik hier voor de liturgie met teksten\nEen goede dienst gewenst in verbondenheid
URL:https://ngk-hoogezand-sappemeer.nl/activiteit/ds-a-m-pathuis-15/
LOCATION:De Ark\, Rembrandtlaan 194\, Hoogezand\, Groningen\, 9601 XD\, Nederland
CATEGORIES:Kerkdienst
END:VEVENT
BEGIN:VEVENT
DTSTART;TZID=Europe/Amsterdam:20240114T163000
DTEND;TZID=Europe/Amsterdam:20240114T180000
DTSTAMP:20260420T161538
CREATED:20231216T163314Z
LAST-MODIFIED:20240113T112402Z
UID:4439-1705249800-1705255200@ngk-hoogezand-sappemeer.nl
SUMMARY:Ds. H. Zeilstra
DESCRIPTION:Deze dienst in on-line of later te volgen via Kerkdienstgemist\n\nLiturgie\nVotum en zegengroet\nGK06 Gezang 158\nGebed\nMatteüs 5: 20 – 26\nMatteüs 7: 28 – 8: 3\nPsalm 139: 1\, 2\, 11\nPreek\nOpwekking 642\nGeloofsbelijdenis\nGK06 Gezang 107: 1\, 3\nGebed\nCollecte Kerk en Theologische Universiteit\nGK06 Gezang 160: 1\, 2\nZegen \nU kunt uw bijdrage in de collecte overmaken via de Scipio-app of op NL 51 RABO 0329 1113 10 onder vermelding van “collecte on-line diensten”. De Commissie van Beheer zorgt dan voor de verdeling over de collectedoelen. \nKlik hier voor de liturgie met teksten\nEen goede dienst gewenst in verbondenheid
URL:https://ngk-hoogezand-sappemeer.nl/activiteit/ds-h-zeilstra-2/
LOCATION:De Ark\, Rembrandtlaan 194\, Hoogezand\, Groningen\, 9601 XD\, Nederland
CATEGORIES:Kerkdienst
END:VEVENT
BEGIN:VEVENT
DTSTART;TZID=Europe/Amsterdam:20240121T100000
DTEND;TZID=Europe/Amsterdam:20240121T113000
DTSTAMP:20260420T161538
CREATED:20231216T163440Z
LAST-MODIFIED:20240120T092931Z
UID:4441-1705831200-1705836600@ngk-hoogezand-sappemeer.nl
SUMMARY:Ds. A.M. Pathuis
DESCRIPTION:Deze dienst in on-line of later te volgen via Kerkdienstgemist\n\nLiturgie\nAls votum: Zingen: DNP Psalm 121\nGroet\nZingen: Opwekking 507\nGebed\nKindermoment\nZingen: Opwekking 488\nLezen: Johannes 6: 60 – 69\nPreek\nZingen: Sela – ‘Wij gaan niet zonder U’\nBelijdenis; Korte uitleg\nGetuigenissen\nZingen: Hillsong – ‘Oceans’\nBelijdenisvragen\nZegen\nZingen: Opwekking 710\nCadeaus\nDankgebed en voorbede\nCollecte kerk en diaconie\nZingen: Opwekking 764\nZegen\nZingen: Elevation Worship – ‘The Blessing’ \nBegeleiding: Nanno Siertsema\nSchriftlezing: Dylan Horst \nU kunt uw bijdrage in de collecte overmaken via de Scipio-app of op NL 51 RABO 0329 1113 10 onder vermelding van “collecte on-line diensten”. De Commissie van Beheer zorgt dan voor de verdeling over de collectedoelen. \nKlik hier voor de liturgie met teksten\nEen goede dienst gewenst in verbondenheid
URL:https://ngk-hoogezand-sappemeer.nl/activiteit/ds-a-m-pathuis-16/
LOCATION:De Ark\, Rembrandtlaan 194\, Hoogezand\, Groningen\, 9601 XD\, Nederland
CATEGORIES:Kerkdienst
END:VEVENT
BEGIN:VEVENT
DTSTART;TZID=Europe/Amsterdam:20240121T163000
DTEND;TZID=Europe/Amsterdam:20240121T180000
DTSTAMP:20260420T161538
CREATED:20231216T163658Z
LAST-MODIFIED:20240120T093130Z
UID:4443-1705854600-1705860000@ngk-hoogezand-sappemeer.nl
SUMMARY:Ds. T. Waalewijn
DESCRIPTION:Deze dienst in on-line of later te volgen via Kerkdienstgemist\n\nLiturgie\nVotum en groet\nZingen Opw 520\nGebed\nLezen Genesis 9: 1 – 17\nZingen Psalm 89: 1\, 4\nPreek\nZingen Psalm 105: 5\nGebed\nCollecte kerk en diaconie\nGeloofsbelijdenis\nZingen Opw 378\nZegen \nU kunt uw bijdrage in de collecte overmaken via de Scipio-app of op NL 51 RABO 0329 1113 10 onder vermelding van “collecte on-line diensten”. De Commissie van Beheer zorgt dan voor de verdeling over de collectedoelen. \nKlik hier voor de liturgie met teksten\nEen goede dienst gewenst in verbondenheid
URL:https://ngk-hoogezand-sappemeer.nl/activiteit/ds-t-waalewijn/
LOCATION:De Ark\, Rembrandtlaan 194\, Hoogezand\, Groningen\, 9601 XD\, Nederland
CATEGORIES:Kerkdienst
END:VEVENT
BEGIN:VEVENT
DTSTART;TZID=Europe/Amsterdam:20240125T193000
DTEND;TZID=Europe/Amsterdam:20240125T203000
DTSTAMP:20260420T161538
CREATED:20240124T142520Z
LAST-MODIFIED:20240124T142845Z
UID:4511-1706211000-1706214600@ngk-hoogezand-sappemeer.nl
SUMMARY:Week van Gebed - ds H. Tielemans
DESCRIPTION:  \n  \n  \n  \nLiturgie voor de samenkomst op donderdagavond 25 januari in de Nederlands Gereformeerde Kerk De Ark\,\nwaarin ds. H. Tieleman hoopt voor te gaan.\nHeer\, help ons de wonden te zien en hoop te geven: Lucas 10:34a.\n*Welkom.\n*Lied: Handen heb je om te geven van je eigen overvloed\n*Gebed.\n*Lezing: Joel 2: 23-27 en Psalm 104: 14-15\, 27-30.\n*Overdenking.\n*Lied ’Jezus redt’ opwekking 781\n*Gebeden. Aansluitend het “ Onze Vader” zeggen.\n*Zegenbede. Gezongen ‘zegen’ opwekking 710.
URL:https://ngk-hoogezand-sappemeer.nl/activiteit/week-van-gebed-ds-h-tielemans/
LOCATION:De Ark\, Rembrandtlaan 194\, Hoogezand\, Groningen\, 9601 XD\, Nederland
CATEGORIES:Kerkdienst
END:VEVENT
BEGIN:VEVENT
DTSTART;TZID=Europe/Amsterdam:20240128T100000
DTEND;TZID=Europe/Amsterdam:20240128T113000
DTSTAMP:20260420T161538
CREATED:20231216T163754Z
LAST-MODIFIED:20240127T135434Z
UID:4445-1706436000-1706441400@ngk-hoogezand-sappemeer.nl
SUMMARY:Br. B.R. Munneke
DESCRIPTION:Deze dienst in on-line of later te volgen via Kerkdienstgemist\n\nLiturgie\nVotum en Vrede-/zegengroet\nGezang 249: 1\, 2\nWetslezing\nGezang 249: 4\, 7\, 9\nGebed\nPsalm 68: 8\nLezen: Psalm 27\nLezen: Marcus 5: 21 – 43\nPsalm 34: 1\, 2\, 7\nPreek; Thema: Met lijden moet je bij Jezus zijn\nLiedboek 139b\nGebed\nCollecte Kerk en Evangelisatie\nLiedboek 416\nZegen \nBegeleiding: Jan Leemhuis\nSchriftlezing: Dineke Scherff \nU kunt uw bijdrage in de collecte overmaken via de Scipio-app of op NL 51 RABO 0329 1113 10 onder vermelding van “collecte on-line diensten”. De Commissie van Beheer zorgt dan voor de verdeling over de collectedoelen. \nKlik hier voor de liturgie met teksten\nEen goede dienst gewenst in verbondenheid
URL:https://ngk-hoogezand-sappemeer.nl/activiteit/4445/
LOCATION:De Ark\, Rembrandtlaan 194\, Hoogezand\, Groningen\, 9601 XD\, Nederland
CATEGORIES:Kerkdienst
END:VEVENT
BEGIN:VEVENT
DTSTART;TZID=Europe/Amsterdam:20240128T163000
DTEND;TZID=Europe/Amsterdam:20240128T180000
DTSTAMP:20260420T161538
CREATED:20231216T163905Z
LAST-MODIFIED:20240127T135710Z
UID:4447-1706459400-1706464800@ngk-hoogezand-sappemeer.nl
SUMMARY:Ds. F. Rinkema
DESCRIPTION:Deze dienst in on-line of later te volgen via Kerkdienstgemist\n\nLiturgie\nVotum\, groet\nGK17 Psalm 145: 1\, 2\nGebed\nLezen: Psalm 113\nVerkondiging – Machtig én barmhartig\nGK17 Psalm 8a\nGebed\nGeloofsbelijdenis\nGK17 Gezang 167\nInzameling van de gaven kerk en evangelisatie\nDNP Psalm 66: 1\, 5\nZegen \nBegeleiding: F. Rinkema \nU kunt uw bijdrage in de collecte overmaken via de Scipio-app of op NL 51 RABO 0329 1113 10 onder vermelding van “collecte on-line diensten”. De Commissie van Beheer zorgt dan voor de verdeling over de collectedoelen. \nKlik hier voor de liturgie met teksten\nEen goede dienst gewenst in verbondenheid
URL:https://ngk-hoogezand-sappemeer.nl/activiteit/ds-f-rinkema-3/
LOCATION:De Ark\, Rembrandtlaan 194\, Hoogezand\, Groningen\, 9601 XD\, Nederland
CATEGORIES:Kerkdienst
END:VEVENT
END:VCALENDAR