BEGIN:VCALENDAR
VERSION:2.0
PRODID:-//NGK Hoogezand-Sappemeer - ECPv6.3.7//NONSGML v1.0//EN
CALSCALE:GREGORIAN
METHOD:PUBLISH
X-WR-CALNAME:NGK Hoogezand-Sappemeer
X-ORIGINAL-URL:https://ngk-hoogezand-sappemeer.nl
X-WR-CALDESC:Evenementen voor NGK Hoogezand-Sappemeer
REFRESH-INTERVAL;VALUE=DURATION:PT1H
X-Robots-Tag:noindex
X-PUBLISHED-TTL:PT1H
BEGIN:VTIMEZONE
TZID:Europe/Amsterdam
BEGIN:DAYLIGHT
TZOFFSETFROM:+0100
TZOFFSETTO:+0200
TZNAME:CEST
DTSTART:20230326T010000
END:DAYLIGHT
BEGIN:STANDARD
TZOFFSETFROM:+0200
TZOFFSETTO:+0100
TZNAME:CET
DTSTART:20231029T010000
END:STANDARD
END:VTIMEZONE
BEGIN:VEVENT
DTSTART;TZID=Europe/Amsterdam:20231001T100000
DTEND;TZID=Europe/Amsterdam:20231001T113000
DTSTAMP:20260420T203327
CREATED:20230922T151846Z
LAST-MODIFIED:20230930T080139Z
UID:4237-1696154400-1696159800@ngk-hoogezand-sappemeer.nl
SUMMARY:Zr. C.L. Prins
DESCRIPTION:Deze dienst in on-line of later te volgen via Kerkdienstgemist\n\nU kunt de dienst ook beluisteren via  kerkomroep \nLiturgie\nWelkom en mededelingen\nGezongen votum en groet\nZingen: Psalm 122\nZingen: Psalmen voor nu 130\nGebed\nKindermoment\nLezen: Ezechiël 37\nLezen: Handelingen 28: 17 – 23\nPreek: Israël\, verrast door hoop!\nLuisterlied: Casting Crowns – Spirit Wind\nZingen: Opwekking 669\nDankgebed en voorbeden\nLeefregel\nZingen: Gezang (2006) 167\nZingen: Opwekking 618\nCollecteaankondiging Kerk en Zending en Hulpverlening\nZingen: Sela – Gods zegen voor jou\nZegen \nBegeleiding: Jan Leemhuis\nSchriftlezing: José Leemhuis \nU kunt uw bijdrage in de collecte overmaken via de Scipio-app of op NL 51 RABO 0329 1113 10 onder vermelding van “collecte on-line diensten”. De Commissie van Beheer zorgt dan voor de verdeling over de collectedoelen. \nKlik hier voor de liturgie met teksten\nEen goede dienst gewenst in verbondenheid
URL:https://ngk-hoogezand-sappemeer.nl/activiteit/zr-c-l-prins/
LOCATION:De Ark\, Rembrandtlaan 194\, Hoogezand\, Groningen\, 9601 XD\, Nederland
CATEGORIES:Kerkdienst
END:VEVENT
BEGIN:VEVENT
DTSTART;TZID=Europe/Amsterdam:20231001T163000
DTEND;TZID=Europe/Amsterdam:20231001T180000
DTSTAMP:20260420T203327
CREATED:20230922T151942Z
LAST-MODIFIED:20230930T081045Z
UID:4239-1696177800-1696183200@ngk-hoogezand-sappemeer.nl
SUMMARY:Ds. R. Sietsma
DESCRIPTION:Deze dienst in on-line of later te volgen via Kerkdienstgemist\n\nLiturgie\nVotum en groet\nZingen: LB 103C: 1\, 3\, 4\nGebed\nLezen: Johannes 12: 20 – 36\nZingen: Weerklank 45: 1\, 2\, 3\nTekst en thema: Johannes 12: 35 – Dealen met doodgaan\nLuisteren en zingen: Leef met volle teugen ([Smelt en Bán)\nZingen als Credo: Weerklank 366: 1\, 2\, 3\nDankgebed\nCollectemoment Kerk en Zending en Hulpverlening\nLB 456: 1\, 2\nZegen\nLB 456: 3 \nU kunt uw bijdrage in de collecte overmaken via de Scipio-app of op NL 51 RABO 0329 1113 10 onder vermelding van “collecte on-line diensten”. De Commissie van Beheer zorgt dan voor de verdeling over de collectedoelen. \nKlik hier voor de liturgie met teksten\nEen goede dienst gewenst in verbondenheid
URL:https://ngk-hoogezand-sappemeer.nl/activiteit/ds-r-sietsma-8/
LOCATION:De Ark\, Rembrandtlaan 194\, Hoogezand\, Groningen\, 9601 XD\, Nederland
CATEGORIES:Kerkdienst
END:VEVENT
BEGIN:VEVENT
DTSTART;TZID=Europe/Amsterdam:20231008T100000
DTEND;TZID=Europe/Amsterdam:20231008T113000
DTSTAMP:20260420T203327
CREATED:20230922T152109Z
LAST-MODIFIED:20231006T095100Z
UID:4241-1696759200-1696764600@ngk-hoogezand-sappemeer.nl
SUMMARY:Ds. H. Zeilstra
DESCRIPTION:Deze dienst in on-line of later te volgen via Kerkdienstgemist\n\nU kunt de dienst ook beluisteren via  kerkomroep \nLiturgie\nVotum en zegengroet\nLiedboek voor de kerken 323: 1\, 8\nWet\nPsalm 79: 3\, 5\nGebed\n1 Koningen 19: 1 – 18 \nPsalm 18: 3\, 5\n1 Koningen 19: 9 – 10 en 18 \nPreek\nGK06 Gezang 119: 3\, 4\, 5\nGebed\nCollecte Kerk en Theologische Universiteit\nLiedboek voor de kerken 293: 1\, 2\nZegen \nBegeleiding: Jan Leemhuis\nSchriftlezing: Francien Venhuizen \nU kunt uw bijdrage in de collecte overmaken via de Scipio-app of op NL 51 RABO 0329 1113 10 onder vermelding van “collecte on-line diensten”. De Commissie van Beheer zorgt dan voor de verdeling over de collectedoelen. \nKlik hier voor de liturgie met teksten\nEen goede dienst gewenst in verbondenheid
URL:https://ngk-hoogezand-sappemeer.nl/activiteit/ds-a-j-minnema-2/
LOCATION:De Ark\, Rembrandtlaan 194\, Hoogezand\, Groningen\, 9601 XD\, Nederland
CATEGORIES:Kerkdienst
END:VEVENT
BEGIN:VEVENT
DTSTART;TZID=Europe/Amsterdam:20231008T163000
DTEND;TZID=Europe/Amsterdam:20231008T180000
DTSTAMP:20260420T203327
CREATED:20230922T152219Z
LAST-MODIFIED:20231006T095301Z
UID:4245-1696782600-1696788000@ngk-hoogezand-sappemeer.nl
SUMMARY:Ds. R. Sietsma
DESCRIPTION:Deze dienst in on-line of later te volgen via Kerkdienstgemist\n\nU kunt de dienst ook beluisteren via  kerkomroep \nLiturgie\nVotum en groet van God\nZingen: Opwekking 7\nGebed\nLezen: Psalm 78: 1 – 20\, 67 – 69\nZingen: LB 723\nPreek:  Thema: Nog één rivier\nLuister- of meezinglied: Mattijn Buwalda: Nog één rivier\nDankgebed\nCredo/Belijden: GK 175B\nCollectemoment Kerk en Theologische Universiteit\nSlotlied: GK 228\nZegen \nU kunt uw bijdrage in de collecte overmaken via de Scipio-app of op NL 51 RABO 0329 1113 10 onder vermelding van “collecte on-line diensten”. De Commissie van Beheer zorgt dan voor de verdeling over de collectedoelen. \nKlik hier voor de liturgie met teksten\nEen goede dienst gewenst in verbondenheid
URL:https://ngk-hoogezand-sappemeer.nl/activiteit/ds-r-sietsma-9/
LOCATION:De Ark\, Rembrandtlaan 194\, Hoogezand\, Groningen\, 9601 XD\, Nederland
CATEGORIES:Kerkdienst
END:VEVENT
BEGIN:VEVENT
DTSTART;TZID=Europe/Amsterdam:20231015T100000
DTEND;TZID=Europe/Amsterdam:20231015T113000
DTSTAMP:20260420T203327
CREATED:20230922T152335Z
LAST-MODIFIED:20231014T161726Z
UID:4247-1697364000-1697369400@ngk-hoogezand-sappemeer.nl
SUMMARY:Ds. A.M. Pathuis - Heilig Avondmaal
DESCRIPTION:Deze dienst in on-line of later te volgen via Kerkdienstgemist\n\nLiturgie\nVerwondering\nWelkom en introductie Michazondag\nStilte\, votum en groet\nZingen: DNP Psalm 8 wisselzang\nKindermoment\nZingen: ‘God is in control’ – MSNK\nGebrokenheid en verootmoediging\n– Schuldbelijdenis\n– Zingen: Opwekking 585\n– Gebed\n– Lezen: Joel 1 en Joel 2: 18 – 27\n– Preek\n– Zingen: Schrijvers voor Gerechtigheid\nVernieuwing\nDankgebed\nViering Heilig Avondmaal\nGebed\nZingen: Opwekking 790\nViering\nZingen: Liedboek 23b: 4\, 5\nLeefregel: Micha 6: 8\nCollecte: Micha Nederland\nInteractief moment\nZingen: Opwekking 710\nZegen \nBegeleiding: Nanno Siertsema\nSchriftlezing: Femke Bondt \nU kunt uw bijdrage in de collecte overmaken via de Scipio-app of op NL 51 RABO 0329 1113 10 onder vermelding van “collecte on-line diensten”. De Commissie van Beheer zorgt dan voor de verdeling over de collectedoelen. \nKlik hier voor de liturgie met teksten\nEen goede dienst gewenst in verbondenheid
URL:https://ngk-hoogezand-sappemeer.nl/activiteit/ds-a-m-pathuis-heilig-avondmaal-3/
LOCATION:De Ark\, Rembrandtlaan 194\, Hoogezand\, Groningen\, 9601 XD\, Nederland
CATEGORIES:Kerkdienst
END:VEVENT
BEGIN:VEVENT
DTSTART;TZID=Europe/Amsterdam:20231015T163000
DTEND;TZID=Europe/Amsterdam:20231015T180000
DTSTAMP:20260420T203327
CREATED:20230922T152522Z
LAST-MODIFIED:20231014T161942Z
UID:4249-1697387400-1697392800@ngk-hoogezand-sappemeer.nl
SUMMARY:Ds. Th.J. Havinga - Heilig Avondmaal
DESCRIPTION:Deze dienst in on-line of later te volgen via Kerkdienstgemist\n\nLiturgie\nVotum en groet\nOpw. 277\nGebed\nViering Avondmaal\nOpw. 737\nLB 381: 6\nLezen en tekst: Psalm 63\nPreek\nPs. 63: 1\, 2\nGebed\nGez. 177: 1\, 2\, 3\, 4\nCollecte Micha Nederland\nLB. 416: 1\, 2\, 3\, 4 A capella\nZegen \nU kunt uw bijdrage in de collecte overmaken via de Scipio-app of op NL 51 RABO 0329 1113 10 onder vermelding van “collecte on-line diensten”. De Commissie van Beheer zorgt dan voor de verdeling over de collectedoelen. \nKlik hier voor de liturgie met teksten\nEen goede dienst gewenst in verbondenheid
URL:https://ngk-hoogezand-sappemeer.nl/activiteit/ds-th-j-havinga-heilig-avondmaal/
LOCATION:De Ark\, Rembrandtlaan 194\, Hoogezand\, Groningen\, 9601 XD\, Nederland
CATEGORIES:Kerkdienst
END:VEVENT
BEGIN:VEVENT
DTSTART;TZID=Europe/Amsterdam:20231022T100000
DTEND;TZID=Europe/Amsterdam:20231022T113000
DTSTAMP:20260420T203327
CREATED:20230922T152621Z
LAST-MODIFIED:20231020T141635Z
UID:4251-1697968800-1697974200@ngk-hoogezand-sappemeer.nl
SUMMARY:Br. H. Dokter
DESCRIPTION:Deze dienst in on-line of later te volgen via Kerkdienstgemist\n\nLiturgie\nVotum en groet\nZingen: Opw. 847\nGods wil voor ons leven\nZingen: DNP Psalm 51: 1\, 3\, 5\nGebed\nKinderlied: Opw. voor Kids 40\nLezen: Lucas 18: 9 – 23\nZingen: DNP Psalm 119: 36\, 40 \nTekst: Matteüs 5: 4; Lucas 18: 13\nPreek: Troostvol treuren \nStilte & gebed\nZingen: Psalm 103: 1\, 4\, 5\nDanken & bidden\nCollecte: Kerk &amp; Evangelisatie\nZingen: Opw. 714 \nZegen \nBegeleiding: Nanno Siertsema\nSchriftlezing: Alco Huttenga \nU kunt uw bijdrage in de collecte overmaken via de Scipio-app of op NL 51 RABO 0329 1113 10 onder vermelding van “collecte on-line diensten”. De Commissie van Beheer zorgt dan voor de verdeling over de collectedoelen. \nKlik hier voor de liturgie met teksten\nEen goede dienst gewenst in verbondenheid
URL:https://ngk-hoogezand-sappemeer.nl/activiteit/br-h-dokter-2/
LOCATION:De Ark\, Rembrandtlaan 194\, Hoogezand\, Groningen\, 9601 XD\, Nederland
CATEGORIES:Kerkdienst
END:VEVENT
BEGIN:VEVENT
DTSTART;TZID=Europe/Amsterdam:20231022T163000
DTEND;TZID=Europe/Amsterdam:20231022T180000
DTSTAMP:20260420T203327
CREATED:20230922T152701Z
LAST-MODIFIED:20231020T141813Z
UID:4253-1697992200-1697997600@ngk-hoogezand-sappemeer.nl
SUMMARY:Ds. H. Zeilstra
DESCRIPTION:Deze dienst in on-line of later te volgen via Kerkdienstgemist\n\nLiturgie\nVotum en groet\nGKB2006 Gezang 119: 1\, 5\nGebed\nRechters 15: 9 – 15\nRechters 16: 15 – 31\nPsalm 9: 7\, 11\, 16\nRechters 16: 28a\nPreek\nNieuwe Psalmberijming 87: 1\, 2\, 3\, 4\nGeloofsbelijdenis\nPsalm 150: 1\nGebed\nCollecte Kerk & Evangelisatie\nOpwekking 509\nZegen \nU kunt uw bijdrage in de collecte overmaken via de Scipio-app of op NL 51 RABO 0329 1113 10 onder vermelding van “collecte on-line diensten”. De Commissie van Beheer zorgt dan voor de verdeling over de collectedoelen. \nKlik hier voor de liturgie met teksten\nEen goede dienst gewenst in verbondenheid
URL:https://ngk-hoogezand-sappemeer.nl/activiteit/br-p-braam-4/
LOCATION:De Ark\, Rembrandtlaan 194\, Hoogezand\, Groningen\, 9601 XD\, Nederland
CATEGORIES:Kerkdienst
END:VEVENT
BEGIN:VEVENT
DTSTART;TZID=Europe/Amsterdam:20231029T100000
DTEND;TZID=Europe/Amsterdam:20231029T113000
DTSTAMP:20260420T203327
CREATED:20230922T152843Z
LAST-MODIFIED:20231027T144723Z
UID:4255-1698573600-1698579000@ngk-hoogezand-sappemeer.nl
SUMMARY:Ds. R.F. Telgenhof
DESCRIPTION:Deze dienst in on-line of later te volgen via Kerkdienstgemist\n\nLiturgie\nWelkom\nZingen (votum) Ps. 121: 1\, 2\nZegengroet\nZingen Ps. 121: 3\, 4\nGeloofsbelijdenis: 1 Korintiërs 15: 19 – 28\nZingen GKB 2006 Gz 158\nGebed\nKinderen naar de clubs\nSchriftlezing: Genesis 50: 19 – 26\nSchriftlezing: Hebreeën 11: 1 – 3 en 22\nZingen Liedboek 103C: 1\, 2\nTekst: Hebreeën 11: 22\nPreek; Thema: In leven en sterven naar Gods eeuwige toekomst toe\nZingen Liedboek 103C: 3\, 4\nMededelingen en gebed; bij het gebed lezen: Ps. 125 en zingen: NLB 447\nCollecte kerk en Emeritering\nZingen Psalm 98: 1\, 3\, 4\nZingen Liedboek 415: 1\, 2\nZegen\nZingen Liedboek 415: 3 \nBegeleiding: Jan Leemhuis\nSchriftlezing: Geert Bondt \nU kunt uw bijdrage in de collecte overmaken via de Scipio-app of op NL 51 RABO 0329 1113 10 onder vermelding van “collecte on-line diensten”. De Commissie van Beheer zorgt dan voor de verdeling over de collectedoelen. \nKlik hier voor de liturgie met teksten\nEen goede dienst gewenst in verbondenheid
URL:https://ngk-hoogezand-sappemeer.nl/activiteit/ds-r-f-telgenhof/
LOCATION:De Ark\, Rembrandtlaan 194\, Hoogezand\, Groningen\, 9601 XD\, Nederland
CATEGORIES:Kerkdienst
END:VEVENT
BEGIN:VEVENT
DTSTART;TZID=Europe/Amsterdam:20231029T163000
DTEND;TZID=Europe/Amsterdam:20231029T180000
DTSTAMP:20260420T203327
CREATED:20230922T152937Z
LAST-MODIFIED:20231027T144942Z
UID:4257-1698597000-1698602400@ngk-hoogezand-sappemeer.nl
SUMMARY:Ds. A.M. Pathuis
DESCRIPTION:Deze dienst in on-line of later te volgen via Kerkdienstgemist\n\nLiturgie\nVotum en groet\nZingen: DNP Psalm 98 (a capella)\nGebed\nZingen: DNP Psalm 104: 1\nLezen: Psalm 104: 5 – 30\nZingen: DNP Psalm 104: 8\nLezen: Romeinen 11: 33 – 36\nPreek; Thema: God\, Schepper van hemel en aarde\nLuisterlied: Schrijvers voor Gerechtigheid ‘God van de aarde’\nDankgebed \nCollectemoment Kerk en Emeritering\nGeloofsbelijdenis van Nicea\nZingen: Liedboek 978\nZegen \nU kunt uw bijdrage in de collecte overmaken via de Scipio-app of op NL 51 RABO 0329 1113 10 onder vermelding van “collecte on-line diensten”. De Commissie van Beheer zorgt dan voor de verdeling over de collectedoelen. \nKlik hier voor de liturgie met teksten\nEen goede dienst gewenst in verbondenheid
URL:https://ngk-hoogezand-sappemeer.nl/activiteit/ds-a-m-pathuis-10/
LOCATION:De Ark\, Rembrandtlaan 194\, Hoogezand\, Groningen\, 9601 XD\, Nederland
CATEGORIES:Kerkdienst
END:VEVENT
END:VCALENDAR