BEGIN:VCALENDAR
VERSION:2.0
PRODID:-//NGK Hoogezand-Sappemeer - ECPv6.3.7//NONSGML v1.0//EN
CALSCALE:GREGORIAN
METHOD:PUBLISH
X-WR-CALNAME:NGK Hoogezand-Sappemeer
X-ORIGINAL-URL:https://ngk-hoogezand-sappemeer.nl
X-WR-CALDESC:Evenementen voor NGK Hoogezand-Sappemeer
REFRESH-INTERVAL;VALUE=DURATION:PT1H
X-Robots-Tag:noindex
X-PUBLISHED-TTL:PT1H
BEGIN:VTIMEZONE
TZID:Europe/Amsterdam
BEGIN:DAYLIGHT
TZOFFSETFROM:+0100
TZOFFSETTO:+0200
TZNAME:CEST
DTSTART:20230326T010000
END:DAYLIGHT
BEGIN:STANDARD
TZOFFSETFROM:+0200
TZOFFSETTO:+0100
TZNAME:CET
DTSTART:20231029T010000
END:STANDARD
END:VTIMEZONE
BEGIN:VEVENT
DTSTART;TZID=Europe/Amsterdam:20230702T100000
DTEND;TZID=Europe/Amsterdam:20230702T113000
DTSTAMP:20260421T005304
CREATED:20230618T204723Z
LAST-MODIFIED:20230708T143338Z
UID:4107-1688292000-1688297400@ngk-hoogezand-sappemeer.nl
SUMMARY:Br. P. Braam
DESCRIPTION:Deze dienst in on-line of later te volgen via Kerkdienstgemist\n\nU kunt de dienst ook beluisteren via  kerkomroep \nLiturgie\nVotum en groet\nGez 69\nGebed\nKindermoment\n– Lees je bijbel bid elke dag\nLezen Leviticus 10 : 1 – 7\nPsalm 99: 4\, 8\nTekst Leviticus 10: 3\nPreek – thema – de HERE openbaart Zichzelf als de\nHeilige\nLied 457: 1 – 4\nLeefregels\nGebed\nCollecte Kerk en Evangelisatie\nGez 139: 1\, 6\nZegen\nBegeleiding: Nanno Siertsema\nSchriftlezing: José Leemhuis \nU kunt uw bijdrage in de collecte overmaken via de Scipio-app of op NL 51 RABO 0329 1113 10 onder vermelding van “collecte on-line diensten”. De Commissie van Beheer zorgt dan voor de verdeling over de collectedoelen. \nKlik hier voor de liturgie met teksten\nEen goede dienst gewenst in verbondenheid
URL:https://ngk-hoogezand-sappemeer.nl/activiteit/br-p-braam-2/
LOCATION:De Ark\, Rembrandtlaan 194\, Hoogezand\, Groningen\, 9601 XD\, Nederland
CATEGORIES:Kerkdienst
END:VEVENT
BEGIN:VEVENT
DTSTART;TZID=Europe/Amsterdam:20230702T163000
DTEND;TZID=Europe/Amsterdam:20230702T180000
DTSTAMP:20260421T005304
CREATED:20230618T204839Z
LAST-MODIFIED:20230708T143530Z
UID:4109-1688315400-1688320800@ngk-hoogezand-sappemeer.nl
SUMMARY:Ds. R. Sietsma
DESCRIPTION:Deze dienst in on-line of later te volgen via Kerkdienstgemist\n\nU kunt de dienst ook beluisteren via  kerkomroep \nLiturgie\nWelkom\, mededelingen\nVotum en groet\nZingen: Lb. 906: 1\, 7\, 8\nGebed\nLezen: Ezechiël 34: 1 – 16\nLezen: Ezechiël 34: 23 – 24\nLezen: Ezechiël 34: 30 – 31\nZingen: Lb. 23b: 1\, 2\, 5\nThema: Joh. 10: 11a – Ik ben de goede herder\nZingen: De Heer is mijn herder\nDankgebed\nCollecte Kerk en Evangelisatie\nZingen belijden: GK 177\nZegen en Amen. \nU kunt uw bijdrage in de collecte overmaken via de Scipio-app of op NL 51 RABO 0329 1113 10 onder vermelding van “collecte on-line diensten”. De Commissie van Beheer zorgt dan voor de verdeling over de collectedoelen. \nKlik hier voor de liturgie met teksten\nEen goede dienst gewenst in verbondenheid
URL:https://ngk-hoogezand-sappemeer.nl/activiteit/ds-r-sietsma-6/
LOCATION:De Ark\, Rembrandtlaan 194\, Hoogezand\, Groningen\, 9601 XD\, Nederland
CATEGORIES:Kerkdienst
END:VEVENT
BEGIN:VEVENT
DTSTART;TZID=Europe/Amsterdam:20230709T100000
DTEND;TZID=Europe/Amsterdam:20230709T113000
DTSTAMP:20260421T005304
CREATED:20230618T205039Z
LAST-MODIFIED:20230708T142046Z
UID:4112-1688896800-1688902200@ngk-hoogezand-sappemeer.nl
SUMMARY:Ds. A.M. Pathuis
DESCRIPTION:Deze dienst in on-line of later te volgen via Kerkdienstgemist\n\nU kunt de dienst ook beluisteren via  kerkomroep \nLiturgie\nVotum en groet\nZingen: DNP Psalm 146: 1\, 3\, 6\nGebed\nWetlezing: Deuteronomium 5: 6 – 21 (BGT)\nZingen: E&R 63\nKindermoment\nZomerkidsclub\nZingen: DNP Psalm 78: 1\, 2\nLezen: Deuteronomium 6: 1 – 12 (NBV21)\nPreek\nZingen: PvN Psalm 16\nDankgebed\nCollecte Kerk en Emeritering\nZingen: Opwekking 520\nZegen \nBegeleiding: Jan Leemhuis\nSchriftlezing: Francien Veenhuizen \nU kunt uw bijdrage in de collecte overmaken via de Scipio-app of op NL 51 RABO 0329 1113 10 onder vermelding van “collecte on-line diensten”. De Commissie van Beheer zorgt dan voor de verdeling over de collectedoelen. \nKlik hier voor de liturgie met teksten\nEen goede dienst gewenst in verbondenheid
URL:https://ngk-hoogezand-sappemeer.nl/activiteit/ds-a-m-pathuis-7/
LOCATION:De Ark\, Rembrandtlaan 194\, Hoogezand\, Groningen\, 9601 XD\, Nederland
CATEGORIES:Kerkdienst
END:VEVENT
BEGIN:VEVENT
DTSTART;TZID=Europe/Amsterdam:20230709T163000
DTEND;TZID=Europe/Amsterdam:20230709T180000
DTSTAMP:20260421T005304
CREATED:20230618T205131Z
LAST-MODIFIED:20230708T142146Z
UID:4114-1688920200-1688925600@ngk-hoogezand-sappemeer.nl
SUMMARY:Br.  B.R. Munneke
DESCRIPTION:Deze dienst in on-line of later te volgen via Kerkdienstgemist\n\nU kunt de dienst ook beluisteren via  kerkomroep \nLiturgie\nToewijding en groet\nZingen Nieuwe Liedboek 289\nGebed\nLezen 2 Koningen 16\nZingen LvdK 125: 1\, 2\, 5\nPreek\nZingen Opw 595\nGebed\nCollectemoment Kerk en Emeritering\nZingen Geloofsbelijdenis zingen 179a\nZegen \nU kunt uw bijdrage in de collecte overmaken via de Scipio-app of op NL 51 RABO 0329 1113 10 onder vermelding van “collecte on-line diensten”. De Commissie van Beheer zorgt dan voor de verdeling over de collectedoelen. \nKlik hier voor de liturgie met teksten\nEen goede dienst gewenst in verbondenheid
URL:https://ngk-hoogezand-sappemeer.nl/activiteit/br-b-r-munneke-2/
LOCATION:De Ark\, Rembrandtlaan 194\, Hoogezand\, Groningen\, 9601 XD\, Nederland
CATEGORIES:Kerkdienst
END:VEVENT
BEGIN:VEVENT
DTSTART;TZID=Europe/Amsterdam:20230716T100000
DTEND;TZID=Europe/Amsterdam:20230716T113000
DTSTAMP:20260421T005304
CREATED:20230708T143959Z
LAST-MODIFIED:20230715T155636Z
UID:4137-1689501600-1689507000@ngk-hoogezand-sappemeer.nl
SUMMARY:Ds. A.M. Pathuis Heilig Avondmaal
DESCRIPTION:Deze dienst in on-line of later te volgen via Kerkdienstgemist\n\nU kunt de dienst ook beluisteren via  kerkomroep \nLiturgie\nVotum en groet\nZingen: PvN Psalm 84\nGebed en voorbede\nKindermoment\nZingen: Opwekking 281\nLezen: Johannes 4: 1 – 26\nZingen: DNP Psalm 36: 2\nPreek\nZingen: ‘Vreugde van mijn hart’ – Sela\nAvondmaalsviering\nCollecte Diaconie en Kerk\nUitleg bij de viering van het Avondmaal\nGebed\nZingen: DNP Psalm 65: 1\, 2\nUitnodiging\nViering (met instrumentale begeleiding)\nZingen: Liedboek 413\nDankgebed\nLeefregel: Filippenzen 4: 4 – 8\nZingen: Liedboek 834\nZegen \nBegeleiding: Jan Leemhuis\nSchriftlezing: Femke Bondt \nU kunt uw bijdrage in de collecte overmaken via de Scipio-app of op NL 51 RABO 0329 1113 10 onder vermelding van “collecte on-line diensten”. De Commissie van Beheer zorgt dan voor de verdeling over de collectedoelen. \nKlik hier voor de liturgie met teksten\nEen goede dienst gewenst in verbondenheid
URL:https://ngk-hoogezand-sappemeer.nl/activiteit/ds-a-m-pathuis-heilig-avondmaal-2/
LOCATION:De Ark\, Rembrandtlaan 194\, Hoogezand\, Groningen\, 9601 XD\, Nederland
CATEGORIES:Kerkdienst
END:VEVENT
BEGIN:VEVENT
DTSTART;TZID=Europe/Amsterdam:20230716T163000
DTEND;TZID=Europe/Amsterdam:20230716T180000
DTSTAMP:20260421T005304
CREATED:20230708T144050Z
LAST-MODIFIED:20230715T155925Z
UID:4139-1689525000-1689530400@ngk-hoogezand-sappemeer.nl
SUMMARY:Ds. G. Meijer Heilig Avondmaal
DESCRIPTION:Deze dienst in on-line of later te volgen via Kerkdienstgemist\n\nU kunt de dienst ook beluisteren via  kerkomroep \nLiturgie\nkomen\nVotum\nGroet\nLb 23c: 1\, 2\, 5\nhoren\nGebed\nPsalmen 121\nAan Gods hand (verkondiging)\nPs 121: 1\, 4\nvieren\nUitleg bij het avondmaal\nApostolicum\nRondgang incl. zingen: Gz 238\ngeven\nDankgebed\nCollecte Diaconie en Kerk\ngaan\nPs 134: 3\nZegen \nU kunt uw bijdrage in de collecte overmaken via de Scipio-app of op NL 51 RABO 0329 1113 10 onder vermelding van “collecte on-line diensten”. De Commissie van Beheer zorgt dan voor de verdeling over de collectedoelen. \nKlik hier voor de liturgie met teksten\nEen goede dienst gewenst in verbondenheid
URL:https://ngk-hoogezand-sappemeer.nl/activiteit/ds-g-meijer-heilig-avondmaal/
LOCATION:De Ark\, Rembrandtlaan 194\, Hoogezand\, Groningen\, 9601 XD\, Nederland
CATEGORIES:Kerkdienst
END:VEVENT
BEGIN:VEVENT
DTSTART;TZID=Europe/Amsterdam:20230723T100000
DTEND;TZID=Europe/Amsterdam:20230723T113000
DTSTAMP:20260421T005304
CREATED:20230708T144153Z
LAST-MODIFIED:20230708T144223Z
UID:4141-1690106400-1690111800@ngk-hoogezand-sappemeer.nl
SUMMARY:Zr. C. Prins
DESCRIPTION:Deze dienst in on-line of later te volgen via Kerkdienstgemist\n\nU kunt de dienst ook beluisteren via  kerkomroep \nLiturgie\nVOLGT ZODRA BEKEND \nU kunt uw bijdrage in de collecte overmaken via de Scipio-app of op NL 51 RABO 0329 1113 10 onder vermelding van “collecte on-line diensten”. De Commissie van Beheer zorgt dan voor de verdeling over de collectedoelen. \nKlik hier voor de liturgie met teksten\nEen goede dienst gewenst in verbondenheid
URL:https://ngk-hoogezand-sappemeer.nl/activiteit/zr-c-prins/
LOCATION:De Ark\, Rembrandtlaan 194\, Hoogezand\, Groningen\, 9601 XD\, Nederland
CATEGORIES:Kerkdienst
END:VEVENT
BEGIN:VEVENT
DTSTART;TZID=Europe/Amsterdam:20230730T100000
DTEND;TZID=Europe/Amsterdam:20230730T113000
DTSTAMP:20260421T005304
CREATED:20230719T080303Z
LAST-MODIFIED:20230728T211246Z
UID:4166-1690711200-1690716600@ngk-hoogezand-sappemeer.nl
SUMMARY:Ds. H. Zeilstra
DESCRIPTION:Deze dienst in on-line of later te volgen via Kerkdienstgemist\n\nLiturgie\nVotum en zegengroet\nGK06 Gezang 145: 1\, 2\, 3\, 4\nWet\nGK06 Gezang 90: 2\nLezen: 1 Koningen 9: 1 – 9\nPsalm 72: 1\, 2\nLezen: 1 Koningen 10: 26 – 11: 13\nTekst: 1 Koningen 11: 1 – 13\nPreek\nPsalm 138: 1\nGebed\nCollecte: Kerk en Theologische Universiteit\nLiedboek vd kerken 305: 1\, 2\nZegen \nBegeleiding: Jan Leemhuis\nSchriftlezing: Geert Bondt \nU kunt uw bijdrage in de collecte overmaken via de Scipio-app of op NL 51 RABO 0329 1113 10 onder vermelding van “collecte on-line diensten”. De Commissie van Beheer zorgt dan voor de verdeling over de collectedoelen. \nKlik hier voor de liturgie met teksten\nEen goede dienst gewenst in verbondenheid
URL:https://ngk-hoogezand-sappemeer.nl/activiteit/ds-h-zeilstra/
LOCATION:De Ark\, Rembrandtlaan 194\, Hoogezand\, Groningen\, 9601 XD\, Nederland
CATEGORIES:Kerkdienst
END:VEVENT
END:VCALENDAR