BEGIN:VCALENDAR
VERSION:2.0
PRODID:-//NGK Hoogezand-Sappemeer - ECPv6.3.7//NONSGML v1.0//EN
CALSCALE:GREGORIAN
METHOD:PUBLISH
X-WR-CALNAME:NGK Hoogezand-Sappemeer
X-ORIGINAL-URL:https://ngk-hoogezand-sappemeer.nl
X-WR-CALDESC:Evenementen voor NGK Hoogezand-Sappemeer
REFRESH-INTERVAL;VALUE=DURATION:PT1H
X-Robots-Tag:noindex
X-PUBLISHED-TTL:PT1H
BEGIN:VTIMEZONE
TZID:Europe/Amsterdam
BEGIN:DAYLIGHT
TZOFFSETFROM:+0100
TZOFFSETTO:+0200
TZNAME:CEST
DTSTART:20220327T010000
END:DAYLIGHT
BEGIN:STANDARD
TZOFFSETFROM:+0200
TZOFFSETTO:+0100
TZNAME:CET
DTSTART:20221030T010000
END:STANDARD
END:VTIMEZONE
BEGIN:VEVENT
DTSTART;TZID=Europe/Amsterdam:20221102T193000
DTEND;TZID=Europe/Amsterdam:20221102T210000
DTSTAMP:20260425T125940
CREATED:20221007T080025Z
LAST-MODIFIED:20221102T105211Z
UID:3503-1667417400-1667422800@ngk-hoogezand-sappemeer.nl
SUMMARY:Kand. A.M. Pathuis - Dankdag
DESCRIPTION:De dienst is on-line of later te zien via kerkdienstmeebeleven\nU kunt de dienst ook beluisteren via  kerkomroep \n \nLiturgie\nVotum: NPB Psalm 67: 1\nGroet\nZingen: NPB Psalm 67: 2\, 3\nGebed\nLezen: 1 Kronieken 29: 6 – 16\nZingen: GKB Psalm 66: 5\, 6\, 7\nPreek\nZingen: GKB Psalm 103: 7\, 8\, 9\nDankgebed\nZingen: Liedboek 912: 1\, 2\, 4\, 6\nCollecte: Diaconie → Voedselbank\nZingen: Liedboek 704\nZegen \nBegeleiding: Jan Leemhuis\nSchriftlezing: Francien Venhuizen \nKlik hier voor de liturgie met teksten\nU kunt uw bijdrage in de collecte overmaken via de Scipio-app of op NL 51 RABO 0329 1113 10 onder vermelding van “collecte on-line diensten”. De Commissie van Beheer zorgt dan voor de verdeling over de collectedoelen. \n\n 
URL:https://ngk-hoogezand-sappemeer.nl/activiteit/kand-a-m-pathuis-dankdag/
LOCATION:De Ark\, Rembrandtlaan 194\, Hoogezand\, Groningen\, 9601 XD\, Nederland
CATEGORIES:Kerkdienst
END:VEVENT
BEGIN:VEVENT
DTSTART;TZID=Europe/Amsterdam:20221106T100000
DTEND;TZID=Europe/Amsterdam:20221106T113000
DTSTAMP:20260425T125940
CREATED:20221019T133016Z
LAST-MODIFIED:20221105T110957Z
UID:3519-1667728800-1667734200@ngk-hoogezand-sappemeer.nl
SUMMARY:Br. H. Dokter Themadienst Trektocht
DESCRIPTION:De dienst is on-line of later te zien via kerkdienstmeebeleven\nU kunt de dienst ook beluisteren via  kerkomroep \n \nLiturgie\nWelkom en mededelingen\nVotum en groet\nZingen: Psalm 63: 1\, 2\nGebed\nKindermoment\nZingen Kids. Opw 70\nLezen: 1 Korintiërs 13: 1 – 8a\nZingen: Opwekking 461\nTekst: Efeziërs 5: 1 – 2\nPreek (van Jos Douma)\nZingen: Lied 838: 1\, 3\, 4\nWet (leefregel): Efeziërs 4: 17 – 5: 2\nZingen: Gezang 233\nDankgebed en voorbeden\nCollecte 1e kerk 2e Evangelisatie\nKinderen terug van kidsclub\, terugkoppeling\nZingen: Opwekking 705\nZegen \nBegeleiding: Jan Leemhuis\nSchriftlezing: Femke Bondt \nU kunt uw bijdrage in de collecte overmaken via de Scipio-app of op NL 51 RABO 0329 1113 10 onder vermelding van “collecte on-line diensten”. De Commissie van Beheer zorgt dan voor de verdeling over de collectedoelen. \nKlik hier voor de liturgie met teksten\nEen goede dienst gewenst in verbondenheid
URL:https://ngk-hoogezand-sappemeer.nl/activiteit/br-h-dokter-themadienst-trektocht/
LOCATION:De Ark\, Rembrandtlaan 194\, Hoogezand\, Groningen\, 9601 XD\, Nederland
CATEGORIES:Kerkdienst
END:VEVENT
BEGIN:VEVENT
DTSTART;TZID=Europe/Amsterdam:20221106T163000
DTEND;TZID=Europe/Amsterdam:20221106T180000
DTSTAMP:20260425T125940
CREATED:20221019T133125Z
LAST-MODIFIED:20221105T111206Z
UID:3521-1667752200-1667757600@ngk-hoogezand-sappemeer.nl
SUMMARY:Ds. H. van Noort
DESCRIPTION:De dienst is on-line of later te zien via kerkdienstmeebeleven\nU kunt de dienst ook beluisteren via  kerkomroep \n \nLiturgie\nStilte\nVotum en groet\nZingen Opwekking 173\nGebed\nKindmoment\nZingen Opwekking voor kinderen 229\nLezen Openbaring 4\nVerkondiging\nZingen Psalmen voor Nu 16\nLezen Openbaring 5\nVerkondiging\nZingen Alles voor Hem (Sela)\nGeloofsbelijdenis (gezamenlijk opzeggen\nApostolische Geloofsbelijdenis)\nGebed\nCollecte 1e kerk 2e Evangelisatie\nZingen Glorie aan God\nZegen \nU kunt uw bijdrage in de collecte overmaken via de Scipio-app of op NL 51 RABO 0329 1113 10 onder vermelding van “collecte on-line diensten”. De Commissie van Beheer zorgt dan voor de verdeling over de collectedoelen. \nKlik hier voor de liturgie met teksten\nEen goede dienst gewenst in verbondenheid
URL:https://ngk-hoogezand-sappemeer.nl/activiteit/ds-h-van-noort-18/
LOCATION:De Ark\, Rembrandtlaan 194\, Hoogezand\, Groningen\, 9601 XD\, Nederland
CATEGORIES:Kerkdienst
END:VEVENT
BEGIN:VEVENT
DTSTART;TZID=Europe/Amsterdam:20221113T100000
DTEND;TZID=Europe/Amsterdam:20221113T113000
DTSTAMP:20260425T125940
CREATED:20221103T092233Z
LAST-MODIFIED:20221111T133609Z
UID:3542-1668333600-1668339000@ngk-hoogezand-sappemeer.nl
SUMMARY:Ds. R. Sietsma
DESCRIPTION:De dienst is on-line of later te zien via kerkdienstmeebeleven\nU kunt de dienst ook beluisteren via  kerkomroep \n \nLiturgie\nWelkom en mededelingen\nVotum en groet van God\nZingen: GKB2006 Gz. 158\nWet van God\nZingen: Ps. 19: 1\, 5\nGebed\nLezen uit de Bijbel: Psalm 104\nZingen: Opw. 59\nKindmoment  – De herfst komt in het land\nTekst: Psalm 104: 19 – 24\nPreek; Thema: Psalm 104 in de herfst\nZingen: Opwekking 407\nGebed\nCollecte 1e kerk 2e Diaconie\nZingen LvK 21: 1\, 7\nZegen \nGeen organist\nSchriftlezing: Judith Bolhuis \nU kunt uw bijdrage in de collecte overmaken via de Scipio-app of op NL 51 RABO 0329 1113 10 onder vermelding van “collecte on-line diensten”. De Commissie van Beheer zorgt dan voor de verdeling over de collectedoelen. \nKlik hier voor de liturgie met teksten\nEen goede dienst gewenst in verbondenheid
URL:https://ngk-hoogezand-sappemeer.nl/activiteit/ds-r-sietsma/
LOCATION:De Ark\, Rembrandtlaan 194\, Hoogezand\, Groningen\, 9601 XD\, Nederland
CATEGORIES:Kerkdienst
END:VEVENT
BEGIN:VEVENT
DTSTART;TZID=Europe/Amsterdam:20221113T163000
DTEND;TZID=Europe/Amsterdam:20221113T180000
DTSTAMP:20260425T125940
CREATED:20221103T092338Z
LAST-MODIFIED:20221111T134054Z
UID:3544-1668357000-1668362400@ngk-hoogezand-sappemeer.nl
SUMMARY:Ds. H. van Noort
DESCRIPTION:De dienst is on-line of later te zien via kerkdienstmeebeleven\nU kunt de dienst ook beluisteren via  kerkomroep \n \nLiturgie\nStilte\nVotum en groet\nZingen Opwekking 331\nGebed\nKindmoment\nZingen Opwekking voor kinderen 34\nLezen Openbaring 21: 1 – 22: 5\nVerkondiging\nZingen Opwekking 733\nBelijdenis HC zondag 22\nZingen Opwekking 347\nGebed\nCollecte 1e kerk 2e Diaconie\nZingen GKB2006 Gezang 141: 1\, 3\nZegen \nU kunt uw bijdrage in de collecte overmaken via de Scipio-app of op NL 51 RABO 0329 1113 10 onder vermelding van “collecte on-line diensten”. De Commissie van Beheer zorgt dan voor de verdeling over de collectedoelen. \nKlik hier voor de liturgie met teksten\nEen goede dienst gewenst in verbondenheid
URL:https://ngk-hoogezand-sappemeer.nl/activiteit/ds-h-van-noort-19/
LOCATION:De Ark\, Rembrandtlaan 194\, Hoogezand\, Groningen\, 9601 XD\, Nederland
CATEGORIES:Kerkdienst
END:VEVENT
BEGIN:VEVENT
DTSTART;TZID=Europe/Amsterdam:20221120T100000
DTEND;TZID=Europe/Amsterdam:20221120T113000
DTSTAMP:20260425T125940
CREATED:20221103T092455Z
LAST-MODIFIED:20221118T211547Z
UID:3546-1668938400-1668943800@ngk-hoogezand-sappemeer.nl
SUMMARY:Br. B.R. Munneke - Gedenkzondag
DESCRIPTION:De dienst is on-line of later te zien via kerkdienstmeebeleven\nU kunt de dienst ook beluisteren via  kerkomroep \n \nLiturgie\nVotum en groet\nPsalm 40: 1 en 2\nRomeinen 12 (BGT)\nGK 157\nGebed\nlezing Genesis 37: 5 – 36\nlezing Genesis 45: 1 – 11\nPsalm 105: 5\, 8\nLezen: ZONDAG 10 in hedendaagse taal\nPreek\nZingen: Opw. 717\nKinderen komen nu weer de kerk binnen\nGedenken en kaars ontsteken\nzingen/luisteren: De mensen die we missen\nzingen/luisteren naar: Dwars door alle tranen heen\nDankgebed en voorbede afgesloten met GK 123: 1\nCollecten 1e kerk 2e Zending en Hulpverlening\nGK 71 (canon\, 3 groepen)\nZegen \nBegeleiding: Jan Leemhuis\nSchriftlezing: Els Verkade \nU kunt uw bijdrage in de collecte overmaken via de Scipio-app of op NL 51 RABO 0329 1113 10 onder vermelding van “collecte on-line diensten”. De Commissie van Beheer zorgt dan voor de verdeling over de collectedoelen. \nKlik hier voor de liturgie met teksten\nEen goede dienst gewenst in verbondenheid
URL:https://ngk-hoogezand-sappemeer.nl/activiteit/ds-j-plug-gedenkzondag/
LOCATION:De Ark\, Rembrandtlaan 194\, Hoogezand\, Groningen\, 9601 XD\, Nederland
CATEGORIES:Kerkdienst
END:VEVENT
BEGIN:VEVENT
DTSTART;TZID=Europe/Amsterdam:20221120T163000
DTEND;TZID=Europe/Amsterdam:20221120T180000
DTSTAMP:20260425T125940
CREATED:20221103T092603Z
LAST-MODIFIED:20221118T211711Z
UID:3548-1668961800-1668967200@ngk-hoogezand-sappemeer.nl
SUMMARY:Ds. G. Meijer
DESCRIPTION:De dienst is on-line of later te zien via kerkdienstmeebeleven\nU kunt de dienst ook beluisteren via  kerkomroep \n \nLiturgie\nKomen\nVotum en groet\nLb 23c: 1\, 2\, 5\nHoren\nGebed\nLeviticus 26: 3 – 13\nLeviticus 26: 23 – 26\nLeviticus 26: 40 – 45\nDe brood-stok (Leviticus 26: 26\, NBG51)\nDnp 105: 1\, 13\, 14 A capella zingen\nGeven\nNicenum\nGz 247: 7 A capella zingen\nOnze Vader (gesproken gebed)\nCollecte 1e kerk 2e Zending en Hulpverlening\nGaan\nGz 246: 3\nZegen \nU kunt uw bijdrage in de collecte overmaken via de Scipio-app of op NL 51 RABO 0329 1113 10 onder vermelding van “collecte on-line diensten”. De Commissie van Beheer zorgt dan voor de verdeling over de collectedoelen. \nKlik hier voor de liturgie met teksten\nEen goede dienst gewenst in verbondenheid
URL:https://ngk-hoogezand-sappemeer.nl/activiteit/ds-g-meijer-8/
LOCATION:De Ark\, Rembrandtlaan 194\, Hoogezand\, Groningen\, 9601 XD\, Nederland
CATEGORIES:Kerkdienst
END:VEVENT
BEGIN:VEVENT
DTSTART;TZID=Europe/Amsterdam:20221127T103000
DTEND;TZID=Europe/Amsterdam:20221127T120000
DTSTAMP:20260425T125940
CREATED:20221118T100331Z
LAST-MODIFIED:20221125T150251Z
UID:3577-1669545000-1669550400@ngk-hoogezand-sappemeer.nl
SUMMARY:Ds. R. IJbema - Intrede en bevestiging ds. A.M. Pathuis
DESCRIPTION:De dienst is on-line of later te zien via kerkdienstmeebeleven\nU kunt de dienst ook beluisteren via  kerkomroep \n \nLiturgie\nWelkom\nAdventsmoment: filmpje – kaars – lied\nVotum: Zingen: Opwekking 640\nGroet\n(Kinderen naar kidsclub tijdens het zingen van:)\nZingen: NPB Psalm 33: 1\, 6\nGebed\nSchriftlezing + preek A: 1 Korintiërs 15: 20 – 28 en 58\nZingen: Opwekking 687\nBevestiging met (selectie van) ‘Formulier voor de bevestiging van dienaren van het Woord’\nLezen: formulier tót Bevestiging\n(Kinderen komen terug uit de kidsclub)\nBevestiging\nZingen: Sela – ‘Verlangen’\nAM krijgt de Zegen\nGebeden (Johan Plug\, Berdien Wijnalda\, Fokke Pathuis\, Tirtsa Liefting\, Theo Pleizier)\nOpdracht aan AM en gemeente\nZingen: Opwekking 710\nSchriftlezing + preek B: Lucas 10: 38 – 42\nZingen: Opwekking 6480\nDank-/voorbedegebed\nCollecte 1e kerk 2e Emeritering\nZingen: PvN Psalm 84\nZegen \nBegeleiding: Nanno Siertsema\nSchriftlezing: Erna Maring \nU kunt uw bijdrage in de collecte overmaken via de Scipio-app of op NL 51 RABO 0329 1113 10 onder vermelding van “collecte on-line diensten”. De Commissie van Beheer zorgt dan voor de verdeling over de collectedoelen. \nKlik hier voor de liturgie met teksten\nEen goede dienst gewenst in verbondenheid
URL:https://ngk-hoogezand-sappemeer.nl/activiteit/ds-r-ijbema-intrede-en-bevestiging-ds-a-m-pathuis/
LOCATION:De Ark\, Rembrandtlaan 194\, Hoogezand\, Groningen\, 9601 XD\, Nederland
CATEGORIES:Kerkdienst
END:VEVENT
BEGIN:VEVENT
DTSTART;TZID=Europe/Amsterdam:20221127T140000
DTEND;TZID=Europe/Amsterdam:20221127T150000
DTSTAMP:20260425T125940
CREATED:20221118T100632Z
LAST-MODIFIED:20221125T155721Z
UID:3579-1669557600-1669561200@ngk-hoogezand-sappemeer.nl
SUMMARY:Sing in / Vesper
DESCRIPTION:De sing-in is on-line of later te zien via kerkdienstmeebeleven\nU kunt ook luisteren via  kerkomroep \n \nProgamma\nF. Pathuis en ds. A.M. Pathuis \nKorte inleiding\nZingen: GKB Psalm 85: 1\, 3\, 4\nLezen: Jesaja 2: 1 – 5\nZingen: GKB (2017) Gezang 157\nLezen: Romeinen 13: 11 – 14\nZingen: Liedboek 751\nGebed\nZingen: GKB (2017) Gezang 189: 1\, 6\nZegen \nBegeleiding: Jan Leemhuis \nKlik hier voor de teksten\nEen goede dienst gewenst in verbondenheid
URL:https://ngk-hoogezand-sappemeer.nl/activiteit/sing-in/
LOCATION:De Ark\, Rembrandtlaan 194\, Hoogezand\, Groningen\, 9601 XD\, Nederland
CATEGORIES:Kerkdienst
END:VEVENT
END:VCALENDAR