BEGIN:VCALENDAR
VERSION:2.0
PRODID:-//NGK Hoogezand-Sappemeer - ECPv6.3.7//NONSGML v1.0//EN
CALSCALE:GREGORIAN
METHOD:PUBLISH
X-ORIGINAL-URL:https://ngk-hoogezand-sappemeer.nl
X-WR-CALDESC:Evenementen voor NGK Hoogezand-Sappemeer
REFRESH-INTERVAL;VALUE=DURATION:PT1H
X-Robots-Tag:noindex
X-PUBLISHED-TTL:PT1H
BEGIN:VTIMEZONE
TZID:Europe/Amsterdam
BEGIN:DAYLIGHT
TZOFFSETFROM:+0100
TZOFFSETTO:+0200
TZNAME:CEST
DTSTART:20220327T010000
END:DAYLIGHT
BEGIN:STANDARD
TZOFFSETFROM:+0200
TZOFFSETTO:+0100
TZNAME:CET
DTSTART:20221030T010000
END:STANDARD
END:VTIMEZONE
BEGIN:VEVENT
DTSTART;TZID=Europe/Amsterdam:20220605T100000
DTEND;TZID=Europe/Amsterdam:20220605T113000
DTSTAMP:20260425T195829
CREATED:20220527T124722Z
LAST-MODIFIED:20220604T162304Z
UID:3272-1654423200-1654428600@ngk-hoogezand-sappemeer.nl
SUMMARY:Ds. J. van der Wal - Pinksteren
DESCRIPTION:De dienst is on-line of later te zien via kerkdienstmeebeleven\nU kunt de dienst ook beluisteren via  kerkomroep \n \nLiturgie\nVotum en groet\nOpw. 797 (Sela)\nWoorden van het verbond\nLd. (2013) 675: 1\, 2\nGebed\nKidsclub\nLezen: Handelingen 2: 22 – 47\nGz. (2017) 250: 1\, 2\, 3\nTekst: Handelingen 2: 42\nPreek\nLd (2013) 273: 1 – 5\nGebed\nOpw/Gz (2006) 167: 1\, 2\, 3\nCollecte 1e kerk 2e Emeritering\nNPB Ps. 133: 1\, 2\nZegen\nLd. (2013) 425 \nBegeleiding: Nanno Siertsema\nSchriftlezing: Tonny Prins \nU kunt uw bijdrage in de collecte overmaken via de Scipio-app of op NL 51 RABO 0329 1113 10 onder vermelding van “collecte on-line diensten”. De Commissie van Beheer zorgt dan voor de verdeling over de collectedoelen. \nKlik hier voor de liturgie met teksten\nEen goede dienst gewenst in verbondenheid
URL:https://ngk-hoogezand-sappemeer.nl/activiteit/ds-j-van-der-wal-pinksteren/
LOCATION:De Ark\, Rembrandtlaan 194\, Hoogezand\, Groningen\, 9601 XD\, Nederland
CATEGORIES:Kerkdienst
END:VEVENT
BEGIN:VEVENT
DTSTART;TZID=Europe/Amsterdam:20220605T163000
DTEND;TZID=Europe/Amsterdam:20220605T180000
DTSTAMP:20260425T195829
CREATED:20220527T124815Z
LAST-MODIFIED:20220604T162655Z
UID:3274-1654446600-1654452000@ngk-hoogezand-sappemeer.nl
SUMMARY:Ds. H. van Noort - Pinksteren
DESCRIPTION:De dienst is on-line of later te zien via kerkdienstmeebeleven\nU kunt de dienst ook beluisteren via  kerkomroep \n \nLiturgie\nStilte\nVotum en groet\nZingen GK2006 Psalm 24: 1 en 5\nGebed\nKindmoment\nZingen Opwekking 719\nLezen Lucas 4:14-21\nVerkondiging\nZingen GK2006 Psalm 19: 1\, 2\, 3\nCollecte 1e kerk 2e Emeritering\nBelijdenis Gewone catechismus 24\, 27\, 29\, 30\, 31\nZingen Opwekking 427\nGebed\nZingen GK2006 Psalm 104: 9 en 10\nZegen \nU kunt uw bijdrage in de collecte overmaken via de Scipio-app of op NL 51 RABO 0329 1113 10 onder vermelding van “collecte on-line diensten”. De Commissie van Beheer zorgt dan voor de verdeling over de collectedoelen. \nKlik hier voor de liturgie met teksten\nEen goede dienst gewenst in verbondenheid
URL:https://ngk-hoogezand-sappemeer.nl/activiteit/ds-h-van-noort-13/
LOCATION:De Ark\, Rembrandtlaan 194\, Hoogezand\, Groningen\, 9601 XD\, Nederland
CATEGORIES:Kerkdienst
END:VEVENT
BEGIN:VEVENT
DTSTART;TZID=Europe/Amsterdam:20220612T100000
DTEND;TZID=Europe/Amsterdam:20220612T113000
DTSTAMP:20260425T195829
CREATED:20220527T125019Z
LAST-MODIFIED:20220611T090240Z
UID:3277-1655028000-1655033400@ngk-hoogezand-sappemeer.nl
SUMMARY:Ds. J. van der Wal - Heilig Avondmaal en Doop
DESCRIPTION:De dienst is on-line of later te zien via kerkdienstmeebeleven\nU kunt de dienst ook beluisteren via  kerkomroep \n \nLiturgie\nVotum en groet\nLB 2017: Gz 167\nGebed\nForm Doop 3\nDooplied Sela; Doop\nElly en Rikkert; Zegenwens\nKidsclub\nLezen: Psalm 131\nMeditatie\nNPB Ps.: 131: 1\, 2\, 3\nForm Heilig Avondmaal 5\nBelijdenislied LB 2006 Gz108\nLezen: Psalm 127\nMeditatie\nNPB Ps.127: 1\, 2\, 3\nForm bevestiging ouderlingen\nNPB Ps. 135: 1\, 5\nGebed\nCollecte 1e Diaconie 2e kerk\nLied Sela: Ik zal er zijn\nZegen \nBegeleiding: Jan Leemhuis\nSchriftlezing: Beno Munneke \nU kunt uw bijdrage in de collecte overmaken via de Scipio-app of op NL 51 RABO 0329 1113 10 onder vermelding van “collecte on-line diensten”. De Commissie van Beheer zorgt dan voor de verdeling over de collectedoelen. \nKlik hier voor de liturgie met teksten\nEen goede dienst gewenst in verbondenheid
URL:https://ngk-hoogezand-sappemeer.nl/activiteit/ds-j-van-der-wal-heilig-avondmaal-en-doop/
LOCATION:De Ark\, Rembrandtlaan 194\, Hoogezand\, Groningen\, 9601 XD\, Nederland
CATEGORIES:Kerkdienst
END:VEVENT
BEGIN:VEVENT
DTSTART;TZID=Europe/Amsterdam:20220612T163000
DTEND;TZID=Europe/Amsterdam:20220612T180000
DTSTAMP:20260425T195829
CREATED:20220527T125122Z
LAST-MODIFIED:20220611T090853Z
UID:3279-1655051400-1655056800@ngk-hoogezand-sappemeer.nl
SUMMARY:Ds. J.W. Roosenbrand - Heilig Avondmaal
DESCRIPTION:De dienst is on-line of later te zien via kerkdienstmeebeleven\nU kunt de dienst ook beluisteren via  kerkomroep \n \nLiturgie\nVotum en groet\nNPB Ps. 131: 1\, 2\, 3\nGebed\nViering avondmaal\nNPB Ps. 126: 1\, 2\nLezing Handelingen 15: 1 – 4 en 15: 22 – 34\nTekst: Handelingen 15: 36 – 41\nPreek; Thema is: Ruzie in de kerk. Als wegen uiteen gaan.\nOpwekking 687\nGebed\nCollecte 1e Diaconie 2e kerk\nLvK2013\, 967: 1 – 7 wisselzang a m v a m v\nZegen \nU kunt uw bijdrage in de collecte overmaken via de Scipio-app of op NL 51 RABO 0329 1113 10 onder vermelding van “collecte on-line diensten”. De Commissie van Beheer zorgt dan voor de verdeling over de collectedoelen. \nKlik hier voor de liturgie met teksten\nEen goede dienst gewenst in verbondenheid
URL:https://ngk-hoogezand-sappemeer.nl/activiteit/ds-j-w-roosenbrand-heilig-avondmaal-2/
LOCATION:De Ark\, Rembrandtlaan 194\, Hoogezand\, Groningen\, 9601 XD\, Nederland
CATEGORIES:Kerkdienst
END:VEVENT
BEGIN:VEVENT
DTSTART;TZID=Europe/Amsterdam:20220619T100000
DTEND;TZID=Europe/Amsterdam:20220619T113000
DTSTAMP:20260425T195829
CREATED:20220527T125213Z
LAST-MODIFIED:20220617T143310Z
UID:3281-1655632800-1655638200@ngk-hoogezand-sappemeer.nl
SUMMARY:Br. H. Dokter
DESCRIPTION:De dienst is on-line of later te zien via kerkdienstmeebeleven\nU kunt de dienst ook beluisteren via  kerkomroep \n \nLiturgie\nVotum en groet\nZingen Psalm 117 GK 2006\nWet\nZingen GK 157 GK 2006\nGebed\nBijbellezing: Lukas 15\nZingen Psalm 6: 1\, 2\, 3 GK 2006\nTekst: Lukas 15: 11 – 32\nPreek\nAmenlied Psalm 103: 1\, 3\, 5\, 9 GK 2006\nDankgebed\nCollecte 1e Kerk 2e Theologische Universiteit\nSlotzang Lied 456 LvK 1973\nZegen \nBegeleiding: Nanno Siertsema\nSchriftlezing: Erna Maring \nU kunt uw bijdrage in de collecte overmaken via de Scipio-app of op NL 51 RABO 0329 1113 10 onder vermelding van “collecte on-line diensten”. De Commissie van Beheer zorgt dan voor de verdeling over de collectedoelen. \nKlik hier voor de liturgie met teksten\nEen goede dienst gewenst in verbondenheid
URL:https://ngk-hoogezand-sappemeer.nl/activiteit/ds-j-plug-26/
LOCATION:De Ark\, Rembrandtlaan 194\, Hoogezand\, Groningen\, 9601 XD\, Nederland
CATEGORIES:Kerkdienst
END:VEVENT
BEGIN:VEVENT
DTSTART;TZID=Europe/Amsterdam:20220619T163000
DTEND;TZID=Europe/Amsterdam:20220619T180000
DTSTAMP:20260425T195829
CREATED:20220527T125340Z
LAST-MODIFIED:20220617T143609Z
UID:3283-1655656200-1655661600@ngk-hoogezand-sappemeer.nl
SUMMARY:Ds. C. van Dusseldorp
DESCRIPTION:De dienst is on-line of later te zien via kerkdienstmeebeleven\nU kunt de dienst ook beluisteren via  kerkomroep \n \nLiturgie\nVotum en groet\nPsalm 42: 1\, 5\nGebed\nLezen: Efeziërs 4: 17 – 5: 20\nPreek Efeziërs 4: 30\nPsalm 51: 5\, 7\nGeloofsbelijdenis\nOpwekking 642\nDankzegging en voorbede\nCollecte 1e Kerk 2e Theologische Universiteit\nLied 687: 1 en Gz. 141: 3\nZegen \nU kunt uw bijdrage in de collecte overmaken via de Scipio-app of op NL 51 RABO 0329 1113 10 onder vermelding van “collecte on-line diensten”. De Commissie van Beheer zorgt dan voor de verdeling over de collectedoelen. \nKlik hier voor de liturgie met teksten\nEen goede dienst gewenst in verbondenheid
URL:https://ngk-hoogezand-sappemeer.nl/activiteit/ds-c-van-dusseldorp-10/
LOCATION:De Ark\, Rembrandtlaan 194\, Hoogezand\, Groningen\, 9601 XD\, Nederland
CATEGORIES:Kerkdienst
END:VEVENT
BEGIN:VEVENT
DTSTART;TZID=Europe/Amsterdam:20220626T100000
DTEND;TZID=Europe/Amsterdam:20220626T113000
DTSTAMP:20260425T195829
CREATED:20220527T125510Z
LAST-MODIFIED:20220624T083523Z
UID:3285-1656237600-1656243000@ngk-hoogezand-sappemeer.nl
SUMMARY:Kand. A.M. Pathuis - afsluiting seizoen
DESCRIPTION:De dienst is on-line of later te zien via kerkdienstmeebeleven\nU kunt de dienst ook beluisteren via  kerkomroep \n \nLiturgie\nZingen: GKB Psalm 8a ‘Heer\, onze God\, hoe heerlijk is uw naam’\nVotum en groet\nZingen: Opwekking 461 ‘Mijn Jezus\, mijn redder’\nGebed\nKinderlied: ‘Compliment’\nLezen: Matteüs 25:14-30\nZingen: GKB Psalm 135:1\,3\,8 ‘Loof de Here\, prijs zijn naam’\nPreek\nZingen: LB 912:1\,2 ‘Neem mijn leven\, laat het Heer’\nLeefregel: Efeziërs 4:25-5:2\nZingen: LB 912:3\,4\,5\,6 ‘Neem mijn stem\, opdat mijn lied’\nOverstapmoment kidsclub (Wilma)\nZingen: Kinderopwekking 311 ‘De zegen van God’\nWervingsfilmpjes kinder- en jeugdwerk + toelichting\nCollecte\nGebed\nZingen: Opwekking 520 ‘Wees mijn verlangen’\nZegen \nU kunt uw bijdrage in de collecte overmaken via de Scipio-app of op NL 51 RABO 0329 1113 10 onder vermelding van “collecte on-line diensten”. De Commissie van Beheer zorgt dan voor de verdeling over de collectedoelen. \nKlik hier voor de liturgie met teksten\nEen goede dienst gewenst in verbondenheid
URL:https://ngk-hoogezand-sappemeer.nl/activiteit/kand-a-m-pathuis-afsluiting-seizoen/
LOCATION:De Ark\, Rembrandtlaan 194\, Hoogezand\, Groningen\, 9601 XD\, Nederland
CATEGORIES:Kerkdienst
END:VEVENT
BEGIN:VEVENT
DTSTART;TZID=Europe/Amsterdam:20220626T163000
DTEND;TZID=Europe/Amsterdam:20220626T180000
DTSTAMP:20260425T195829
CREATED:20220527T125556Z
LAST-MODIFIED:20220624T083140Z
UID:3287-1656261000-1656266400@ngk-hoogezand-sappemeer.nl
SUMMARY:Ds. H. van Noort
DESCRIPTION:De dienst is on-line of later te zien via kerkdienstmeebeleven\nU kunt de dienst ook beluisteren via  kerkomroep \n \nLiturgie\nStilte\nVotum en groet\nZingen Psalm 84 (Sela)\nGebed\nKindmoment\nZingen DNP Psalm 127: 3\nLezen Psalm 127\nZingen GK Psalm 127: 1 en 2\nVerkondiging\nZingen Opwekking 713 – Want als U het huis niet bouwt\nBelijdenis (voorlezen) Apostolische Geloofsbelijdenis\nZingen GK2006 gezang 161: 1 en 4\nGebed\nCollecte\nZingen GK2006 gezang 164 – Jezus vol liefde\nZege \nU kunt uw bijdrage in de collecte overmaken via de Scipio-app of op NL 51 RABO 0329 1113 10 onder vermelding van “collecte on-line diensten”. De Commissie van Beheer zorgt dan voor de verdeling over de collectedoelen. \nKlik hier voor de liturgie met teksten\nEen goede dienst gewenst in verbondenheid
URL:https://ngk-hoogezand-sappemeer.nl/activiteit/ds-h-van-noort-14/
LOCATION:De Ark\, Rembrandtlaan 194\, Hoogezand\, Groningen\, 9601 XD\, Nederland
CATEGORIES:Kerkdienst
END:VEVENT
END:VCALENDAR