BEGIN:VCALENDAR
VERSION:2.0
PRODID:-//NGK Hoogezand-Sappemeer - ECPv6.3.7//NONSGML v1.0//EN
CALSCALE:GREGORIAN
METHOD:PUBLISH
X-ORIGINAL-URL:https://ngk-hoogezand-sappemeer.nl
X-WR-CALDESC:Evenementen voor NGK Hoogezand-Sappemeer
REFRESH-INTERVAL;VALUE=DURATION:PT1H
X-Robots-Tag:noindex
X-PUBLISHED-TTL:PT1H
BEGIN:VTIMEZONE
TZID:Europe/Amsterdam
BEGIN:DAYLIGHT
TZOFFSETFROM:+0100
TZOFFSETTO:+0200
TZNAME:CEST
DTSTART:20220327T010000
END:DAYLIGHT
BEGIN:STANDARD
TZOFFSETFROM:+0200
TZOFFSETTO:+0100
TZNAME:CET
DTSTART:20221030T010000
END:STANDARD
END:VTIMEZONE
BEGIN:VEVENT
DTSTART;TZID=Europe/Amsterdam:20220306T100000
DTEND;TZID=Europe/Amsterdam:20220306T113000
DTSTAMP:20260426T003318
CREATED:20220227T201405Z
LAST-MODIFIED:20220304T134433Z
UID:3028-1646560800-1646566200@ngk-hoogezand-sappemeer.nl
SUMMARY:Ds. J. van der Wal
DESCRIPTION:De dienst is on-line of later te zien via kerkdienstmeebeleven\nU kunt de dienst ook beluisteren via  kerkomroep \n \nLiturgie\nMededelingen\nIntroductie Weekthema\nLied\nVotum en groet\nLied: Hoe kan er in de wereld vrede zijn\nOpw. 807\nGebed\nLezen: Psalm 82\nLuisterlied: Trinity; Ik wens jou\nPreek\nPs. 82: 1\, 2 DNP\nWoorden van nieuw leven\nOpw. 378\nGebed\nCollecte 1e kerk 2e Theologische Universiteit\nPs. 13: 1\, 2\, 3 DNP\nZegen\nLb. 425 \nBegeleiding: Jan Leemhuis\nSchriftlezing: Sander Bondt \nU kunt uw bijdrage in de collecte overmaken via de Scipio-app of op NL 51 RABO 0329 1113 10 onder vermelding van “collecte on-line diensten”. De Commissie van Beheer zorgt dan voor de verdeling over de collectedoelen. \nKlik hier voor de liturgie met teksten\nEen goede dienst gewenst in verbondenheid
URL:https://ngk-hoogezand-sappemeer.nl/activiteit/ds-j-van-der-wal/
LOCATION:De Ark\, Rembrandtlaan 194\, Hoogezand\, Groningen\, 9601 XD\, Nederland
CATEGORIES:Kerkdienst
END:VEVENT
BEGIN:VEVENT
DTSTART;TZID=Europe/Amsterdam:20220306T163000
DTEND;TZID=Europe/Amsterdam:20220306T180000
DTSTAMP:20260426T003318
CREATED:20220227T201543Z
LAST-MODIFIED:20220304T134940Z
UID:3030-1646584200-1646589600@ngk-hoogezand-sappemeer.nl
SUMMARY:Ds C.T. Basoski
DESCRIPTION:De dienst is on-line of later te zien via kerkdienstmeebeleven\nU kunt de dienst ook beluisteren via  kerkomroep \n \nLiturgie\nLB. 1010: 1\, 2\, 3\, 4\nGebed\nGenesis 4: 1 – 16\nGz. 200: 1\, 2\nPreek Genesis 4: 10b\nGz. 214: 1\, 3\, 4\nGebed\nCollecte 1e kerk 2e Theologische Universiteit\nGeloofsbelijdenis\nPs. 98: 1\, 4 \nU kunt uw bijdrage in de collecte overmaken via de Scipio-app of op NL 51 RABO 0329 1113 10 onder vermelding van “collecte on-line diensten”. De Commissie van Beheer zorgt dan voor de verdeling over de collectedoelen. \nKlik hier voor de liturgie met teksten\nEen goede dienst gewenst in verbondenheid
URL:https://ngk-hoogezand-sappemeer.nl/activiteit/ds-c-t-basoski-2/
LOCATION:De Ark\, Rembrandtlaan 194\, Hoogezand\, Groningen\, 9601 XD\, Nederland
CATEGORIES:Kerkdienst
END:VEVENT
BEGIN:VEVENT
DTSTART;TZID=Europe/Amsterdam:20220309T193000
DTEND;TZID=Europe/Amsterdam:20220309T210000
DTSTAMP:20260426T003318
CREATED:20220227T201650Z
LAST-MODIFIED:20220308T094215Z
UID:3032-1646854200-1646859600@ngk-hoogezand-sappemeer.nl
SUMMARY:Ds. J. Plug Biddag
DESCRIPTION:De dienst is on-line of later te zien via kerkdienstmeebeleven\nU kunt de dienst ook beluisteren via  kerkomroep \n \nLiturgie\nVotum en groet\nZingen: Psalm 67\nGebed\nSchriftlezing: Deuteronomium 8: 1 – 6\nZingen: GK 227\nTekst: Deuteronomium 8: 3b\nVerkondiging: Niet voor brood alleen!\nGeloofsbelijdenis (HC Zondag 9 en 10)\nZingen: Opwekking 167\nGebeden en aansluitend zingen: Sela – Gebed voor de werkdag\nCollecte: Diaconie voor Hulp aan Oekraïne en Schuldhulpmaatje\nZingen: LvK 429\nZegen \nBegeleiding: Jan Leemhuis\nSchriftlezing: Beno Munneke \nU kunt uw bijdrage in de collecte overmaken via de Scipio-app of op NL 51 RABO 0329 1113 10 onder vermelding van “collecte on-line diensten”. De Commissie van Beheer zorgt dan voor de verdeling over de collectedoelen. \nKlik hier voor de liturgie met teksten\nEen goede dienst gewenst in verbondenheid
URL:https://ngk-hoogezand-sappemeer.nl/activiteit/ds-j-plug-24/
LOCATION:De Ark\, Rembrandtlaan 194\, Hoogezand\, Groningen\, 9601 XD\, Nederland
CATEGORIES:Kerkdienst
END:VEVENT
BEGIN:VEVENT
DTSTART;TZID=Europe/Amsterdam:20220313T100000
DTEND;TZID=Europe/Amsterdam:20220313T113000
DTSTAMP:20260426T003318
CREATED:20220227T201840Z
LAST-MODIFIED:20220311T110322Z
UID:3035-1647165600-1647171000@ngk-hoogezand-sappemeer.nl
SUMMARY:Br. H. Dokter
DESCRIPTION:De dienst is on-line of later te zien via kerkdienstmeebeleven\nU kunt de dienst ook beluisteren via  kerkomroep \n \nLiturgie\nVotum en groet\nOpw 462\nGebed\nGK 234\nLezen: Lukas 10: 38 – 42\nPs. 131\nPreek\nLuistermoment LEV; Wij worden stil\nGebed\nWet\nCollecte 1e kerk 2e Evangelisatie\nTrinity; Ik wens jou\nZegen \nBegeleiding: Nanno Siertsema\nSchriftlezing: Els Verkade \nU kunt uw bijdrage in de collecte overmaken via de Scipio-app of op NL 51 RABO 0329 1113 10 onder vermelding van “collecte on-line diensten”. De Commissie van Beheer zorgt dan voor de verdeling over de collectedoelen. \nKlik hier voor de liturgie met teksten\nEen goede dienst gewenst in verbondenheid
URL:https://ngk-hoogezand-sappemeer.nl/activiteit/br-h-dokter-16/
LOCATION:De Ark\, Rembrandtlaan 194\, Hoogezand\, Groningen\, 9601 XD\, Nederland
CATEGORIES:Kerkdienst
END:VEVENT
BEGIN:VEVENT
DTSTART;TZID=Europe/Amsterdam:20220313T163000
DTEND;TZID=Europe/Amsterdam:20220313T180000
DTSTAMP:20260426T003318
CREATED:20220227T202029Z
LAST-MODIFIED:20220311T110007Z
UID:3037-1647189000-1647194400@ngk-hoogezand-sappemeer.nl
SUMMARY:Ds. W.L. de Graaff
DESCRIPTION:De dienst is on-line of later te zien via kerkdienstmeebeleven\nU kunt de dienst ook beluisteren via  kerkomroep \n \nLiturgie\nVotum en zegengroet\nOpw. 354\nGebed\nLezen: 2 Petrus 1: 16 – 2: 3\nPs. 119: 40\, 66\nTekst: Zondag 20 HC: de Heilige Geest\nLB. 675: 1\, 2\nGK. 176: 1\, 5\nDankgebed en Onze Vader\nLB. 416: 1 – 4\nZegen\nCollecte 1e kerk 2e Evangelisatie \nU kunt uw bijdrage in de collecte overmaken via de Scipio-app of op NL 51 RABO 0329 1113 10 onder vermelding van “collecte on-line diensten”. De Commissie van Beheer zorgt dan voor de verdeling over de collectedoelen. \nKlik hier voor de liturgie met teksten\nEen goede dienst gewenst in verbondenheid
URL:https://ngk-hoogezand-sappemeer.nl/activiteit/ds-w-l-de-graaff-2/
LOCATION:De Ark\, Rembrandtlaan 194\, Hoogezand\, Groningen\, 9601 XD\, Nederland
CATEGORIES:Kerkdienst
END:VEVENT
BEGIN:VEVENT
DTSTART;TZID=Europe/Amsterdam:20220320T100000
DTEND;TZID=Europe/Amsterdam:20220320T113000
DTSTAMP:20260426T003318
CREATED:20220227T202136Z
LAST-MODIFIED:20220319T094901Z
UID:3039-1647770400-1647775800@ngk-hoogezand-sappemeer.nl
SUMMARY:Br. G.J. Bondt
DESCRIPTION:De dienst is on-line of later te zien via kerkdienstmeebeleven\nU kunt de dienst ook beluisteren via  kerkomroep \n \nLiturgie\nOpw. 378\nOpwekking 553\nVotum/groet\nOpw 734\nKindermoment\nGebed\nLezen: Lukas 12: 35 – 57\nLvK 43 (wisselzang: 1a\, 2v\, 3m\, 4v\, 5m\, 6a)\npreek\ngebed\nLvK 296\nCollecte 1e kerk 2e Emeritering\nOpwekking 710\nZegen \nBegeleiding: Jan Leemhuis\nSchriftlezing: José Leemhuis \nU kunt uw bijdrage in de collecte overmaken via de Scipio-app of op NL 51 RABO 0329 1113 10 onder vermelding van “collecte on-line diensten”. De Commissie van Beheer zorgt dan voor de verdeling over de collectedoelen. \nKlik hier voor de liturgie met teksten\nEen goede dienst gewenst in verbondenheid
URL:https://ngk-hoogezand-sappemeer.nl/activiteit/br-g-j-bondt-5/
LOCATION:De Ark\, Rembrandtlaan 194\, Hoogezand\, Groningen\, 9601 XD\, Nederland
CATEGORIES:Kerkdienst
END:VEVENT
BEGIN:VEVENT
DTSTART;TZID=Europe/Amsterdam:20220320T163000
DTEND;TZID=Europe/Amsterdam:20220320T180000
DTSTAMP:20260426T003318
CREATED:20220227T202233Z
LAST-MODIFIED:20220319T100008Z
UID:3041-1647793800-1647799200@ngk-hoogezand-sappemeer.nl
SUMMARY:Ds. J.W. Roosenbrand
DESCRIPTION:De dienst is on-line of later te zien via kerkdienstmeebeleven\nU kunt de dienst ook beluisteren via  kerkomroep \n \nLiturgie\nVotum Groet Amen van Sela\nSela; Via Dolorosa\nGebed\nLezing: Lucas 9: 51 – 62 NBV21\nTekst: Lucas 9: 51 – 56 NBV21\nPreek\nLB 1009: 1\, 2\, 3\nGeloofsbelijdenis\nLB 2013: 995: 1\, 2\nGebeden\nCollecte 1e kerk 2e Emeritering\nLB 871: 1\, 2\, 3\, 4\nZegen \nU kunt uw bijdrage in de collecte overmaken via de Scipio-app of op NL 51 RABO 0329 1113 10 onder vermelding van “collecte on-line diensten”. De Commissie van Beheer zorgt dan voor de verdeling over de collectedoelen. \nKlik hier voor de liturgie met teksten\nEen goede dienst gewenst in verbondenheid
URL:https://ngk-hoogezand-sappemeer.nl/activiteit/ds-j-w-roosenbrand-3/
LOCATION:De Ark\, Rembrandtlaan 194\, Hoogezand\, Groningen\, 9601 XD\, Nederland
CATEGORIES:Kerkdienst
END:VEVENT
BEGIN:VEVENT
DTSTART;TZID=Europe/Amsterdam:20220327T100000
DTEND;TZID=Europe/Amsterdam:20220327T113000
DTSTAMP:20260426T003318
CREATED:20220227T202322Z
LAST-MODIFIED:20220325T205245Z
UID:3043-1648375200-1648380600@ngk-hoogezand-sappemeer.nl
SUMMARY:Br. B.R. Munneke
DESCRIPTION:De dienst is on-line of later te zien via kerkdienstmeebeleven\nU kunt de dienst ook beluisteren via  kerkomroep \n \nLiturgie\nWelkom en mededelingen\nZingen: Ld. 285: 1\, 2\nFilmpje 40 dagen project?\nStilte\nToewijding en groet\nZingen: Gz. 155: 1\, 3\nGebed\nWet van God\nPsalm 15: 1\, 2\, 3\, 4\nKindermoment\nLezen: 1 Korintiërs 12: 12 – 20\nLezen: 1 Korintiërs 13: 1 – 7\nLezen: 1 Korintiërs 14: 26 – 33\nZingen Gz. 23\nPreek; Thema: vieren met vreugde: geven!\nZingen: Opwekking 767\nGebed\nCollecte 1e kerk 2e Theologische Universiteit\nZingen Psalm 150 1 en 2\nZegen \nBegeleiding: Nanno Siertsema\nSchriftlezing: Francien Venhuizen \nU kunt uw bijdrage in de collecte overmaken via de Scipio-app of op NL 51 RABO 0329 1113 10 onder vermelding van “collecte on-line diensten”. De Commissie van Beheer zorgt dan voor de verdeling over de collectedoelen. \nKlik hier voor de liturgie met teksten\nEen goede dienst gewenst in verbondenheid
URL:https://ngk-hoogezand-sappemeer.nl/activiteit/br-p-braam-13/
LOCATION:De Ark\, Rembrandtlaan 194\, Hoogezand\, Groningen\, 9601 XD\, Nederland
CATEGORIES:Kerkdienst
END:VEVENT
BEGIN:VEVENT
DTSTART;TZID=Europe/Amsterdam:20220327T163000
DTEND;TZID=Europe/Amsterdam:20220327T180000
DTSTAMP:20260426T003318
CREATED:20220227T202805Z
LAST-MODIFIED:20220325T204819Z
UID:3048-1648398600-1648404000@ngk-hoogezand-sappemeer.nl
SUMMARY:Ds. H. van Noort
DESCRIPTION:De dienst is on-line of later te zien via kerkdienstmeebeleven\nU kunt de dienst ook beluisteren via  kerkomroep \n \nLiturgie\nStilte\nVotum en groet\nZingen Opwekking 733\nGebed\nKindmoment\nZingen Opwekking voor kinderen 178\nLezen HC zondag 4\nLezen Galaten 3: 8 – 12\nVerkondiging\nZingen Sela; Psalm 91\nCollecte 1e kerk 2e Theologische Universiteit\nBelijdenis Apostolische geloofsbelijdenis\nGebed\nZingen Opwekking 520\nZegen \nU kunt uw bijdrage in de collecte overmaken via de Scipio-app of op NL 51 RABO 0329 1113 10 onder vermelding van “collecte on-line diensten”. De Commissie van Beheer zorgt dan voor de verdeling over de collectedoelen. \nKlik hier voor de liturgie met teksten\nEen goede dienst gewenst in verbondenheid
URL:https://ngk-hoogezand-sappemeer.nl/activiteit/br-g-j-bondt-7/
LOCATION:De Ark\, Rembrandtlaan 194\, Hoogezand\, Groningen\, 9601 XD\, Nederland
CATEGORIES:Kerkdienst
END:VEVENT
END:VCALENDAR