BEGIN:VCALENDAR
VERSION:2.0
PRODID:-//NGK Hoogezand-Sappemeer - ECPv6.3.7//NONSGML v1.0//EN
CALSCALE:GREGORIAN
METHOD:PUBLISH
X-WR-CALNAME:NGK Hoogezand-Sappemeer
X-ORIGINAL-URL:https://ngk-hoogezand-sappemeer.nl
X-WR-CALDESC:Evenementen voor NGK Hoogezand-Sappemeer
REFRESH-INTERVAL;VALUE=DURATION:PT1H
X-Robots-Tag:noindex
X-PUBLISHED-TTL:PT1H
BEGIN:VTIMEZONE
TZID:Europe/Amsterdam
BEGIN:DAYLIGHT
TZOFFSETFROM:+0100
TZOFFSETTO:+0200
TZNAME:CEST
DTSTART:20210328T010000
END:DAYLIGHT
BEGIN:STANDARD
TZOFFSETFROM:+0200
TZOFFSETTO:+0100
TZNAME:CET
DTSTART:20211031T010000
END:STANDARD
END:VTIMEZONE
BEGIN:VEVENT
DTSTART;TZID=Europe/Amsterdam:20211203T110000
DTEND;TZID=Europe/Amsterdam:20211203T123000
DTSTAMP:20260426T044131
CREATED:20211128T205855Z
LAST-MODIFIED:20211203T083551Z
UID:2772-1638529200-1638534600@ngk-hoogezand-sappemeer.nl
SUMMARY:Dankdienst voor het leven van Hendericus (Rieks) West
DESCRIPTION:Klik hier om de dienst online te volgen\nU kunt de dienst ook beluisteren via  kerkomroep \n \nLiturgie \nVoorganger: Anne-Maaike Pathuis\nBegeleiding: Jan Leemhuis \nWelkom\nZingen: Psalm 121:1 en 3\nGebed\nLuisterlied: ‘Er is een stad’\nBijdrage namens de familie door Thea West\nLuisterlied: Ede Staal – ’t Hogelaand\nSchriftlezing: Psalm 91\nZingen: Psalm 18:9\nOverdenking over Psalm 37:39\nZingen: Opwekking 770\nGebed\nZingen: Opwekking 733\nZegenbede\nZingen: Opwekking 320\nMuziek bij het uitdragen van Rieks: ‘U zij de glorie’ \nKlik HIER voor de liturgie met teksten  
URL:https://ngk-hoogezand-sappemeer.nl/activiteit/dankdienst-voor-het-leven-van-rieks-west/
LOCATION:De Ark\, Rembrandtlaan 194\, Hoogezand\, Groningen\, 9601 XD\, Nederland
CATEGORIES:Kerkdienst
END:VEVENT
BEGIN:VEVENT
DTSTART;TZID=Europe/Amsterdam:20211231T193000
DTEND;TZID=Europe/Amsterdam:20211231T203000
DTSTAMP:20260426T044131
CREATED:20211224T105338Z
LAST-MODIFIED:20211229T151025Z
UID:2846-1640979000-1640982600@ngk-hoogezand-sappemeer.nl
SUMMARY:Br. P. Braam - oudjaar
DESCRIPTION:Deze dienst is alleen on-line te volgen via kerkdienstmeebeleven\nof te beluisteren via  kerkomroep \n \nLiturgie\nBr. P. Braam\nVotum en groet\nPsalm 91\nGebed\nLezen Hebreeën 1: 1 – 2 : 4\nNLB 513\nPreek\nPsalm 90 medley\nGebed\nCollecte 1e kerk 2e Zending en Hulpverlening\nNLB 245: 1\, 3\nZegen \nU kunt uw bijdrage in de collecte overmaken via de Scipio-app of op NL 51 RABO 0329 1113 10 onder vermelding van “collecte on-line diensten”. De Commissie van Beheer zorgt dan voor de verdeling over de collectedoelen. \nKlik hier voor de liturgie met teksten\nEen goede dienst gewenst in verbondenheid
URL:https://ngk-hoogezand-sappemeer.nl/activiteit/br-p-braam-oudjaar-2/
LOCATION:Online Dienst
CATEGORIES:Kerkdienst
END:VEVENT
END:VCALENDAR