BEGIN:VCALENDAR
VERSION:2.0
PRODID:-//NGK Hoogezand-Sappemeer - ECPv6.3.7//NONSGML v1.0//EN
CALSCALE:GREGORIAN
METHOD:PUBLISH
X-WR-CALNAME:NGK Hoogezand-Sappemeer
X-ORIGINAL-URL:https://ngk-hoogezand-sappemeer.nl
X-WR-CALDESC:Evenementen voor NGK Hoogezand-Sappemeer
REFRESH-INTERVAL;VALUE=DURATION:PT1H
X-Robots-Tag:noindex
X-PUBLISHED-TTL:PT1H
BEGIN:VTIMEZONE
TZID:Europe/Amsterdam
BEGIN:DAYLIGHT
TZOFFSETFROM:+0100
TZOFFSETTO:+0200
TZNAME:CEST
DTSTART:20260329T010000
END:DAYLIGHT
BEGIN:STANDARD
TZOFFSETFROM:+0200
TZOFFSETTO:+0100
TZNAME:CET
DTSTART:20261025T010000
END:STANDARD
END:VTIMEZONE
BEGIN:VEVENT
DTSTART;TZID=Europe/Amsterdam:20260423T194500
DTEND;TZID=Europe/Amsterdam:20260423T214500
DTSTAMP:20260423T155510
CREATED:20260423T095804Z
LAST-MODIFIED:20260423T095852Z
UID:5881-1776973500-1776980700@ngk-hoogezand-sappemeer.nl
SUMMARY:Gemeentevergadering LHBTI
DESCRIPTION:Deze gemeentevergadering is alleen live te volgen via Kerkdienstgemist\n\nAGENDA \n19.45  Opening \n19.55   Toelichting op voorlopige besluiten \n20.10   Bespreking per besluit \n20.50  Pauze \n21.00   Afronding – vervolgstappen \n21.20   Rondvraag \n21.30   Afsluiting met gebed
URL:https://ngk-hoogezand-sappemeer.nl/activiteit/gemeentevergadering-lhbti/
LOCATION:De Ark\, Rembrandtlaan 194\, Hoogezand\, Groningen\, 9601 XD\, Nederland
END:VEVENT
END:VCALENDAR